PDS_VERSION_ID = PDS3
/* FILE DATA ELEMENTS */
RECORD_TYPE = STREAM
/* POINTERS TO DATA OBJECTS */
^COMPRESSED_FILE = "HD812_0000_P13.JP2"
/* IDENTIFICATION DATA ELEMENTS */
DATA_SET_ID = "MEX-M-HRSC-5-REFDR-MAPPROJECTED-V3.0"
DATA_SET_NAME = "MARS EXPRESS HRSC MAP PROJECTED REFDR V3.0"
DETECTOR_ID = MEX_HRSC_P1
EVENT_TYPE = "MARS-REGIONAL-MAPPING-Te-Im-Pf"
INSTRUMENT_HOST_ID = MEX
INSTRUMENT_HOST_NAME = "MARS EXPRESS"
INSTRUMENT_ID = HRSC
INSTRUMENT_NAME = "HIGH RESOLUTION STEREO CAMERA"
MISSION_NAME = "MARS EXPRESS"
MISSION_PHASE_NAME = ME_Phase_31
PROCESSING_LEVEL_ID = 3
PRODUCT_CREATION_TIME = 2016-10-29T17:34:02.000Z
PRODUCT_ID = "HD812_0000_P13.JP2"
RELEASE_ID = 0126
REVISION_ID = 0000
/* QUALITY DATA ELEMENTS */
DATA_QUALITY_ID = 1
DATA_QUALITY_DESC = "Data calculated based on original SPICE kernels"
/* TIME DATA ELEMENTS */
SPACECRAFT_CLOCK_START_COUNT = "1/0364415357.07335"
SPACECRAFT_CLOCK_STOP_COUNT = "1/0364415562.63792"
START_TIME = 2014-11-18T18:29:35.165Z
STOP_TIME = 2014-11-18T18:31:38.524Z
/* ORBITAL DATA ELEMENTS */
ASCENDING_NODE_LONGITUDE = 314.38
MAXIMUM_RESOLUTION = 32.1
FOOTPRINT_POINT_LATITUDE = (54.6282,54.6154,54.5969,54.5839, 54.5716,54.4105,54.1746,53.9387,53.7027 ,53.5453,53.3879,53.2306,53.0731, 52.9159,52.7586,52.6017,52.3661,52.1298 ,51.9722,51.8149,51.6578,51.5003, 51.2641,51.1067,50.9494,50.7926,50.6354 ,50.478,50.3209,50.1635,50.0062,49.6941 ,49.5369,49.3779,49.2208,49.0639, 48.8281,48.6707,48.5138,48.3566,48.1209 ,47.9617,47.8005,47.5586,47.317,47.1558 ,46.9948,46.834,46.6732,46.5831,46.592, 46.6061,46.6133,46.6173,46.6225,46.7839 ,47.0261,47.1877,47.3488,47.5912, 47.7529,47.9145,48.0765,48.2347,48.3919 ,48.549,48.7064,48.8641,49.1005,49.2593 ,49.4157,49.5734,49.8098,49.9676, 50.1253,50.283,50.4408,50.6769,50.835, 51.0719,51.3084,51.4661,51.6239,51.7817 ,52.0185,52.1764,52.3344,52.4922, 52.6502,52.8871,53.045,53.203,53.3613, 53.5946,53.8325,53.9934,54.1505,54.3084 ,54.4662,54.6282)
FOOTPRINT_POINT_LONGITUDE = (41.0955,40.6361,40.0676,39.7184, 39.4127,39.022,39.0496,39.0767,39.1032, 39.1205,39.1376,39.1545,39.171,39.1874, 39.2036,39.2198,39.2435,39.2663,39.2812 ,39.296,39.3107,39.325,39.3461,39.3598, 39.3735,39.3873,39.4006,39.4136,39.4265 ,39.4391,39.4515,39.4773,39.4892, 39.4998,39.5114,39.5229,39.5395,39.5503 ,39.5611,39.5716,39.5871,39.5973, 39.6075,39.6225,39.6372,39.6468,39.6562 ,39.6655,39.6748,40.118,40.4092,40.8668 ,41.158,41.45,41.8336,41.8265,41.8155, 41.8081,41.801,41.7896,41.7819,41.7742, 41.7661,41.7583,41.7508,41.7432,41.7354 ,41.7273,41.7151,41.7059,41.6985, 41.6901,41.6774,41.6687,41.6599,41.6512 ,41.6422,41.6292,41.6197,41.6057, 41.5917,41.5823,41.5727,41.5629,41.5481 ,41.5381,41.5279,41.5176,41.5072, 41.4914,41.4807,41.47,41.4587,41.4453, 41.4276,41.4136,41.4027,41.3911,41.3795 ,41.0955)
ORBIT_NUMBER = 13812
ORBITAL_ECCENTRICITY = 0.572
ORBITAL_INCLINATION = 86.91
ORBITAL_SEMIMAJOR_AXIS = 8781.8
PERIAPSIS_ALTITUDE = 381.47
PERIAPSIS_ARGUMENT_ANGLE = 117.42
PERIAPSIS_TIME = 2014-11-18T18:27:55.000Z
SPACECRAFT_ORIENTATION = (0.0,-1.0,0.0)
^MEX_ORIENTATION_DESC = "MEX_ORIENTATION_DESC.TXT"
SPACECRAFT_POINTING_MODE = NADIR
^MEX_POINTING_DESC = "MEX_POINTING_DESC.TXT"
RIGHT_ASCENSION = -1e+32
DECLINATION = -1e+32
OFFSET_ANGLE = -1e+32
SPACECRAFT_SOLAR_DISTANCE = 2.07226e+08
TARGET_NAME = MARS
/* CAMERA DATA ELEMENTS */
DETECTOR_TEMPERATURE = 17.9627
FOCAL_PLANE_TEMPERATURE = 9.3989
INST_CMPRS_NAME = "DISCRETE COSINE TRANSFORMATION (DCT)"
INST_CMPRS_RATIO = 9.72758
INST_CMPRS_QUALITY = 0
INST_CMPRS_QUANTZ_TBL_ID = 0
INSTRUMENT_TEMPERATURE = 11.8457
LENS_TEMPERATURE = 8.1755
MACROPIXEL_SIZE = 2
MISSING_FRAMES = 0
PIXEL_SUBSAMPLING_FLAG = N
SIGNAL_CHAIN_ID = 3
/* RADIOMETRIC DATA ELEMENTS */
BANDWIDTH = 174.0
CENTER_FILTER_WAVELENGTH = 675.0
RADIANCE_OFFSET = 1.94176
RADIANCE_SCALING_FACTOR = 0.0133029
REFLECTANCE_SCALING_FACTOR = 0.00030727
MEX:REFLECTANCE_OFFSET = 0.0448508
/* IMAGE OBJECT DEFINITIONS */
OBJECT = IMAGE
  INTERCHANGE_FORMAT = BINARY
  LINES = 19002
  LINE_SAMPLES = 4169
  SAMPLE_TYPE = UNSIGNED_INTEGER
  SAMPLE_BITS = 8
  BANDS = 1
  BAND_STORAGE_TYPE = BAND_SEQUENTIAL
  MAXIMUM = 255
  MEAN = 100.432
  MINIMUM = 1
  STANDARD_DEVIATION = 39.6352
END_OBJECT = IMAGE
/* MAP OBJECT DEFINITIONS */
OBJECT = IMAGE_MAP_PROJECTION
  ^DATA_SET_MAP_PROJECTION_CATALOG= "DSMAP.CAT"
  A_AXIS_RADIUS = 3396.0
  B_AXIS_RADIUS = 3396.0
  C_AXIS_RADIUS = 3396.0
  CENTER_LATITUDE = 0.0
  CENTER_LONGITUDE = 41.0
  COORDINATE_SYSTEM_NAME = PLANETOGRAPHIC
  COORDINATE_SYSTEM_TYPE = "BODY-FIXED ROTATING"
  EASTERNMOST_LONGITUDE = 41.8336
  FIRST_STANDARD_PARALLEL = "N/A"
  LINE_FIRST_PIXEL = 1
  LINE_LAST_PIXEL = 19002
  LINE_PROJECTION_OFFSET = 129404.75
  MAP_PROJECTION_ROTATION = 0.0
  MAP_PROJECTION_TYPE = SINUSOIDAL
  MAP_RESOLUTION = 2370.85521546667
  MAP_SCALE = 0.025
  MAXIMUM_LATITUDE = 54.6282
  MINIMUM_LATITUDE = 46.5831
  POSITIVE_LONGITUDE_DIRECTION = EAST
  REFERENCE_LATITUDE = "N/A"
  REFERENCE_LONGITUDE = "N/A"
  SAMPLE_FIRST_PIXEL = 1
  SAMPLE_LAST_PIXEL = 4169
  SAMPLE_PROJECTION_OFFSET = 2780.75
  SECOND_STANDARD_PARALLEL = "N/A"
  WESTERNMOST_LONGITUDE = 39.022
END_OBJECT = IMAGE_MAP_PROJECTION
/* The JPEG2000 image data file associated with this label. */
OBJECT = COMPRESSED_FILE
  FILE_NAME = "HD812_0000_P13.JP2"
  RECORD_TYPE = UNDEFINED
  FILE_RECORDS = UNK
  ENCODING_TYPE = "JP2"
  INTERCHANGE_FORMAT = BINARY
  UNCOMPRESSED_FILE_NAME = "HD812_0000_P13.IMG"
  REQUIRED_STORAGE_BYTES = "79244352"
  ^DESCRIPTION = "JP2INFO.TXT"
END_OBJECT = COMPRESSED_FILE
END
