PDS_VERSION_ID = PDS3
/* FILE DATA ELEMENTS */
RECORD_TYPE = STREAM
/* POINTERS TO DATA OBJECTS */
^COMPRESSED_FILE = "HD816_0000_ND3.JP2"
/* IDENTIFICATION DATA ELEMENTS */
DATA_SET_ID = "MEX-M-HRSC-5-REFDR-MAPPROJECTED-V3.0"
DATA_SET_NAME = "MARS EXPRESS HRSC MAP PROJECTED REFDR V3.0"
DETECTOR_ID = MEX_HRSC_NADIR
EVENT_TYPE = "MARS-REGIONAL-MAPPING-Pf-Mw-At"
INSTRUMENT_HOST_ID = MEX
INSTRUMENT_HOST_NAME = "MARS EXPRESS"
INSTRUMENT_ID = HRSC
INSTRUMENT_NAME = "HIGH RESOLUTION STEREO CAMERA"
MISSION_NAME = "MARS EXPRESS"
MISSION_PHASE_NAME = ME_Phase_31
PROCESSING_LEVEL_ID = 3
PRODUCT_CREATION_TIME = 2016-10-29T17:34:02.000Z
PRODUCT_ID = "HD816_0000_ND3.JP2"
RELEASE_ID = 0126
REVISION_ID = 0000
/* QUALITY DATA ELEMENTS */
DATA_QUALITY_ID = 1
DATA_QUALITY_DESC = "Data calculated based on original SPICE kernels"
/* TIME DATA ELEMENTS */
SPACECRAFT_CLOCK_START_COUNT = "1/0364516125.07323"
SPACECRAFT_CLOCK_STOP_COUNT = "1/0364516423.05449"
START_TIME = 2014-11-19T22:29:29.149Z
STOP_TIME = 2014-11-19T22:32:50.151Z
/* ORBITAL DATA ELEMENTS */
ASCENDING_NODE_LONGITUDE = 314.32
MAXIMUM_RESOLUTION = 17
FOOTPRINT_POINT_LATITUDE = (48.9811,48.9779,48.9737,48.9621, 48.9488,48.4937,48.0393,47.5855,47.2393 ,47.0072,46.7752,46.5435,46.3119, 46.0806,45.8453,45.6086,45.3721,45.1358 ,44.8998,44.6639,44.4231,44.182,43.9411 ,43.7006,43.4602,43.2157,42.9702, 42.7249,42.4799,42.2352,41.9851,41.7352 ,41.4857,41.2365,40.9838,40.7296, 40.4757,40.2221,39.9652,39.7067,39.4485 ,39.1907,38.7973,38.5348,38.2727,37.873 ,37.6064,37.3401,37.0691,36.6629, 36.6514,36.6533,36.654,36.6534,36.6517, 36.922,37.1939,37.5968,37.8642,38.2652, 38.528,38.7912,39.1859,39.4444,39.7032, 39.9624,40.2202,40.4744,40.729,40.9838, 41.2375,41.4874,41.7375,41.9879,42.3616 ,42.607,42.8528,43.0988,43.4673,43.7083 ,43.9494,44.1908,44.4325,44.6743, 44.9107,45.1473,45.3842,45.6212,45.8585 ,46.0947,46.3266,46.5588,46.7911, 47.0236,47.2563,47.6038,48.0586,48.5142 ,48.7423,48.9811)
FOOTPRINT_POINT_LONGITUDE = (353.889,353.532,353.179,352.483, 351.816,351.834,351.85,351.866,351.878, 351.885,351.892,351.898,351.905,351.911 ,351.917,351.923,351.929,351.934, 351.939,351.944,351.948,351.953,351.957 ,351.961,351.965,351.968,351.972, 351.975,351.978,351.98,351.983,351.985, 351.987,351.988,351.99,351.991,351.992, 351.993,351.994,351.994,351.994,351.994 ,351.994,351.993,351.993,351.991,351.99 ,351.988,351.986,351.983,352.57,352.935 ,353.349,353.743,354.117,354.314, 354.312,354.307,354.305,354.3,354.297, 354.294,354.29,354.287,354.283,354.28, 354.277,354.274,354.271,354.268,354.265 ,354.261,354.257,354.254,354.248, 354.245,354.241,354.237,354.231,354.228 ,354.223,354.219,354.215,354.211, 354.207,354.203,354.198,354.194,354.189 ,354.185,354.18,354.175,354.17,354.166, 354.161,354.153,354.143,354.133,354.127 ,353.889)
ORBIT_NUMBER = 13816
ORBITAL_ECCENTRICITY = 0.571
ORBITAL_INCLINATION = 86.92
ORBITAL_SEMIMAJOR_AXIS = 8777.38
PERIAPSIS_ALTITUDE = 381.78
PERIAPSIS_ARGUMENT_ANGLE = 116.71
PERIAPSIS_TIME = 2014-11-19T22:25:45.000Z
SPACECRAFT_ORIENTATION = (0.0,-1.0,0.0)
^MEX_ORIENTATION_DESC = "MEX_ORIENTATION_DESC.TXT"
SPACECRAFT_POINTING_MODE = ACROSSTRACK
^MEX_POINTING_DESC = "MEX_POINTING_DESC.TXT"
RIGHT_ASCENSION = -1e+32
DECLINATION = -1e+32
OFFSET_ANGLE = 0.808
SPACECRAFT_SOLAR_DISTANCE = 2.07169e+08
TARGET_NAME = MARS
/* CAMERA DATA ELEMENTS */
DETECTOR_TEMPERATURE = 18.5744
FOCAL_PLANE_TEMPERATURE = 8.3794
INST_CMPRS_NAME = "DISCRETE COSINE TRANSFORMATION (DCT)"
INST_CMPRS_RATIO = 7.81166
INST_CMPRS_QUALITY = 0
INST_CMPRS_QUANTZ_TBL_ID = 0
INSTRUMENT_TEMPERATURE = 11.6418
LENS_TEMPERATURE = 8.9911
MACROPIXEL_SIZE = 1
MISSING_FRAMES = 0
PIXEL_SUBSAMPLING_FLAG = N
SIGNAL_CHAIN_ID = 0
/* RADIOMETRIC DATA ELEMENTS */
BANDWIDTH = 177.0
CENTER_FILTER_WAVELENGTH = 677.5
RADIANCE_OFFSET = 2.04401
RADIANCE_SCALING_FACTOR = 0.0158979
REFLECTANCE_SCALING_FACTOR = 0.00036247
MEX:REFLECTANCE_OFFSET = 0.0466033
/* IMAGE OBJECT DEFINITIONS */
OBJECT = IMAGE
  INTERCHANGE_FORMAT = BINARY
  LINES = 58513
  LINE_SAMPLES = 9016
  SAMPLE_TYPE = UNSIGNED_INTEGER
  SAMPLE_BITS = 8
  BANDS = 1
  BAND_STORAGE_TYPE = BAND_SEQUENTIAL
  MAXIMUM = 255
  MEAN = 101.093
  MINIMUM = 1
  STANDARD_DEVIATION = 49.1246
END_OBJECT = IMAGE
/* MAP OBJECT DEFINITIONS */
OBJECT = IMAGE_MAP_PROJECTION
  ^DATA_SET_MAP_PROJECTION_CATALOG= "DSMAP.CAT"
  A_AXIS_RADIUS = 3396.0
  B_AXIS_RADIUS = 3396.0
  C_AXIS_RADIUS = 3396.0
  CENTER_LATITUDE = 0.0
  CENTER_LONGITUDE = 353.0
  COORDINATE_SYSTEM_NAME = PLANETOGRAPHIC
  COORDINATE_SYSTEM_TYPE = "BODY-FIXED ROTATING"
  EASTERNMOST_LONGITUDE = 354.314
  FIRST_STANDARD_PARALLEL = "N/A"
  LINE_FIRST_PIXEL = 1
  LINE_LAST_PIXEL = 58513
  LINE_PROJECTION_OFFSET = 232272.0
  MAP_PROJECTION_ROTATION = 0.0
  MAP_PROJECTION_TYPE = SINUSOIDAL
  MAP_RESOLUTION = 4741.71043093333
  MAP_SCALE = 0.0125
  MAXIMUM_LATITUDE = 48.9811
  MINIMUM_LATITUDE = 36.6514
  POSITIVE_LONGITUDE_DIRECTION = EAST
  REFERENCE_LATITUDE = "N/A"
  REFERENCE_LONGITUDE = "N/A"
  SAMPLE_FIRST_PIXEL = 1
  SAMPLE_LAST_PIXEL = 9016
  SAMPLE_PROJECTION_OFFSET = 3859.0
  SECOND_STANDARD_PARALLEL = "N/A"
  WESTERNMOST_LONGITUDE = 351.816
END_OBJECT = IMAGE_MAP_PROJECTION
/* The JPEG2000 image data file associated with this label. */
OBJECT = COMPRESSED_FILE
  FILE_NAME = "HD816_0000_ND3.JP2"
  RECORD_TYPE = UNDEFINED
  FILE_RECORDS = UNK
  ENCODING_TYPE = "JP2"
  INTERCHANGE_FORMAT = BINARY
  UNCOMPRESSED_FILE_NAME = "HD816_0000_ND3.IMG"
  REQUIRED_STORAGE_BYTES = "527589272"
  ^DESCRIPTION = "JP2INFO.TXT"
END_OBJECT = COMPRESSED_FILE
END
