PDS_VERSION_ID = PDS3
/* FILE DATA ELEMENTS */
RECORD_TYPE = STREAM
/* POINTERS TO DATA OBJECTS */
^COMPRESSED_FILE = "HD823_0000_RE3.JP2"
/* IDENTIFICATION DATA ELEMENTS */
DATA_SET_ID = "MEX-M-HRSC-5-REFDR-MAPPROJECTED-V3.0"
DATA_SET_NAME = "MARS EXPRESS HRSC MAP PROJECTED REFDR V3.0"
DETECTOR_ID = MEX_HRSC_RED
EVENT_TYPE = "MARS-CLOUD-VARIABLE-At"
INSTRUMENT_HOST_ID = MEX
INSTRUMENT_HOST_NAME = "MARS EXPRESS"
INSTRUMENT_ID = HRSC
INSTRUMENT_NAME = "HIGH RESOLUTION STEREO CAMERA"
MISSION_NAME = "MARS EXPRESS"
MISSION_PHASE_NAME = ME_Phase_31
PROCESSING_LEVEL_ID = 3
PRODUCT_CREATION_TIME = 2016-10-29T17:34:02.000Z
PRODUCT_ID = "HD823_0000_RE3.JP2"
RELEASE_ID = 0126
REVISION_ID = 0000
/* QUALITY DATA ELEMENTS */
DATA_QUALITY_ID = 1
DATA_QUALITY_DESC = "Data calculated based on original SPICE kernels"
/* TIME DATA ELEMENTS */
SPACECRAFT_CLOCK_START_COUNT = "1/0364692334.09062"
SPACECRAFT_CLOCK_STOP_COUNT = "1/0364692709.63419"
START_TIME = 2014-11-21T23:26:20.710Z
STOP_TIME = 2014-11-21T23:31:53.839Z
/* ORBITAL DATA ELEMENTS */
ASCENDING_NODE_LONGITUDE = 314.18
MAXIMUM_RESOLUTION = 73.7
FOOTPRINT_POINT_LATITUDE = (50.008,49.9988,49.9856,49.9681,49.5536 ,49.229,48.9007,48.5691,48.2382,47.9079 ,47.404,47.0678,46.7321,46.2207,45.8791 ,45.3649,45.0173,44.6706,44.32,43.9677, 43.6163,43.2592,42.7239,42.1811,41.8194 ,41.4519,41.0846,40.5274,40.156,39.778, 39.4007,39.0189,38.4435,38.0563,37.6653 ,37.2753,36.8789,36.2776,35.8767, 35.4709,35.0601,34.6485,34.2336,33.8141 ,33.3933,32.9704,32.5417,32.1122,31.677 ,31.4623,31.4536,31.4597,31.4567, 31.4489,31.6692,32.1053,32.537,32.9681, 33.3953,33.8182,34.2379,34.6531,35.0655 ,35.4773,35.8849,36.2872,36.69,37.0872, 37.4837,37.8767,38.4613,38.8479,39.2305 ,39.6109,39.99,40.3666,40.7402,41.2974, 41.8497,42.2128,42.7578,43.2951,43.6538 ,44.0062,44.3595,44.7108,45.0588, 45.4071,45.924,46.4375,46.7792,47.1162, 47.4536,47.9593,48.2906,48.6225,48.9552 ,49.4474,49.7739,50.008)
FOOTPRINT_POINT_LONGITUDE = (356.645,356.215,355.676,355.052, 354.725,354.747,354.768,354.789,354.809 ,354.829,354.857,354.875,354.892, 354.916,354.932,354.954,354.968,354.982 ,354.995,355.007,355.019,355.03,355.046 ,355.06,355.068,355.077,355.084,355.094 ,355.1,355.106,355.111,355.115,355.12, 355.123,355.126,355.127,355.128,355.129 ,355.128,355.127,355.126,355.124,355.12 ,355.117,355.113,355.107,355.101, 355.094,355.086,355.641,356.126,356.533 ,356.941,357.475,357.811,357.799, 357.787,357.776,357.766,357.755,357.743 ,357.731,357.719,357.708,357.696, 357.684,357.672,357.66,357.648,357.636, 357.617,357.605,357.592,357.579,357.566 ,357.553,357.539,357.519,357.498, 357.484,357.463,357.441,357.426,357.411 ,357.396,357.38,357.365,357.349,357.325 ,357.3,357.283,357.266,357.249,357.222, 357.204,357.186,357.167,357.139,357.12, 356.645)
ORBIT_NUMBER = 13823
ORBITAL_ECCENTRICITY = 0.571
ORBITAL_INCLINATION = 86.92
ORBITAL_SEMIMAJOR_AXIS = 8776.19
PERIAPSIS_ALTITUDE = 382.36
PERIAPSIS_ARGUMENT_ANGLE = 115.5
PERIAPSIS_TIME = 2014-11-21T23:22:02.000Z
SPACECRAFT_ORIENTATION = (0.0,-1.0,0.0)
^MEX_ORIENTATION_DESC = "MEX_ORIENTATION_DESC.TXT"
SPACECRAFT_POINTING_MODE = NADIR
^MEX_POINTING_DESC = "MEX_POINTING_DESC.TXT"
RIGHT_ASCENSION = -1e+32
DECLINATION = -1e+32
OFFSET_ANGLE = -1e+32
SPACECRAFT_SOLAR_DISTANCE = 2.07075e+08
TARGET_NAME = MARS
/* CAMERA DATA ELEMENTS */
DETECTOR_TEMPERATURE = 19.1861
FOCAL_PLANE_TEMPERATURE = 9.195
INST_CMPRS_NAME = "DISCRETE COSINE TRANSFORMATION (DCT)"
INST_CMPRS_RATIO = 23.3112
INST_CMPRS_QUALITY = 0
INST_CMPRS_QUANTZ_TBL_ID = 0
INSTRUMENT_TEMPERATURE = 12.0496
LENS_TEMPERATURE = 9.3989
MACROPIXEL_SIZE = 4
MISSING_FRAMES = 0
PIXEL_SUBSAMPLING_FLAG = N
SIGNAL_CHAIN_ID = 2
/* RADIOMETRIC DATA ELEMENTS */
BANDWIDTH = 48.0
CENTER_FILTER_WAVELENGTH = 748.0
RADIANCE_OFFSET = 0.598428
RADIANCE_SCALING_FACTOR = 0.006967
REFLECTANCE_SCALING_FACTOR = 0.000681753
MEX:REFLECTANCE_OFFSET = 0.058559
/* IMAGE OBJECT DEFINITIONS */
OBJECT = IMAGE
  INTERCHANGE_FORMAT = BINARY
  LINES = 22111
  LINE_SAMPLES = 2736
  SAMPLE_TYPE = UNSIGNED_INTEGER
  SAMPLE_BITS = 8
  BANDS = 1
  BAND_STORAGE_TYPE = BAND_SEQUENTIAL
  MAXIMUM = 255
  MEAN = 113.024
  MINIMUM = 1
  STANDARD_DEVIATION = 64.0474
END_OBJECT = IMAGE
/* MAP OBJECT DEFINITIONS */
OBJECT = IMAGE_MAP_PROJECTION
  ^DATA_SET_MAP_PROJECTION_CATALOG= "DSMAP.CAT"
  A_AXIS_RADIUS = 3396.0
  B_AXIS_RADIUS = 3396.0
  C_AXIS_RADIUS = 3396.0
  CENTER_LATITUDE = 0.0
  CENTER_LONGITUDE = 356.0
  COORDINATE_SYSTEM_NAME = PLANETOGRAPHIC
  COORDINATE_SYSTEM_TYPE = "BODY-FIXED ROTATING"
  EASTERNMOST_LONGITUDE = 357.811
  FIRST_STANDARD_PARALLEL = "N/A"
  LINE_FIRST_PIXEL = 1
  LINE_LAST_PIXEL = 22111
  LINE_PROJECTION_OFFSET = 59366.0
  MAP_PROJECTION_ROTATION = 0.0
  MAP_PROJECTION_TYPE = SINUSOIDAL
  MAP_RESOLUTION = 1185.42760773333
  MAP_SCALE = 0.05
  MAXIMUM_LATITUDE = 50.008
  MINIMUM_LATITUDE = 31.4489
  POSITIVE_LONGITUDE_DIRECTION = EAST
  REFERENCE_LATITUDE = "N/A"
  REFERENCE_LONGITUDE = "N/A"
  SAMPLE_FIRST_PIXEL = 1
  SAMPLE_LAST_PIXEL = 2736
  SAMPLE_PROJECTION_OFFSET = 972.0
  SECOND_STANDARD_PARALLEL = "N/A"
  WESTERNMOST_LONGITUDE = 354.725
END_OBJECT = IMAGE_MAP_PROJECTION
/* The JPEG2000 image data file associated with this label. */
OBJECT = COMPRESSED_FILE
  FILE_NAME = "HD823_0000_RE3.JP2"
  RECORD_TYPE = UNDEFINED
  FILE_RECORDS = UNK
  ENCODING_TYPE = "JP2"
  INTERCHANGE_FORMAT = BINARY
  UNCOMPRESSED_FILE_NAME = "HD823_0000_RE3.IMG"
  REQUIRED_STORAGE_BYTES = "60517584"
  ^DESCRIPTION = "JP2INFO.TXT"
END_OBJECT = COMPRESSED_FILE
END
