PDS_VERSION_ID = PDS3
/* FILE DATA ELEMENTS */
RECORD_TYPE = STREAM
/* POINTERS TO DATA OBJECTS */
^COMPRESSED_FILE = "HD832_0000_P13.JP2"
/* IDENTIFICATION DATA ELEMENTS */
DATA_SET_ID = "MEX-M-HRSC-5-REFDR-MAPPROJECTED-V3.0"
DATA_SET_NAME = "MARS EXPRESS HRSC MAP PROJECTED REFDR V3.0"
DETECTOR_ID = MEX_HRSC_P1
EVENT_TYPE = "MARS-REGIONAL-MAPPING-Te-Im-Pf"
INSTRUMENT_HOST_ID = MEX
INSTRUMENT_HOST_NAME = "MARS EXPRESS"
INSTRUMENT_ID = HRSC
INSTRUMENT_NAME = "HIGH RESOLUTION STEREO CAMERA"
MISSION_NAME = "MARS EXPRESS"
MISSION_PHASE_NAME = ME_Phase_31
PROCESSING_LEVEL_ID = 3
PRODUCT_CREATION_TIME = 2016-10-29T17:34:02.000Z
PRODUCT_ID = "HD832_0000_P13.JP2"
RELEASE_ID = 0126
REVISION_ID = 0000
/* QUALITY DATA ELEMENTS */
DATA_QUALITY_ID = 1
DATA_QUALITY_DESC = "Data calculated based on original SPICE kernels"
/* TIME DATA ELEMENTS */
SPACECRAFT_CLOCK_START_COUNT = "1/0364918758.09039"
SPACECRAFT_CLOCK_STOP_COUNT = "1/0364919008.00584"
START_TIME = 2014-11-24T14:19:36.818Z
STOP_TIME = 2014-11-24T14:22:14.491Z
/* ORBITAL DATA ELEMENTS */
ASCENDING_NODE_LONGITUDE = 314.01
MAXIMUM_RESOLUTION = 33.1
FOOTPRINT_POINT_LATITUDE = (55.4741,55.4488,55.422,55.3934,55.3631 ,55.331,55.2814,55.1034,54.9131,54.6275 ,54.4371,54.2467,53.9612,53.4856,53.295 ,53.0053,52.8099,52.5167,52.3213, 52.1259,51.9306,51.6377,51.4422,51.2468 ,51.0512,50.8523,50.652,50.4518,50.2516 ,50.0514,49.7511,49.4509,49.251,49.0479 ,48.8427,48.6378,48.433,48.228,48.0233, 47.8186,47.614,47.3007,47.0912,46.8818, 46.6723,46.463,46.1491,45.8288,45.6148, 45.4008,45.1869,45.2051,45.2329,45.2535 ,45.279,45.3014,45.3223,45.654,45.8689, 46.0839,46.2984,46.5082,46.7183,46.9284 ,47.1387,47.3489,47.5594,47.7689, 47.9744,48.1799,48.3856,48.6941,48.9, 49.1058,49.4132,49.7145,49.9155,50.1163 ,50.4179,50.619,50.8202,51.1219,51.3199 ,51.5163,51.8106,52.0069,52.2034, 52.3995,52.5958,52.8904,53.1852,53.3808 ,53.5721,53.7636,54.0506,54.2422, 54.5294,54.8165,55.1039,55.4741)
FOOTPRINT_POINT_LONGITUDE = (154.293,153.928,153.558,153.183, 152.804,152.42,151.859,151.721,151.756, 151.807,151.841,151.874,151.922,152.001 ,152.031,152.076,152.107,152.151,152.18 ,152.208,152.236,152.278,152.304, 152.331,152.356,152.383,152.409,152.434 ,152.459,152.484,152.52,152.555,152.578 ,152.601,152.624,152.646,152.668,152.69 ,152.711,152.732,152.752,152.783, 152.803,152.823,152.842,152.861,152.888 ,152.916,152.934,152.951,152.968, 153.389,153.759,154.055,154.439,154.796 ,155.149,155.285,155.269,155.252, 155.235,155.218,155.201,155.184,155.166 ,155.148,155.13,155.112,155.094,155.076 ,155.058,155.029,155.01,154.991,154.962 ,154.932,154.912,154.892,154.862, 154.841,154.82,154.788,154.766,154.745, 154.712,154.69,154.668,154.645,154.622, 154.587,154.551,154.527,154.503,154.479 ,154.442,154.417,154.379,154.34,154.301 ,154.293)
ORBIT_NUMBER = 13832
ORBITAL_ECCENTRICITY = 0.571
ORBITAL_INCLINATION = 86.91
ORBITAL_SEMIMAJOR_AXIS = 8774.62
PERIAPSIS_ALTITUDE = 383.66
PERIAPSIS_ARGUMENT_ANGLE = 113.97
PERIAPSIS_TIME = 2014-11-24T14:17:17.000Z
SPACECRAFT_ORIENTATION = (0.0,-1.0,0.0)
^MEX_ORIENTATION_DESC = "MEX_ORIENTATION_DESC.TXT"
SPACECRAFT_POINTING_MODE = ACROSSTRACK
^MEX_POINTING_DESC = "MEX_POINTING_DESC.TXT"
RIGHT_ASCENSION = -1e+32
DECLINATION = -1e+32
OFFSET_ANGLE = -1.2
SPACECRAFT_SOLAR_DISTANCE = 2.06967e+08
TARGET_NAME = MARS
/* CAMERA DATA ELEMENTS */
DETECTOR_TEMPERATURE = 18.7783
FOCAL_PLANE_TEMPERATURE = 8.3794
INST_CMPRS_NAME = "DISCRETE COSINE TRANSFORMATION (DCT)"
INST_CMPRS_RATIO = 10.6381
INST_CMPRS_QUALITY = 0
INST_CMPRS_QUANTZ_TBL_ID = 0
INSTRUMENT_TEMPERATURE = 11.6418
LENS_TEMPERATURE = 8.7872
MACROPIXEL_SIZE = 2
MISSING_FRAMES = 0
PIXEL_SUBSAMPLING_FLAG = N
SIGNAL_CHAIN_ID = 3
/* RADIOMETRIC DATA ELEMENTS */
BANDWIDTH = 174.0
CENTER_FILTER_WAVELENGTH = 675.0
RADIANCE_OFFSET = 2.11669
RADIANCE_SCALING_FACTOR = 0.0128662
REFLECTANCE_SCALING_FACTOR = 0.00029644
MEX:REFLECTANCE_OFFSET = 0.0487692
/* IMAGE OBJECT DEFINITIONS */
OBJECT = IMAGE
  INTERCHANGE_FORMAT = BINARY
  LINES = 24099
  LINE_SAMPLES = 5438
  SAMPLE_TYPE = UNSIGNED_INTEGER
  SAMPLE_BITS = 8
  BANDS = 1
  BAND_STORAGE_TYPE = BAND_SEQUENTIAL
  MAXIMUM = 255
  MEAN = 117.919
  MINIMUM = 1
  STANDARD_DEVIATION = 62.6113
END_OBJECT = IMAGE
/* MAP OBJECT DEFINITIONS */
OBJECT = IMAGE_MAP_PROJECTION
  ^DATA_SET_MAP_PROJECTION_CATALOG= "DSMAP.CAT"
  A_AXIS_RADIUS = 3396.0
  B_AXIS_RADIUS = 3396.0
  C_AXIS_RADIUS = 3396.0
  CENTER_LATITUDE = 0.0
  CENTER_LONGITUDE = 154.0
  COORDINATE_SYSTEM_NAME = PLANETOGRAPHIC
  COORDINATE_SYSTEM_TYPE = "BODY-FIXED ROTATING"
  EASTERNMOST_LONGITUDE = 155.285
  FIRST_STANDARD_PARALLEL = "N/A"
  LINE_FIRST_PIXEL = 1
  LINE_LAST_PIXEL = 24099
  LINE_PROJECTION_OFFSET = 131314.75
  MAP_PROJECTION_ROTATION = 0.0
  MAP_PROJECTION_TYPE = SINUSOIDAL
  MAP_RESOLUTION = 2370.85521546667
  MAP_SCALE = 0.025
  MAXIMUM_LATITUDE = 55.4741
  MINIMUM_LATITUDE = 45.1869
  POSITIVE_LONGITUDE_DIRECTION = EAST
  REFERENCE_LATITUDE = "N/A"
  REFERENCE_LONGITUDE = "N/A"
  SAMPLE_FIRST_PIXEL = 1
  SAMPLE_LAST_PIXEL = 5438
  SAMPLE_PROJECTION_OFFSET = 3159.75
  SECOND_STANDARD_PARALLEL = "N/A"
  WESTERNMOST_LONGITUDE = 151.721
END_OBJECT = IMAGE_MAP_PROJECTION
/* The JPEG2000 image data file associated with this label. */
OBJECT = COMPRESSED_FILE
  FILE_NAME = "HD832_0000_P13.JP2"
  RECORD_TYPE = UNDEFINED
  FILE_RECORDS = UNK
  ENCODING_TYPE = "JP2"
  INTERCHANGE_FORMAT = BINARY
  UNCOMPRESSED_FILE_NAME = "HD832_0000_P13.IMG"
  REQUIRED_STORAGE_BYTES = "131077552"
  ^DESCRIPTION = "JP2INFO.TXT"
END_OBJECT = COMPRESSED_FILE
END
