PDS_VERSION_ID = PDS3
/* FILE DATA ELEMENTS */
RECORD_TYPE = STREAM
/* POINTERS TO DATA OBJECTS */
^COMPRESSED_FILE = "HD836_0000_P13.JP2"
/* IDENTIFICATION DATA ELEMENTS */
DATA_SET_ID = "MEX-M-HRSC-5-REFDR-MAPPROJECTED-V3.0"
DATA_SET_NAME = "MARS EXPRESS HRSC MAP PROJECTED REFDR V3.0"
DETECTOR_ID = MEX_HRSC_P1
EVENT_TYPE = "MARS-REGIONAL-MAPPING-Fl-Pf"
INSTRUMENT_HOST_ID = MEX
INSTRUMENT_HOST_NAME = "MARS EXPRESS"
INSTRUMENT_ID = HRSC
INSTRUMENT_NAME = "HIGH RESOLUTION STEREO CAMERA"
MISSION_NAME = "MARS EXPRESS"
MISSION_PHASE_NAME = ME_Phase_31
PROCESSING_LEVEL_ID = 3
PRODUCT_CREATION_TIME = 2016-10-29T17:34:02.000Z
PRODUCT_ID = "HD836_0000_P13.JP2"
RELEASE_ID = 0126
REVISION_ID = 0000
/* QUALITY DATA ELEMENTS */
DATA_QUALITY_ID = 1
DATA_QUALITY_DESC = "Data calculated based on original SPICE kernels"
/* TIME DATA ELEMENTS */
SPACECRAFT_CLOCK_START_COUNT = "1/0365019554.09046"
SPACECRAFT_CLOCK_STOP_COUNT = "1/0365019914.46229"
START_TIME = 2014-11-25T18:19:33.815Z
STOP_TIME = 2014-11-25T18:23:27.808Z
/* ORBITAL DATA ELEMENTS */
ASCENDING_NODE_LONGITUDE = 313.94
MAXIMUM_RESOLUTION = 72.6
FOOTPRINT_POINT_LATITUDE = (48.0045,47.9725,47.9353,47.7062, 47.3199,47.0601,46.8003,46.5407,46.2813 ,46.0184,45.7531,45.4879,45.2228, 44.9578,44.6881,44.4171,44.1465,43.7407 ,43.4652,43.1891,42.9131,42.6373, 42.2164,41.935,41.6539,41.3697,41.0828, 40.796,40.5098,40.2173,39.9252,39.6337, 39.3384,39.0411,38.7444,38.4442,38.1418 ,37.8397,37.5341,37.2269,36.9198,36.452 ,36.1397,35.6647,35.3476,34.8655, 34.5433,34.0532,33.7264,33.2777,33.3034 ,33.3165,33.3361,33.3468,33.5218, 33.8542,34.1826,34.6734,34.9966,35.4797 ,35.798,36.2742,36.5871,36.9008,37.2099 ,37.5181,37.978,38.4328,38.7358,39.0335 ,39.3317,39.6302,39.9225,40.2153, 40.6545,40.9415,41.2291,41.66,42.0833, 42.3658,42.7872,43.0638,43.3407,43.6179 ,43.8932,44.1645,44.5718,44.8435, 45.1133,45.3791,45.6453,45.9114,46.3105 ,46.5708,46.8311,47.0917,47.3524, 47.6132,47.8694,48.0045)
FOOTPRINT_POINT_LONGITUDE = (106.554,105.89,105.217,104.57,104.601, 104.621,104.641,104.66,104.679,104.698, 104.716,104.734,104.751,104.768,104.784 ,104.8,104.816,104.838,104.853,104.868, 104.882,104.895,104.915,104.928,104.94, 104.952,104.963,104.974,104.985,104.995 ,105.005,105.015,105.024,105.033, 105.042,105.05,105.058,105.065,105.072, 105.079,105.085,105.093,105.099,105.106 ,105.11,105.116,105.119,105.123,105.125 ,105.128,105.756,106.126,106.792, 107.247,107.59,107.579,107.569,107.553, 107.543,107.527,107.516,107.499,107.487 ,107.476,107.464,107.452,107.434, 107.416,107.403,107.391,107.378,107.365 ,107.352,107.339,107.319,107.305, 107.291,107.27,107.249,107.234,107.212, 107.197,107.182,107.167,107.151,107.135 ,107.111,107.095,107.079,107.062, 107.045,107.028,107.002,106.985,106.967 ,106.949,106.931,106.912,106.894, 106.554)
ORBIT_NUMBER = 13836
ORBITAL_ECCENTRICITY = 0.571
ORBITAL_INCLINATION = 86.92
ORBITAL_SEMIMAJOR_AXIS = 8776.55
PERIAPSIS_ALTITUDE = 382.43
PERIAPSIS_ARGUMENT_ANGLE = 113.26
PERIAPSIS_TIME = 2014-11-25T18:15:06.000Z
SPACECRAFT_ORIENTATION = (0.0,-1.0,0.0)
^MEX_ORIENTATION_DESC = "MEX_ORIENTATION_DESC.TXT"
SPACECRAFT_POINTING_MODE = ACROSSTRACK
^MEX_POINTING_DESC = "MEX_POINTING_DESC.TXT"
RIGHT_ASCENSION = -1e+32
DECLINATION = -1e+32
OFFSET_ANGLE = -0.72
SPACECRAFT_SOLAR_DISTANCE = 2.06924e+08
TARGET_NAME = MARS
/* CAMERA DATA ELEMENTS */
DETECTOR_TEMPERATURE = 17.9627
FOCAL_PLANE_TEMPERATURE = 8.9911
INST_CMPRS_NAME = "DISCRETE COSINE TRANSFORMATION (DCT)"
INST_CMPRS_RATIO = 12.4673
INST_CMPRS_QUALITY = 0
INST_CMPRS_QUANTZ_TBL_ID = 0
INSTRUMENT_TEMPERATURE = 12.0496
LENS_TEMPERATURE = 9.195
MACROPIXEL_SIZE = 4
MISSING_FRAMES = 0
PIXEL_SUBSAMPLING_FLAG = N
SIGNAL_CHAIN_ID = 3
/* RADIOMETRIC DATA ELEMENTS */
BANDWIDTH = 174.0
CENTER_FILTER_WAVELENGTH = 675.0
RADIANCE_OFFSET = 3.98911
RADIANCE_SCALING_FACTOR = 0.0157479
REFLECTANCE_SCALING_FACTOR = 0.000362685
MEX:REFLECTANCE_OFFSET = 0.0918723
/* IMAGE OBJECT DEFINITIONS */
OBJECT = IMAGE
  INTERCHANGE_FORMAT = BINARY
  LINES = 17357
  LINE_SAMPLES = 2840
  SAMPLE_TYPE = UNSIGNED_INTEGER
  SAMPLE_BITS = 8
  BANDS = 1
  BAND_STORAGE_TYPE = BAND_SEQUENTIAL
  MAXIMUM = 255
  MEAN = 136.911
  MINIMUM = 1
  STANDARD_DEVIATION = 69.5475
END_OBJECT = IMAGE
/* MAP OBJECT DEFINITIONS */
OBJECT = IMAGE_MAP_PROJECTION
  ^DATA_SET_MAP_PROJECTION_CATALOG= "DSMAP.CAT"
  A_AXIS_RADIUS = 3396.0
  B_AXIS_RADIUS = 3396.0
  C_AXIS_RADIUS = 3396.0
  CENTER_LATITUDE = 0.0
  CENTER_LONGITUDE = 106.0
  COORDINATE_SYSTEM_NAME = PLANETOGRAPHIC
  COORDINATE_SYSTEM_TYPE = "BODY-FIXED ROTATING"
  EASTERNMOST_LONGITUDE = 107.59
  FIRST_STANDARD_PARALLEL = "N/A"
  LINE_FIRST_PIXEL = 1
  LINE_LAST_PIXEL = 17357
  LINE_PROJECTION_OFFSET = 56845.625
  MAP_PROJECTION_ROTATION = 0.0
  MAP_PROJECTION_TYPE = SINUSOIDAL
  MAP_RESOLUTION = 1185.42760773333
  MAP_SCALE = 0.05
  MAXIMUM_LATITUDE = 48.0045
  MINIMUM_LATITUDE = 33.2777
  POSITIVE_LONGITUDE_DIRECTION = EAST
  REFERENCE_LATITUDE = "N/A"
  REFERENCE_LONGITUDE = "N/A"
  SAMPLE_FIRST_PIXEL = 1
  SAMPLE_LAST_PIXEL = 2840
  SAMPLE_PROJECTION_OFFSET = 1195.875
  SECOND_STANDARD_PARALLEL = "N/A"
  WESTERNMOST_LONGITUDE = 104.57
END_OBJECT = IMAGE_MAP_PROJECTION
/* The JPEG2000 image data file associated with this label. */
OBJECT = COMPRESSED_FILE
  FILE_NAME = "HD836_0000_P13.JP2"
  RECORD_TYPE = UNDEFINED
  FILE_RECORDS = UNK
  ENCODING_TYPE = "JP2"
  INTERCHANGE_FORMAT = BINARY
  UNCOMPRESSED_FILE_NAME = "HD836_0000_P13.IMG"
  REQUIRED_STORAGE_BYTES = "49316600"
  ^DESCRIPTION = "JP2INFO.TXT"
END_OBJECT = COMPRESSED_FILE
END
