PDS_VERSION_ID = PDS3
/* FILE DATA ELEMENTS */
RECORD_TYPE = STREAM
/* POINTERS TO DATA OBJECTS */
^COMPRESSED_FILE = "HD837_0000_S13.JP2"
/* IDENTIFICATION DATA ELEMENTS */
DATA_SET_ID = "MEX-M-HRSC-5-REFDR-MAPPROJECTED-V3.0"
DATA_SET_NAME = "MARS EXPRESS HRSC MAP PROJECTED REFDR V3.0"
DETECTOR_ID = MEX_HRSC_S1
EVENT_TYPE = "MARS-REGIONAL-MAPPING-Im-Fl"
INSTRUMENT_HOST_ID = MEX
INSTRUMENT_HOST_NAME = "MARS EXPRESS"
INSTRUMENT_ID = HRSC
INSTRUMENT_NAME = "HIGH RESOLUTION STEREO CAMERA"
MISSION_NAME = "MARS EXPRESS"
MISSION_PHASE_NAME = ME_Phase_31
PROCESSING_LEVEL_ID = 3
PRODUCT_CREATION_TIME = 2016-10-29T17:34:02.000Z
PRODUCT_ID = "HD837_0000_S13.JP2"
RELEASE_ID = 0126
REVISION_ID = 0000
/* QUALITY DATA ELEMENTS */
DATA_QUALITY_ID = 1
DATA_QUALITY_DESC = "Data calculated based on original SPICE kernels"
/* TIME DATA ELEMENTS */
SPACECRAFT_CLOCK_START_COUNT = "1/0365044889.07317"
SPACECRAFT_CLOCK_STOP_COUNT = "1/0365045149.35245"
START_TIME = 2014-11-26T01:21:35.108Z
STOP_TIME = 2014-11-26T01:23:28.537Z
/* ORBITAL DATA ELEMENTS */
ASCENDING_NODE_LONGITUDE = 313.92
MAXIMUM_RESOLUTION = 44.9
FOOTPRINT_POINT_LATITUDE = (37.321,37.3283,37.3352,37.3417,37.3477 ,37.3533,37.3585,37.3632,37.3676, 37.3715,37.375,37.3781,37.3809,37.1222, 36.7219,36.3894,36.0522,35.8489,35.5777 ,35.441,35.3026,35.1634,34.9547,34.6823 ,34.5439,34.4019,34.1895,34.049,33.8414 ,33.628,33.414,33.2708,33.1285,32.9871, 32.8427,32.6977,32.5534,32.4086,32.2637 ,32.1166,31.9691,31.8224,31.6767,31.53, 31.3807,31.2312,31.0072,30.858,30.6313, 30.48,30.2265,30.2184,30.2137,30.2062, 30.1977,30.1777,30.1673,30.1631,30.1509 ,30.1429,30.2944,30.4446,30.5974, 30.7473,30.8949,31.116,31.2669,31.4919, 31.6388,31.7861,31.934,32.0819,32.2287, 32.3737,32.5916,32.8102,32.9555,33.0987 ,33.2418,33.3846,33.5253,33.6674, 33.8811,34.0926,34.3032,34.5112,34.6491 ,34.79,34.9995,35.1381,35.3456,35.6171, 35.7531,36.0231,36.1592,36.4963,36.7638 ,36.9644,37.2296,37.321)
FOOTPRINT_POINT_LONGITUDE = (7.1376,6.95413,6.77148,6.5896,6.40844, 6.22797,6.04833,5.86959,5.69155,5.51405 ,5.33713,5.16086,4.98521,4.97798, 4.97424,4.97077,4.96696,4.96451,4.96106 ,4.95927,4.9574,4.95547,4.95247,4.9483, 4.94613,4.94387,4.94038,4.938,4.93436, 4.93052,4.92656,4.92384,4.92109,4.9183, 4.9154,4.91244,4.90944,4.90638,4.90326, 4.90004,4.89676,4.89344,4.8901,4.88668, 4.88315,4.87955,4.87406,4.87033,4.86457 ,4.86066,4.90091,5.23685,5.45363, 5.74358,5.96232,6.25847,6.52915,6.74912 ,7.04604,7.37469,7.37441,7.37497, 7.37401,7.37486,7.37563,7.37707,7.37582 ,7.37434,7.37408,7.37367,7.37286, 7.37207,7.37156,7.371,7.37006,7.36879, 7.36797,7.36713,7.36634,7.36586,7.36682 ,7.36684,7.36454,7.36317,7.36254, 7.36345,7.36307,7.36051,7.35812,7.35726 ,7.35635,7.35516,7.3545,7.35459,7.35392 ,7.35033,7.34873,7.34762,7.34579, 7.1376)
ORBIT_NUMBER = 13837
ORBITAL_ECCENTRICITY = 0.571
ORBITAL_INCLINATION = 86.92
ORBITAL_SEMIMAJOR_AXIS = 8773.91
PERIAPSIS_ALTITUDE = 383.46
PERIAPSIS_ARGUMENT_ANGLE = 113.08
PERIAPSIS_TIME = 2014-11-26T01:14:32.000Z
SPACECRAFT_ORIENTATION = (0.0,-1.0,0.0)
^MEX_ORIENTATION_DESC = "MEX_ORIENTATION_DESC.TXT"
SPACECRAFT_POINTING_MODE = ACROSSTRACK
^MEX_POINTING_DESC = "MEX_POINTING_DESC.TXT"
RIGHT_ASCENSION = -1e+32
DECLINATION = -1e+32
OFFSET_ANGLE = 0.9
SPACECRAFT_SOLAR_DISTANCE = 2.06914e+08
TARGET_NAME = MARS
/* CAMERA DATA ELEMENTS */
DETECTOR_TEMPERATURE = 17.7588
FOCAL_PLANE_TEMPERATURE = 8.7872
INST_CMPRS_NAME = "DISCRETE COSINE TRANSFORMATION (DCT)"
INST_CMPRS_RATIO = 12.2947
INST_CMPRS_QUALITY = 0
INST_CMPRS_QUANTZ_TBL_ID = 0
INSTRUMENT_TEMPERATURE = 12.0496
LENS_TEMPERATURE = 9.195
MACROPIXEL_SIZE = 2
MISSING_FRAMES = 0
PIXEL_SUBSAMPLING_FLAG = N
SIGNAL_CHAIN_ID = 1
/* RADIOMETRIC DATA ELEMENTS */
BANDWIDTH = 180.0
CENTER_FILTER_WAVELENGTH = 677.0
RADIANCE_OFFSET = 6.1143
RADIANCE_SCALING_FACTOR = 0.0160512
REFLECTANCE_SCALING_FACTOR = 0.000358531
MEX:REFLECTANCE_OFFSET = 0.136574
/* IMAGE OBJECT DEFINITIONS */
OBJECT = IMAGE
  INTERCHANGE_FORMAT = BINARY
  LINES = 8443
  LINE_SAMPLES = 2850
  SAMPLE_TYPE = UNSIGNED_INTEGER
  SAMPLE_BITS = 8
  BANDS = 1
  BAND_STORAGE_TYPE = BAND_SEQUENTIAL
  MAXIMUM = 255
  MEAN = 89.87
  MINIMUM = 1
  STANDARD_DEVIATION = 30.0241
END_OBJECT = IMAGE
/* MAP OBJECT DEFINITIONS */
OBJECT = IMAGE_MAP_PROJECTION
  ^DATA_SET_MAP_PROJECTION_CATALOG= "DSMAP.CAT"
  A_AXIS_RADIUS = 3396.0
  B_AXIS_RADIUS = 3396.0
  C_AXIS_RADIUS = 3396.0
  CENTER_LATITUDE = 0.0
  CENTER_LONGITUDE = 6.0
  COORDINATE_SYSTEM_NAME = PLANETOGRAPHIC
  COORDINATE_SYSTEM_TYPE = "BODY-FIXED ROTATING"
  EASTERNMOST_LONGITUDE = 7.37707
  FIRST_STANDARD_PARALLEL = "N/A"
  LINE_FIRST_PIXEL = 1
  LINE_LAST_PIXEL = 8443
  LINE_PROJECTION_OFFSET = 44217.25
  MAP_PROJECTION_ROTATION = 0.0
  MAP_PROJECTION_TYPE = SINUSOIDAL
  MAP_RESOLUTION = 1185.42760773333
  MAP_SCALE = 0.05
  MAXIMUM_LATITUDE = 37.3809
  MINIMUM_LATITUDE = 30.1429
  POSITIVE_LONGITUDE_DIRECTION = EAST
  REFERENCE_LATITUDE = "N/A"
  REFERENCE_LONGITUDE = "N/A"
  SAMPLE_FIRST_PIXEL = 1
  SAMPLE_LAST_PIXEL = 2850
  SAMPLE_PROJECTION_OFFSET = 1303.75
  SECOND_STANDARD_PARALLEL = "N/A"
  WESTERNMOST_LONGITUDE = 4.86066
END_OBJECT = IMAGE_MAP_PROJECTION
/* The JPEG2000 image data file associated with this label. */
OBJECT = COMPRESSED_FILE
  FILE_NAME = "HD837_0000_S13.JP2"
  RECORD_TYPE = UNDEFINED
  FILE_RECORDS = UNK
  ENCODING_TYPE = "JP2"
  INTERCHANGE_FORMAT = BINARY
  UNCOMPRESSED_FILE_NAME = "HD837_0000_S13.IMG"
  REQUIRED_STORAGE_BYTES = "24085350"
  ^DESCRIPTION = "JP2INFO.TXT"
END_OBJECT = COMPRESSED_FILE
END
