PDS_VERSION_ID = PDS3
/* FILE DATA ELEMENTS */
RECORD_TYPE = STREAM
/* POINTERS TO DATA OBJECTS */
^COMPRESSED_FILE = "HD844_0000_RE3.JP2"
/* IDENTIFICATION DATA ELEMENTS */
DATA_SET_ID = "MEX-M-HRSC-5-REFDR-MAPPROJECTED-V3.0"
DATA_SET_NAME = "MARS EXPRESS HRSC MAP PROJECTED REFDR V3.0"
DETECTOR_ID = MEX_HRSC_RED
EVENT_TYPE = "MARS-REGIONAL-MAPPING-Te-Im-Pf"
INSTRUMENT_HOST_ID = MEX
INSTRUMENT_HOST_NAME = "MARS EXPRESS"
INSTRUMENT_ID = HRSC
INSTRUMENT_NAME = "HIGH RESOLUTION STEREO CAMERA"
MISSION_NAME = "MARS EXPRESS"
MISSION_PHASE_NAME = ME_Phase_31
PROCESSING_LEVEL_ID = 3
PRODUCT_CREATION_TIME = 2016-10-29T17:34:02.000Z
PRODUCT_ID = "HD844_0000_RE3.JP2"
RELEASE_ID = 0126
REVISION_ID = 0000
/* QUALITY DATA ELEMENTS */
DATA_QUALITY_ID = 1
DATA_QUALITY_DESC = "Data calculated based on original SPICE kernels"
/* TIME DATA ELEMENTS */
SPACECRAFT_CLOCK_START_COUNT = "1/0365220840.08251"
SPACECRAFT_CLOCK_STOP_COUNT = "1/0365221045.40478"
START_TIME = 2014-11-28T02:15:18.961Z
STOP_TIME = 2014-11-28T02:17:20.253Z
/* ORBITAL DATA ELEMENTS */
ASCENDING_NODE_LONGITUDE = 313.79
MAXIMUM_RESOLUTION = 74.8
FOOTPRINT_POINT_LATITUDE = (52.8558,52.8473,52.8354,52.8242,52.815 ,52.803,52.8777,52.6764,52.473,52.3372, 52.0668,51.797,51.5271,51.3898,51.2519, 51.1143,50.9767,50.8393,50.702,50.5647, 50.4277,50.2903,50.1501,50.0105,49.8705 ,49.7307,49.5913,49.3821,49.2432,49.102 ,48.9598,48.8179,48.6757,48.5343, 48.3933,48.252,48.037,47.8928,47.7486, 47.6046,47.4609,47.3175,47.1008,46.9546 ,46.8086,46.5897,46.444,46.2984,46.1505 ,46.0021,45.854,45.8109,45.8184,45.8246 ,45.8312,45.8396,45.8448,45.8499, 45.9282,46.0769,46.2261,46.3743,46.5205 ,46.7395,46.8862,47.0325,47.253,47.4691 ,47.6133,47.7576,47.9021,48.1188,48.334 ,48.4756,48.6174,48.7596,48.9022, 49.1156,49.258,49.3977,49.5377,49.6779, 49.888,50.0983,50.2387,50.4476,50.5849, 50.7224,50.8605,50.9982,51.1362,51.2748 ,51.413,51.6196,51.8903,52.1615,52.5012 ,52.6372,52.9081,52.8558)
FOOTPRINT_POINT_LONGITUDE = (9.57243,9.20022,8.73504,8.34009, 8.03833,7.66662,7.27305,7.29159,7.3099, 7.32209,7.34536,7.36794,7.39016,7.40119 ,7.41214,7.42284,7.4334,7.44381,7.454, 7.46415,7.47407,7.48401,7.49393,7.50342 ,7.51308,7.5225,7.53164,7.54526,7.55394 ,7.56275,7.57154,7.58006,7.58872, 7.59679,7.60459,7.61249,7.62457,7.63235 ,7.64008,7.64762,7.65494,7.66206, 7.67248,7.67943,7.68619,7.69615,7.70265 ,7.70905,7.71526,7.72151,7.72758, 7.92077,8.25837,8.54704,8.85964,9.317, 9.65419,10.0636,10.3092,10.3017,10.2943 ,10.2869,10.2794,10.2678,10.2602, 10.2522,10.2407,10.2291,10.2212,10.2133 ,10.2053,10.193,10.1809,10.1726,10.1643 ,10.156,10.1478,10.1349,10.1262,10.1178 ,10.1094,10.1009,10.0878,10.0745, 10.0656,10.0522,10.0431,10.034,10.0251, 10.0158,10.0065,9.99735,9.98782,9.97366 ,9.95466,9.93531,9.9106,9.90051,9.88013 ,9.57243)
ORBIT_NUMBER = 13844
ORBITAL_ECCENTRICITY = 0.571
ORBITAL_INCLINATION = 86.92
ORBITAL_SEMIMAJOR_AXIS = 8772.82
PERIAPSIS_ALTITUDE = 383.91
PERIAPSIS_ARGUMENT_ANGLE = 111.88
PERIAPSIS_TIME = 2014-11-28T02:10:47.000Z
SPACECRAFT_ORIENTATION = (0.0,-1.0,0.0)
^MEX_ORIENTATION_DESC = "MEX_ORIENTATION_DESC.TXT"
SPACECRAFT_POINTING_MODE = NADIR
^MEX_POINTING_DESC = "MEX_POINTING_DESC.TXT"
RIGHT_ASCENSION = -1e+32
DECLINATION = -1e+32
OFFSET_ANGLE = -1e+32
SPACECRAFT_SOLAR_DISTANCE = 2.06847e+08
TARGET_NAME = MARS
/* CAMERA DATA ELEMENTS */
DETECTOR_TEMPERATURE = 18.7783
FOCAL_PLANE_TEMPERATURE = 8.7872
INST_CMPRS_NAME = "DISCRETE COSINE TRANSFORMATION (DCT)"
INST_CMPRS_RATIO = 25.8381
INST_CMPRS_QUALITY = 0
INST_CMPRS_QUANTZ_TBL_ID = 0
INSTRUMENT_TEMPERATURE = 12.8652
LENS_TEMPERATURE = 9.195
MACROPIXEL_SIZE = 4
MISSING_FRAMES = 0
PIXEL_SUBSAMPLING_FLAG = N
SIGNAL_CHAIN_ID = 2
/* RADIOMETRIC DATA ELEMENTS */
BANDWIDTH = 48.0
CENTER_FILTER_WAVELENGTH = 748.0
RADIANCE_OFFSET = 0.702527
RADIANCE_SCALING_FACTOR = 0.0016736
REFLECTANCE_SCALING_FACTOR = 0.000163409
MEX:REFLECTANCE_OFFSET = 0.0685941
/* IMAGE OBJECT DEFINITIONS */
OBJECT = IMAGE
  INTERCHANGE_FORMAT = BINARY
  LINES = 8477
  LINE_SAMPLES = 2231
  SAMPLE_TYPE = UNSIGNED_INTEGER
  SAMPLE_BITS = 8
  BANDS = 1
  BAND_STORAGE_TYPE = BAND_SEQUENTIAL
  MAXIMUM = 255
  MEAN = 109.184
  MINIMUM = 1
  STANDARD_DEVIATION = 28.4195
END_OBJECT = IMAGE
/* MAP OBJECT DEFINITIONS */
OBJECT = IMAGE_MAP_PROJECTION
  ^DATA_SET_MAP_PROJECTION_CATALOG= "DSMAP.CAT"
  A_AXIS_RADIUS = 3396.0
  B_AXIS_RADIUS = 3396.0
  C_AXIS_RADIUS = 3396.0
  CENTER_LATITUDE = 0.0
  CENTER_LONGITUDE = 9.0
  COORDINATE_SYSTEM_NAME = PLANETOGRAPHIC
  COORDINATE_SYSTEM_TYPE = "BODY-FIXED ROTATING"
  EASTERNMOST_LONGITUDE = 10.3092
  FIRST_STANDARD_PARALLEL = "N/A"
  LINE_FIRST_PIXEL = 1
  LINE_LAST_PIXEL = 8477
  LINE_PROJECTION_OFFSET = 62743.125
  MAP_PROJECTION_ROTATION = 0.0
  MAP_PROJECTION_TYPE = SINUSOIDAL
  MAP_RESOLUTION = 1185.42760773333
  MAP_SCALE = 0.05
  MAXIMUM_LATITUDE = 52.9081
  MINIMUM_LATITUDE = 45.8109
  POSITIVE_LONGITUDE_DIRECTION = EAST
  REFERENCE_LATITUDE = "N/A"
  REFERENCE_LONGITUDE = "N/A"
  SAMPLE_FIRST_PIXEL = 1
  SAMPLE_LAST_PIXEL = 2231
  SAMPLE_PROJECTION_OFFSET = 1202.125
  SECOND_STANDARD_PARALLEL = "N/A"
  WESTERNMOST_LONGITUDE = 7.27305
END_OBJECT = IMAGE_MAP_PROJECTION
/* The JPEG2000 image data file associated with this label. */
OBJECT = COMPRESSED_FILE
  FILE_NAME = "HD844_0000_RE3.JP2"
  RECORD_TYPE = UNDEFINED
  FILE_RECORDS = UNK
  ENCODING_TYPE = "JP2"
  INTERCHANGE_FORMAT = BINARY
  UNCOMPRESSED_FILE_NAME = "HD844_0000_RE3.IMG"
  REQUIRED_STORAGE_BYTES = "18934497"
  ^DESCRIPTION = "JP2INFO.TXT"
END_OBJECT = COMPRESSED_FILE
END
