PDS_VERSION_ID = PDS3
/* FILE DATA ELEMENTS */
RECORD_TYPE = STREAM
/* POINTERS TO DATA OBJECTS */
^COMPRESSED_FILE = "HD844_0000_S23.JP2"
/* IDENTIFICATION DATA ELEMENTS */
DATA_SET_ID = "MEX-M-HRSC-5-REFDR-MAPPROJECTED-V3.0"
DATA_SET_NAME = "MARS EXPRESS HRSC MAP PROJECTED REFDR V3.0"
DETECTOR_ID = MEX_HRSC_S2
EVENT_TYPE = "MARS-REGIONAL-MAPPING-Te-Im-Pf"
INSTRUMENT_HOST_ID = MEX
INSTRUMENT_HOST_NAME = "MARS EXPRESS"
INSTRUMENT_ID = HRSC
INSTRUMENT_NAME = "HIGH RESOLUTION STEREO CAMERA"
MISSION_NAME = "MARS EXPRESS"
MISSION_PHASE_NAME = ME_Phase_31
PROCESSING_LEVEL_ID = 3
PRODUCT_CREATION_TIME = 2016-10-29T17:34:02.000Z
PRODUCT_ID = "HD844_0000_S23.JP2"
RELEASE_ID = 0126
REVISION_ID = 0000
/* QUALITY DATA ELEMENTS */
DATA_QUALITY_ID = 1
DATA_QUALITY_DESC = "Data calculated based on original SPICE kernels"
/* TIME DATA ELEMENTS */
SPACECRAFT_CLOCK_START_COUNT = "1/0365220840.08251"
SPACECRAFT_CLOCK_STOP_COUNT = "1/0365221045.40478"
START_TIME = 2014-11-28T02:15:26.481Z
STOP_TIME = 2014-11-28T02:17:29.538Z
/* ORBITAL DATA ELEMENTS */
ASCENDING_NODE_LONGITUDE = 313.79
MAXIMUM_RESOLUTION = 38.5
FOOTPRINT_POINT_LATITUDE = (52.8377,52.8281,52.8203,52.8092, 52.7973,52.781,52.5482,52.2777,52.0085, 51.8032,51.6656,51.5279,51.3905,51.2533 ,51.0475,50.9108,50.7041,50.4944, 50.3547,50.2151,50.0758,49.8674,49.7284 ,49.5874,49.4454,49.304,49.0918,48.9507 ,48.8095,48.5964,48.4528,48.3098,48.166 ,48.0228,47.8792,47.7361,47.518,47.3723 ,47.2269,47.0819,46.9368,46.7919, 46.6439,46.4964,46.3486,46.2015,45.9809 ,45.832,45.8156,45.8195,45.8234,45.8279 ,45.8332,45.8404,45.8437,45.8481, 45.8513,46.0777,46.2253,46.4472,46.5951 ,46.7437,46.891,47.0361,47.1824,47.4011 ,47.5477,47.767,47.9104,48.0541,48.198, 48.4137,48.5579,48.7735,48.9149,49.0564 ,49.2686,49.4107,49.5536,49.696,49.8363 ,49.9757,50.1154,50.2552,50.3951, 50.5348,50.6749,50.8846,51.0217,51.1594 ,51.366,51.5039,51.642,51.7799,51.9181, 52.1235,52.3265,52.5974,52.9364, 52.8377)
FOOTPRINT_POINT_LONGITUDE = (9.2847,8.89295,8.59925,8.20821,7.81704 ,7.32736,7.28578,7.30983,7.33267,7.3497 ,7.36094,7.37217,7.3831,7.39386,7.40983 ,7.42005,7.43545,7.45068,7.4607,7.4706, 7.48019,7.49419,7.50349,7.51273,7.5219, 7.53074,7.54386,7.55236,7.56084,7.57341 ,7.58146,7.58915,7.59718,7.60489, 7.61268,7.62022,7.63128,7.63854,7.64556 ,7.65232,7.6591,7.6657,7.67235,7.67875, 7.68524,7.69136,7.70042,7.70637,8.03792 ,8.24201,8.44567,8.67456,8.95419, 9.36149,9.59068,9.92175,10.202,10.3274, 10.3198,10.3082,10.3004,10.2926,10.2846 ,10.2766,10.2689,10.2568,10.2489, 10.2366,10.2285,10.2203,10.2121,10.1994 ,10.1909,10.1782,10.1698,10.1612,10.148 ,10.1393,10.1308,10.1219,10.1131, 10.1042,10.0953,10.0863,10.0772,10.0678 ,10.0585,10.0447,10.0353,10.0261, 10.0119,10.0024,9.99281,9.98297,9.97312 ,9.95836,9.94359,9.92348,9.89762, 9.2847)
ORBIT_NUMBER = 13844
ORBITAL_ECCENTRICITY = 0.571
ORBITAL_INCLINATION = 86.92
ORBITAL_SEMIMAJOR_AXIS = 8772.82
PERIAPSIS_ALTITUDE = 383.91
PERIAPSIS_ARGUMENT_ANGLE = 111.88
PERIAPSIS_TIME = 2014-11-28T02:10:47.000Z
SPACECRAFT_ORIENTATION = (0.0,-1.0,0.0)
^MEX_ORIENTATION_DESC = "MEX_ORIENTATION_DESC.TXT"
SPACECRAFT_POINTING_MODE = NADIR
^MEX_POINTING_DESC = "MEX_POINTING_DESC.TXT"
RIGHT_ASCENSION = -1e+32
DECLINATION = -1e+32
OFFSET_ANGLE = -1e+32
SPACECRAFT_SOLAR_DISTANCE = 2.06847e+08
TARGET_NAME = MARS
/* CAMERA DATA ELEMENTS */
DETECTOR_TEMPERATURE = 18.7783
FOCAL_PLANE_TEMPERATURE = 8.7872
INST_CMPRS_NAME = "DISCRETE COSINE TRANSFORMATION (DCT)"
INST_CMPRS_RATIO = 13.1143
INST_CMPRS_QUALITY = 0
INST_CMPRS_QUANTZ_TBL_ID = 0
INSTRUMENT_TEMPERATURE = 12.8652
LENS_TEMPERATURE = 9.195
MACROPIXEL_SIZE = 2
MISSING_FRAMES = 0
PIXEL_SUBSAMPLING_FLAG = N
SIGNAL_CHAIN_ID = 1
/* RADIOMETRIC DATA ELEMENTS */
BANDWIDTH = 178.0
CENTER_FILTER_WAVELENGTH = 679.0
RADIANCE_OFFSET = 2.91801
RADIANCE_SCALING_FACTOR = 0.00627528
REFLECTANCE_SCALING_FACTOR = 0.000142187
MEX:REFLECTANCE_OFFSET = 0.0661168
/* IMAGE OBJECT DEFINITIONS */
OBJECT = IMAGE
  INTERCHANGE_FORMAT = BINARY
  LINES = 16953
  LINE_SAMPLES = 4461
  SAMPLE_TYPE = UNSIGNED_INTEGER
  SAMPLE_BITS = 8
  BANDS = 1
  BAND_STORAGE_TYPE = BAND_SEQUENTIAL
  MAXIMUM = 255
  MEAN = 101.701
  MINIMUM = 1
  STANDARD_DEVIATION = 31.0278
END_OBJECT = IMAGE
/* MAP OBJECT DEFINITIONS */
OBJECT = IMAGE_MAP_PROJECTION
  ^DATA_SET_MAP_PROJECTION_CATALOG= "DSMAP.CAT"
  A_AXIS_RADIUS = 3396.0
  B_AXIS_RADIUS = 3396.0
  C_AXIS_RADIUS = 3396.0
  CENTER_LATITUDE = 0.0
  CENTER_LONGITUDE = 9.0
  COORDINATE_SYSTEM_NAME = PLANETOGRAPHIC
  COORDINATE_SYSTEM_TYPE = "BODY-FIXED ROTATING"
  EASTERNMOST_LONGITUDE = 10.3274
  FIRST_STANDARD_PARALLEL = "N/A"
  LINE_FIRST_PIXEL = 1
  LINE_LAST_PIXEL = 16953
  LINE_PROJECTION_OFFSET = 125486.75
  MAP_PROJECTION_ROTATION = 0.0
  MAP_PROJECTION_TYPE = SINUSOIDAL
  MAP_RESOLUTION = 2370.85521546667
  MAP_SCALE = 0.025
  MAXIMUM_LATITUDE = 52.9364
  MINIMUM_LATITUDE = 45.8156
  POSITIVE_LONGITUDE_DIRECTION = EAST
  REFERENCE_LATITUDE = "N/A"
  REFERENCE_LONGITUDE = "N/A"
  SAMPLE_FIRST_PIXEL = 1
  SAMPLE_LAST_PIXEL = 4461
  SAMPLE_PROJECTION_OFFSET = 2404.75
  SECOND_STANDARD_PARALLEL = "N/A"
  WESTERNMOST_LONGITUDE = 7.28578
END_OBJECT = IMAGE_MAP_PROJECTION
/* The JPEG2000 image data file associated with this label. */
OBJECT = COMPRESSED_FILE
  FILE_NAME = "HD844_0000_S23.JP2"
  RECORD_TYPE = UNDEFINED
  FILE_RECORDS = UNK
  ENCODING_TYPE = "JP2"
  INTERCHANGE_FORMAT = BINARY
  UNCOMPRESSED_FILE_NAME = "HD844_0000_S23.IMG"
  REQUIRED_STORAGE_BYTES = "75654099"
  ^DESCRIPTION = "JP2INFO.TXT"
END_OBJECT = COMPRESSED_FILE
END
