PDS_VERSION_ID = PDS3
/* FILE DATA ELEMENTS */
RECORD_TYPE = STREAM
/* POINTERS TO DATA OBJECTS */
^COMPRESSED_FILE = "HD865_0000_IR3.JP2"
/* IDENTIFICATION DATA ELEMENTS */
DATA_SET_ID = "MEX-M-HRSC-5-REFDR-MAPPROJECTED-V3.0"
DATA_SET_NAME = "MARS EXPRESS HRSC MAP PROJECTED REFDR V3.0"
DETECTOR_ID = MEX_HRSC_IR
EVENT_TYPE = "MARS-REGIONAL-MAPPING-Te-Im-Pf"
INSTRUMENT_HOST_ID = MEX
INSTRUMENT_HOST_NAME = "MARS EXPRESS"
INSTRUMENT_ID = HRSC
INSTRUMENT_NAME = "HIGH RESOLUTION STEREO CAMERA"
MISSION_NAME = "MARS EXPRESS"
MISSION_PHASE_NAME = ME_Phase_31
PROCESSING_LEVEL_ID = 3
PRODUCT_CREATION_TIME = 2016-10-29T17:34:02.000Z
PRODUCT_ID = "HD865_0000_IR3.JP2"
RELEASE_ID = 0126
REVISION_ID = 0000
/* QUALITY DATA ELEMENTS */
DATA_QUALITY_ID = 1
DATA_QUALITY_DESC = "Data calculated based on original SPICE kernels"
/* TIME DATA ELEMENTS */
SPACECRAFT_CLOCK_START_COUNT = "1/0365749400.08254"
SPACECRAFT_CLOCK_STOP_COUNT = "1/0365749628.46159"
START_TIME = 2014-12-04T05:03:32.872Z
STOP_TIME = 2014-12-04T05:05:36.731Z
/* ORBITAL DATA ELEMENTS */
ASCENDING_NODE_LONGITUDE = 313.39
MAXIMUM_RESOLUTION = 72.5
FOOTPRINT_POINT_LATITUDE = (54.3268,54.2992,54.2699,54.2388, 54.2058,54.1709,54.1268,53.8793,53.5835 ,53.3619,53.1395,52.9135,52.7618, 52.5347,52.3077,52.1564,51.8539,51.6271 ,51.4727,51.3178,51.1629,50.9303, 50.7753,50.6202,50.4657,50.3109,50.1542 ,49.9957,49.7587,49.6003,49.4425, 49.2837,49.1254,48.9676,48.8068,48.6447 ,48.4831,48.3213,48.1601,47.9987, 47.8374,47.6737,47.509,47.2619,47.0973, 46.8507,46.6017,46.4338,46.267,46.1934, 46.2124,46.2422,46.2634,46.2871,46.3207 ,46.342,46.4524,46.6205,46.7884,47.0377 ,47.2029,47.368,47.5336,47.6996,47.8649 ,48.0287,48.1909,48.4342,48.5972, 48.7585,48.9169,49.0813,49.2441,49.4814 ,49.6404,49.7987,49.9576,50.1959, 50.3549,50.5124,50.7457,50.9013,51.0567 ,51.2121,51.3677,51.5233,51.6791, 51.8348,51.9869,52.215,52.3669,52.519, 52.6713,52.8233,52.9755,53.1282,53.4303 ,53.7271,54.0989,54.3268)
FOOTPRINT_POINT_LONGITUDE = (20.3442,19.9726,19.5968,19.2168, 18.8328,18.4444,17.9768,17.8647,17.9122 ,17.9471,17.9805,18.0145,18.0367, 18.0701,18.1028,18.1242,18.1663,18.1972 ,18.2178,18.2383,18.2583,18.2875, 18.3066,18.3253,18.3444,18.363,18.3815, 18.3998,18.4275,18.4452,18.4631,18.4797 ,18.4965,18.5136,18.5313,18.5475,18.564 ,18.5798,18.5961,18.6118,18.6273, 18.6429,18.6584,18.6812,18.6962,18.7182 ,18.739,18.7535,18.7688,18.9722,19.193, 19.5575,19.8227,20.1563,20.6297,20.9571 ,21.329,21.3151,21.3009,21.2799,21.2658 ,21.2516,21.2372,21.2228,21.2081, 21.1932,21.1786,21.1563,21.1414,21.126, 21.1099,21.0947,21.0797,21.0562,21.0405 ,21.0244,21.0084,20.9839,20.9674, 20.9508,20.9261,20.9094,20.8925,20.8754 ,20.8581,20.8407,20.8231,20.8054, 20.7878,20.7612,20.7431,20.7249,20.7066 ,20.688,20.6692,20.6504,20.6124,20.574, 20.525,20.3442)
ORBIT_NUMBER = 13865
ORBITAL_ECCENTRICITY = 0.571
ORBITAL_INCLINATION = 86.91
ORBITAL_SEMIMAJOR_AXIS = 8769.71
PERIAPSIS_ALTITUDE = 385.1
PERIAPSIS_ARGUMENT_ANGLE = 108.27
PERIAPSIS_TIME = 2014-12-04T04:59:33.000Z
SPACECRAFT_ORIENTATION = (0.0,-1.0,0.0)
^MEX_ORIENTATION_DESC = "MEX_ORIENTATION_DESC.TXT"
SPACECRAFT_POINTING_MODE = ACROSSTRACK
^MEX_POINTING_DESC = "MEX_POINTING_DESC.TXT"
RIGHT_ASCENSION = -1e+32
DECLINATION = -1e+32
OFFSET_ANGLE = -1.2
SPACECRAFT_SOLAR_DISTANCE = 2.06698e+08
TARGET_NAME = MARS
/* CAMERA DATA ELEMENTS */
DETECTOR_TEMPERATURE = 18.1666
FOCAL_PLANE_TEMPERATURE = 9.6028
INST_CMPRS_NAME = "DISCRETE COSINE TRANSFORMATION (DCT)"
INST_CMPRS_RATIO = 6.56109
INST_CMPRS_QUALITY = 0
INST_CMPRS_QUANTZ_TBL_ID = 0
INSTRUMENT_TEMPERATURE = 12.4574
LENS_TEMPERATURE = 10.0106
MACROPIXEL_SIZE = 4
MISSING_FRAMES = 0
PIXEL_SUBSAMPLING_FLAG = N
SIGNAL_CHAIN_ID = 2
/* RADIOMETRIC DATA ELEMENTS */
BANDWIDTH = 81.0
CENTER_FILTER_WAVELENGTH = 955.5
RADIANCE_OFFSET = 0.669365
RADIANCE_SCALING_FACTOR = 0.00267142
REFLECTANCE_SCALING_FACTOR = 0.000246232
MEX:REFLECTANCE_OFFSET = 0.0616971
/* IMAGE OBJECT DEFINITIONS */
OBJECT = IMAGE
  INTERCHANGE_FORMAT = BINARY
  LINES = 9477
  LINE_SAMPLES = 2716
  SAMPLE_TYPE = UNSIGNED_INTEGER
  SAMPLE_BITS = 8
  BANDS = 1
  BAND_STORAGE_TYPE = BAND_SEQUENTIAL
  MAXIMUM = 255
  MEAN = 125.622
  MINIMUM = 1
  STANDARD_DEVIATION = 42.6343
END_OBJECT = IMAGE
/* MAP OBJECT DEFINITIONS */
OBJECT = IMAGE_MAP_PROJECTION
  ^DATA_SET_MAP_PROJECTION_CATALOG= "DSMAP.CAT"
  A_AXIS_RADIUS = 3396.0
  B_AXIS_RADIUS = 3396.0
  C_AXIS_RADIUS = 3396.0
  CENTER_LATITUDE = 0.0
  CENTER_LONGITUDE = 20.0
  COORDINATE_SYSTEM_NAME = PLANETOGRAPHIC
  COORDINATE_SYSTEM_TYPE = "BODY-FIXED ROTATING"
  EASTERNMOST_LONGITUDE = 21.329
  FIRST_STANDARD_PARALLEL = "N/A"
  LINE_FIRST_PIXEL = 1
  LINE_LAST_PIXEL = 9477
  LINE_PROJECTION_OFFSET = 64280.125
  MAP_PROJECTION_ROTATION = 0.0
  MAP_PROJECTION_TYPE = SINUSOIDAL
  MAP_RESOLUTION = 1185.42760773333
  MAP_SCALE = 0.05
  MAXIMUM_LATITUDE = 54.3268
  MINIMUM_LATITUDE = 46.1934
  POSITIVE_LONGITUDE_DIRECTION = EAST
  REFERENCE_LATITUDE = "N/A"
  REFERENCE_LONGITUDE = "N/A"
  SAMPLE_FIRST_PIXEL = 1
  SAMPLE_LAST_PIXEL = 2716
  SAMPLE_PROJECTION_OFFSET = 1557.375
  SECOND_STANDARD_PARALLEL = "N/A"
  WESTERNMOST_LONGITUDE = 17.8647
END_OBJECT = IMAGE_MAP_PROJECTION
/* The JPEG2000 image data file associated with this label. */
OBJECT = COMPRESSED_FILE
  FILE_NAME = "HD865_0000_IR3.JP2"
  RECORD_TYPE = UNDEFINED
  FILE_RECORDS = UNK
  ENCODING_TYPE = "JP2"
  INTERCHANGE_FORMAT = BINARY
  UNCOMPRESSED_FILE_NAME = "HD865_0000_IR3.IMG"
  REQUIRED_STORAGE_BYTES = "25761260"
  ^DESCRIPTION = "JP2INFO.TXT"
END_OBJECT = COMPRESSED_FILE
END
