PDS_VERSION_ID = PDS3
/* FILE DATA ELEMENTS */
RECORD_TYPE = STREAM
/* POINTERS TO DATA OBJECTS */
^COMPRESSED_FILE = "HD866_0000_P23.JP2"
/* IDENTIFICATION DATA ELEMENTS */
DATA_SET_ID = "MEX-M-HRSC-5-REFDR-MAPPROJECTED-V3.0"
DATA_SET_NAME = "MARS EXPRESS HRSC MAP PROJECTED REFDR V3.0"
DETECTOR_ID = MEX_HRSC_P2
EVENT_TYPE = "MARS-REGIONAL-STEREO-Te"
INSTRUMENT_HOST_ID = MEX
INSTRUMENT_HOST_NAME = "MARS EXPRESS"
INSTRUMENT_ID = HRSC
INSTRUMENT_NAME = "HIGH RESOLUTION STEREO CAMERA"
MISSION_NAME = "MARS EXPRESS"
MISSION_PHASE_NAME = ME_Phase_31
PROCESSING_LEVEL_ID = 3
PRODUCT_CREATION_TIME = 2016-10-29T17:34:02.000Z
PRODUCT_ID = "HD866_0000_P23.JP2"
RELEASE_ID = 0126
REVISION_ID = 0000
/* QUALITY DATA ELEMENTS */
DATA_QUALITY_ID = 1
DATA_QUALITY_DESC = "Data calculated based on original SPICE kernels"
/* TIME DATA ELEMENTS */
SPACECRAFT_CLOCK_START_COUNT = "1/0365774797.07283"
SPACECRAFT_CLOCK_STOP_COUNT = "1/0365775178.37227"
START_TIME = 2014-12-04T12:08:21.975Z
STOP_TIME = 2014-12-04T12:12:20.755Z
/* ORBITAL DATA ELEMENTS */
ASCENDING_NODE_LONGITUDE = 313.38
MAXIMUM_RESOLUTION = 51.8
FOOTPRINT_POINT_LATITUDE = (40.0747,40.0769,40.0779,40.078,40.0768 ,40.0745,39.8911,39.4703,38.9389, 38.4019,37.8603,37.6411,37.4221,37.0898 ,36.8683,36.6439,36.3076,35.9698, 35.6292,35.4017,35.1721,34.9417,34.7096 ,34.361,34.127,33.8918,33.6562,33.4178, 33.0602,32.8217,32.5809,32.3394,32.0973 ,31.8524,31.4841,31.1138,30.8662, 30.6169,30.366,29.9865,29.7326,29.4768, 29.2197,28.9616,28.7027,28.3624,28.3559 ,28.3497,28.3386,28.3317,28.3254, 28.3163,28.3097,28.3029,28.296,28.2891, 28.4126,28.6755,28.9368,29.1961,29.5847 ,29.8412,30.0968,30.351,30.6039,30.8561 ,31.1066,31.3555,31.6036,31.8508, 32.2192,32.4645,32.7066,32.9483,33.1893 ,33.4275,33.6667,33.904,34.1402,34.375, 34.725,34.9582,35.1891,35.4203,35.6495, 35.8787,36.1062,36.3319,36.6684,36.8929 ,37.2268,37.4503,37.6738,37.8943, 38.2193,38.653,38.9764,39.4032,39.8253, 40.0747)
FOOTPRINT_POINT_LONGITUDE = (279.547,279.106,278.662,278.215, 277.764,277.308,277.011,277.021,277.033 ,277.043,277.051,277.054,277.056, 277.061,277.064,277.067,277.071,277.072 ,277.073,277.074,277.075,277.076, 277.076,277.075,277.075,277.074,277.074 ,277.073,277.07,277.068,277.065,277.062 ,277.058,277.055,277.05,277.043,277.038 ,277.032,277.027,277.019,277.013, 277.007,277.001,276.995,276.987,276.978 ,277.322,277.631,278.143,278.448, 278.718,279.088,279.356,279.623,279.89, 280.155,280.461,280.452,280.442,280.433 ,280.419,280.409,280.399,280.39,280.38, 280.37,280.361,280.351,280.341,280.331, 280.316,280.306,280.296,280.286,280.275 ,280.265,280.255,280.244,280.234, 280.224,280.208,280.197,280.186,280.176 ,280.165,280.154,280.143,280.132, 280.116,280.104,280.088,280.076,280.065 ,280.054,280.036,280.013,279.995, 279.971,279.947,279.547)
ORBIT_NUMBER = 13866
ORBITAL_ECCENTRICITY = 0.571
ORBITAL_INCLINATION = 86.91
ORBITAL_SEMIMAJOR_AXIS = 8768.01
PERIAPSIS_ALTITUDE = 384.78
PERIAPSIS_ARGUMENT_ANGLE = 108.11
PERIAPSIS_TIME = 2014-12-04T11:59:07.000Z
SPACECRAFT_ORIENTATION = (0.0,-1.0,0.0)
^MEX_ORIENTATION_DESC = "MEX_ORIENTATION_DESC.TXT"
SPACECRAFT_POINTING_MODE = ACROSSTRACK
^MEX_POINTING_DESC = "MEX_POINTING_DESC.TXT"
RIGHT_ASCENSION = -1e+32
DECLINATION = -1e+32
OFFSET_ANGLE = -1.0
SPACECRAFT_SOLAR_DISTANCE = 2.06693e+08
TARGET_NAME = MARS
/* CAMERA DATA ELEMENTS */
DETECTOR_TEMPERATURE = 18.7783
FOCAL_PLANE_TEMPERATURE = 8.5833
INST_CMPRS_NAME = "DISCRETE COSINE TRANSFORMATION (DCT)"
INST_CMPRS_RATIO = 6.7195
INST_CMPRS_QUALITY = 0
INST_CMPRS_QUANTZ_TBL_ID = 0
INSTRUMENT_TEMPERATURE = 11.6418
LENS_TEMPERATURE = 8.7872
MACROPIXEL_SIZE = 2
MISSING_FRAMES = 0
PIXEL_SUBSAMPLING_FLAG = N
SIGNAL_CHAIN_ID = 3
/* RADIOMETRIC DATA ELEMENTS */
BANDWIDTH = 177.0
CENTER_FILTER_WAVELENGTH = 676.5
RADIANCE_OFFSET = 5.13062
RADIANCE_SCALING_FACTOR = 0.0215459
REFLECTANCE_SCALING_FACTOR = 0.000488063
MEX:REFLECTANCE_OFFSET = 0.11622
/* IMAGE OBJECT DEFINITIONS */
OBJECT = IMAGE
  INTERCHANGE_FORMAT = BINARY
  LINES = 14009
  LINE_SAMPLES = 3396
  SAMPLE_TYPE = UNSIGNED_INTEGER
  SAMPLE_BITS = 8
  BANDS = 1
  BAND_STORAGE_TYPE = BAND_SEQUENTIAL
  MAXIMUM = 255
  MEAN = 125.82
  MINIMUM = 1
  STANDARD_DEVIATION = 41.2495
END_OBJECT = IMAGE
/* MAP OBJECT DEFINITIONS */
OBJECT = IMAGE_MAP_PROJECTION
  ^DATA_SET_MAP_PROJECTION_CATALOG= "DSMAP.CAT"
  A_AXIS_RADIUS = 3396.0
  B_AXIS_RADIUS = 3396.0
  C_AXIS_RADIUS = 3396.0
  CENTER_LATITUDE = 0.0
  CENTER_LONGITUDE = 279.0
  COORDINATE_SYSTEM_NAME = PLANETOGRAPHIC
  COORDINATE_SYSTEM_TYPE = "BODY-FIXED ROTATING"
  EASTERNMOST_LONGITUDE = 280.461
  FIRST_STANDARD_PARALLEL = "N/A"
  LINE_FIRST_PIXEL = 1
  LINE_LAST_PIXEL = 14009
  LINE_PROJECTION_OFFSET = 47574.25
  MAP_PROJECTION_ROTATION = 0.0
  MAP_PROJECTION_TYPE = SINUSOIDAL
  MAP_RESOLUTION = 1185.42760773333
  MAP_SCALE = 0.05
  MAXIMUM_LATITUDE = 40.078
  MINIMUM_LATITUDE = 28.2891
  POSITIVE_LONGITUDE_DIRECTION = EAST
  REFERENCE_LATITUDE = "N/A"
  REFERENCE_LONGITUDE = "N/A"
  SAMPLE_FIRST_PIXEL = 1
  SAMPLE_LAST_PIXEL = 3396
  SAMPLE_PROJECTION_OFFSET = 2022.75
  SECOND_STANDARD_PARALLEL = "N/A"
  WESTERNMOST_LONGITUDE = 276.978
END_OBJECT = IMAGE_MAP_PROJECTION
/* The JPEG2000 image data file associated with this label. */
OBJECT = COMPRESSED_FILE
  FILE_NAME = "HD866_0000_P23.JP2"
  RECORD_TYPE = UNDEFINED
  FILE_RECORDS = UNK
  ENCODING_TYPE = "JP2"
  INTERCHANGE_FORMAT = BINARY
  UNCOMPRESSED_FILE_NAME = "HD866_0000_P23.IMG"
  REQUIRED_STORAGE_BYTES = "47598336"
  ^DESCRIPTION = "JP2INFO.TXT"
END_OBJECT = COMPRESSED_FILE
END
