PDS_VERSION_ID = PDS3
/* FILE DATA ELEMENTS */
RECORD_TYPE = STREAM
/* POINTERS TO DATA OBJECTS */
^COMPRESSED_FILE = "HD869_0000_S23.JP2"
/* IDENTIFICATION DATA ELEMENTS */
DATA_SET_ID = "MEX-M-HRSC-5-REFDR-MAPPROJECTED-V3.0"
DATA_SET_NAME = "MARS EXPRESS HRSC MAP PROJECTED REFDR V3.0"
DETECTOR_ID = MEX_HRSC_S2
EVENT_TYPE = "MARS-REGIONAL-MAPPING-Fl-Pf-At"
INSTRUMENT_HOST_ID = MEX
INSTRUMENT_HOST_NAME = "MARS EXPRESS"
INSTRUMENT_ID = HRSC
INSTRUMENT_NAME = "HIGH RESOLUTION STEREO CAMERA"
MISSION_NAME = "MARS EXPRESS"
MISSION_PHASE_NAME = ME_Phase_31
PROCESSING_LEVEL_ID = 3
PRODUCT_CREATION_TIME = 2016-10-29T17:34:02.000Z
PRODUCT_ID = "HD869_0000_S23.JP2"
RELEASE_ID = 0126
REVISION_ID = 0000
/* QUALITY DATA ELEMENTS */
DATA_QUALITY_ID = 1
DATA_QUALITY_DESC = "Data calculated based on original SPICE kernels"
/* TIME DATA ELEMENTS */
SPACECRAFT_CLOCK_START_COUNT = "1/0365850137.07328"
SPACECRAFT_CLOCK_STOP_COUNT = "1/0365850454.45372"
START_TIME = 2014-12-05T09:03:56.109Z
STOP_TIME = 2014-12-05T09:07:38.748Z
/* ORBITAL DATA ELEMENTS */
ASCENDING_NODE_LONGITUDE = 313.32
MAXIMUM_RESOLUTION = 43.8
FOOTPRINT_POINT_LATITUDE = (50.7944,50.7885,50.7816,50.7737, 50.7648,50.7547,50.7491,50.3233,49.8946 ,49.5707,49.3529,48.9188,48.6974, 48.4776,48.1482,47.8134,47.4793,47.2543 ,47.0287,46.8034,46.4616,46.2331, 46.0054,45.7743,45.5446,45.1953,44.9615 ,44.6103,44.3739,44.1385,43.8998, 43.5419,43.3006,42.9391,42.695,42.4518, 42.0832,41.8372,41.5888,41.3404,41.0898 ,40.8389,40.5863,40.3328,40.0777, 39.8222,39.5646,39.1125,39.1143,39.1152 ,39.1148,39.1145,39.1118,39.1109, 39.2408,39.4999,39.7598,40.0168,40.2741 ,40.5284,40.7831,41.0351,41.2879, 41.5375,41.9117,42.159,42.4064,42.6511, 43.0179,43.2599,43.5023,43.7427,43.9823 ,44.2212,44.4585,44.8143,45.049,45.4013 ,45.6325,45.8641,46.0958,46.3226, 46.5523,46.7828,47.0093,47.2353,47.4632 ,47.6868,47.9102,48.135,48.3567,48.5776 ,48.7984,49.0195,49.346,49.5643,49.8912 ,50.3215,50.6446,50.7944)
FOOTPRINT_POINT_LONGITUDE = (333.301,332.874,332.447,332.018, 331.589,331.158,330.781,330.814,330.845 ,330.868,330.882,330.911,330.925, 330.938,330.957,330.976,330.994,331.005 ,331.017,331.028,331.044,331.054, 331.064,331.073,331.081,331.095,331.104 ,331.116,331.124,331.131,331.138, 331.148,331.155,331.164,331.169,331.174 ,331.182,331.186,331.19,331.194,331.198 ,331.201,331.204,331.207,331.209, 331.211,331.212,331.336,331.764,332.435 ,332.86,333.193,333.678,333.981,334.348 ,334.337,334.325,334.313,334.301, 334.289,334.277,334.264,334.252,334.24, 334.221,334.209,334.196,334.183,334.164 ,334.151,334.138,334.125,334.112, 334.098,334.085,334.065,334.052,334.031 ,334.017,334.003,333.988,333.974,333.96 ,333.945,333.931,333.916,333.901, 333.887,333.872,333.856,333.841,333.826 ,333.81,333.795,333.771,333.755,333.731 ,333.698,333.673,333.301)
ORBIT_NUMBER = 13869
ORBITAL_ECCENTRICITY = 0.571
ORBITAL_INCLINATION = 86.93
ORBITAL_SEMIMAJOR_AXIS = 8766.42
PERIAPSIS_ALTITUDE = 384.89
PERIAPSIS_ARGUMENT_ANGLE = 107.58
PERIAPSIS_TIME = 2014-12-05T08:57:27.000Z
SPACECRAFT_ORIENTATION = (0.0,-1.0,0.0)
^MEX_ORIENTATION_DESC = "MEX_ORIENTATION_DESC.TXT"
SPACECRAFT_POINTING_MODE = ACROSSTRACK
^MEX_POINTING_DESC = "MEX_POINTING_DESC.TXT"
RIGHT_ASCENSION = -1e+32
DECLINATION = -1e+32
OFFSET_ANGLE = -0.269
SPACECRAFT_SOLAR_DISTANCE = 2.06679e+08
TARGET_NAME = MARS
/* CAMERA DATA ELEMENTS */
DETECTOR_TEMPERATURE = 18.7783
FOCAL_PLANE_TEMPERATURE = 8.3794
INST_CMPRS_NAME = "DISCRETE COSINE TRANSFORMATION (DCT)"
INST_CMPRS_RATIO = 12.0648
INST_CMPRS_QUALITY = 0
INST_CMPRS_QUANTZ_TBL_ID = 0
INSTRUMENT_TEMPERATURE = 11.4379
LENS_TEMPERATURE = 8.7872
MACROPIXEL_SIZE = 2
MISSING_FRAMES = 0
PIXEL_SUBSAMPLING_FLAG = N
SIGNAL_CHAIN_ID = 1
/* RADIOMETRIC DATA ELEMENTS */
BANDWIDTH = 178.0
CENTER_FILTER_WAVELENGTH = 679.0
RADIANCE_OFFSET = 2.28799
RADIANCE_SCALING_FACTOR = 0.014049
REFLECTANCE_SCALING_FACTOR = 0.000317813
MEX:REFLECTANCE_OFFSET = 0.0517581
/* IMAGE OBJECT DEFINITIONS */
OBJECT = IMAGE
  INTERCHANGE_FORMAT = BINARY
  LINES = 14023
  LINE_SAMPLES = 2678
  SAMPLE_TYPE = UNSIGNED_INTEGER
  SAMPLE_BITS = 8
  BANDS = 1
  BAND_STORAGE_TYPE = BAND_SEQUENTIAL
  MAXIMUM = 255
  MEAN = 135.602
  MINIMUM = 1
  STANDARD_DEVIATION = 60.7954
END_OBJECT = IMAGE
/* MAP OBJECT DEFINITIONS */
OBJECT = IMAGE_MAP_PROJECTION
  ^DATA_SET_MAP_PROJECTION_CATALOG= "DSMAP.CAT"
  A_AXIS_RADIUS = 3396.0
  B_AXIS_RADIUS = 3396.0
  C_AXIS_RADIUS = 3396.0
  CENTER_LATITUDE = 0.0
  CENTER_LONGITUDE = 333.0
  COORDINATE_SYSTEM_NAME = PLANETOGRAPHIC
  COORDINATE_SYSTEM_TYPE = "BODY-FIXED ROTATING"
  EASTERNMOST_LONGITUDE = 334.348
  FIRST_STANDARD_PARALLEL = "N/A"
  LINE_FIRST_PIXEL = 1
  LINE_LAST_PIXEL = 14023
  LINE_PROJECTION_OFFSET = 60338.75
  MAP_PROJECTION_ROTATION = 0.0
  MAP_PROJECTION_TYPE = SINUSOIDAL
  MAP_RESOLUTION = 1185.42760773333
  MAP_SCALE = 0.05
  MAXIMUM_LATITUDE = 50.7944
  MINIMUM_LATITUDE = 39.1109
  POSITIVE_LONGITUDE_DIRECTION = EAST
  REFERENCE_LATITUDE = "N/A"
  REFERENCE_LONGITUDE = "N/A"
  SAMPLE_FIRST_PIXEL = 1
  SAMPLE_LAST_PIXEL = 2678
  SAMPLE_PROJECTION_OFFSET = 1603.75
  SECOND_STANDARD_PARALLEL = "N/A"
  WESTERNMOST_LONGITUDE = 330.781
END_OBJECT = IMAGE_MAP_PROJECTION
/* The JPEG2000 image data file associated with this label. */
OBJECT = COMPRESSED_FILE
  FILE_NAME = "HD869_0000_S23.JP2"
  RECORD_TYPE = UNDEFINED
  FILE_RECORDS = UNK
  ENCODING_TYPE = "JP2"
  INTERCHANGE_FORMAT = BINARY
  UNCOMPRESSED_FILE_NAME = "HD869_0000_S23.IMG"
  REQUIRED_STORAGE_BYTES = "37575018"
  ^DESCRIPTION = "JP2INFO.TXT"
END_OBJECT = COMPRESSED_FILE
END
