PDS_VERSION_ID = PDS3
/* FILE DATA ELEMENTS */
RECORD_TYPE = STREAM
/* POINTERS TO DATA OBJECTS */
^COMPRESSED_FILE = "HD882_0000_S23.JP2"
/* IDENTIFICATION DATA ELEMENTS */
DATA_SET_ID = "MEX-M-HRSC-5-REFDR-MAPPROJECTED-V3.0"
DATA_SET_NAME = "MARS EXPRESS HRSC MAP PROJECTED REFDR V3.0"
DETECTOR_ID = MEX_HRSC_S2
EVENT_TYPE = "MARS-REGIONAL-MAPPING-Im-Pf"
INSTRUMENT_HOST_ID = MEX
INSTRUMENT_HOST_NAME = "MARS EXPRESS"
INSTRUMENT_ID = HRSC
INSTRUMENT_NAME = "HIGH RESOLUTION STEREO CAMERA"
MISSION_NAME = "MARS EXPRESS"
MISSION_PHASE_NAME = ME_Phase_31
PROCESSING_LEVEL_ID = 3
PRODUCT_CREATION_TIME = 2016-10-29T17:34:02.000Z
PRODUCT_ID = "HD882_0000_S23.JP2"
RELEASE_ID = 0126
REVISION_ID = 0000
/* QUALITY DATA ELEMENTS */
DATA_QUALITY_ID = 1
DATA_QUALITY_DESC = "Data calculated based on original SPICE kernels"
/* TIME DATA ELEMENTS */
SPACECRAFT_CLOCK_START_COUNT = "1/0366177400.08271"
SPACECRAFT_CLOCK_STOP_COUNT = "1/0366177666.35792"
START_TIME = 2014-12-09T03:58:31.548Z
STOP_TIME = 2014-12-09T04:01:10.620Z
/* ORBITAL DATA ELEMENTS */
ASCENDING_NODE_LONGITUDE = 313.07
MAXIMUM_RESOLUTION = 49
FOOTPRINT_POINT_LATITUDE = (48.1063,48.0996,48.0944,48.0865, 48.0776,48.0675,48.0613,48.1457,47.7676 ,47.4663,47.1606,46.8556,46.5466, 46.2381,46.0044,45.8482,45.6144,45.3773 ,45.2192,45.0617,44.8224,44.6628, 44.5041,44.2629,44.1018,43.9414,43.6972 ,43.535,43.2904,43.1262,42.8802,42.7147 ,42.5489,42.3836,42.217,42.0496,41.8825 ,41.714,41.5448,41.3766,41.2064,41.0357 ,40.8658,40.6942,40.437,40.2641,40.0326 ,40.0353,40.0383,40.0409,40.0425, 40.0445,40.0461,40.0473,40.048,40.0487, 40.0494,40.0491,40.1367,40.3108,40.4848 ,40.6574,40.8301,41.0019,41.1728, 41.4291,41.5986,41.8535,42.1059,42.2742 ,42.5242,42.6908,42.8573,43.0218, 43.1869,43.4343,43.5975,43.7611,43.9253 ,44.0869,44.249,44.4924,44.7324,44.8928 ,45.0535,45.2118,45.3697,45.5285,45.687 ,45.8436,46.0004,46.1572,46.3903, 46.6234,46.7788,47.01,47.3169,47.5471, 47.8503,48.1063)
FOOTPRINT_POINT_LONGITUDE = (84.9859,84.4715,84.1288,83.6721, 83.2159,82.7595,82.5023,82.13,82.1469, 82.1593,82.1715,82.1829,82.1941,82.2045 ,82.212,82.2168,82.2238,82.2306,82.235, 82.2391,82.2452,82.2491,82.2525,82.2578 ,82.2611,82.2642,82.2689,82.2715, 82.2755,82.278,82.2814,82.2836,82.2855, 82.2873,82.2888,82.2904,82.2919,82.2931 ,82.2944,82.2953,82.2961,82.297,82.2975 ,82.2977,82.298,82.298,82.2982,82.5199, 82.8384,83.0928,83.3152,83.5691,83.823, 84.0771,84.3314,84.6175,85.0309,85.3491 ,85.5798,85.5722,85.5649,85.5574, 85.5498,85.5424,85.5348,85.5232,85.5156 ,85.504,85.4927,85.4849,85.473,85.4651, 85.4571,85.4492,85.4413,85.4293,85.4213 ,85.4134,85.4054,85.3974,85.3894, 85.3772,85.365,85.3568,85.3484,85.3401, 85.3315,85.3231,85.3147,85.3062,85.2976 ,85.2889,85.2758,85.2629,85.2541, 85.2409,85.2231,85.2097,85.1917, 84.9859)
ORBIT_NUMBER = 13882
ORBITAL_ECCENTRICITY = 0.571
ORBITAL_INCLINATION = 86.93
ORBITAL_SEMIMAJOR_AXIS = 8767.12
PERIAPSIS_ALTITUDE = 384.56
PERIAPSIS_ARGUMENT_ANGLE = 105.33
PERIAPSIS_TIME = 2014-12-09T03:50:33.000Z
SPACECRAFT_ORIENTATION = (0.0,-1.0,0.0)
^MEX_ORIENTATION_DESC = "MEX_ORIENTATION_DESC.TXT"
SPACECRAFT_POINTING_MODE = NADIR
^MEX_POINTING_DESC = "MEX_POINTING_DESC.TXT"
RIGHT_ASCENSION = -1e+32
DECLINATION = -1e+32
OFFSET_ANGLE = -1e+32
SPACECRAFT_SOLAR_DISTANCE = 2.06638e+08
TARGET_NAME = MARS
/* CAMERA DATA ELEMENTS */
DETECTOR_TEMPERATURE = 19.5939
FOCAL_PLANE_TEMPERATURE = 11.0301
INST_CMPRS_NAME = "DISCRETE COSINE TRANSFORMATION (DCT)"
INST_CMPRS_RATIO = 13.7367
INST_CMPRS_QUALITY = 0
INST_CMPRS_QUANTZ_TBL_ID = 0
INSTRUMENT_TEMPERATURE = 13.0691
LENS_TEMPERATURE = 11.0301
MACROPIXEL_SIZE = 2
MISSING_FRAMES = 0
PIXEL_SUBSAMPLING_FLAG = N
SIGNAL_CHAIN_ID = 1
/* RADIOMETRIC DATA ELEMENTS */
BANDWIDTH = 178.0
CENTER_FILTER_WAVELENGTH = 679.0
RADIANCE_OFFSET = 3.53054
RADIANCE_SCALING_FACTOR = 0.0104108
REFLECTANCE_SCALING_FACTOR = 0.000235413
MEX:REFLECTANCE_OFFSET = 0.0798341
/* IMAGE OBJECT DEFINITIONS */
OBJECT = IMAGE
  INTERCHANGE_FORMAT = BINARY
  LINES = 9714
  LINE_SAMPLES = 2677
  SAMPLE_TYPE = UNSIGNED_INTEGER
  SAMPLE_BITS = 8
  BANDS = 1
  BAND_STORAGE_TYPE = BAND_SEQUENTIAL
  MAXIMUM = 254
  MEAN = 95.3318
  MINIMUM = 1
  STANDARD_DEVIATION = 41.1908
END_OBJECT = IMAGE
/* MAP OBJECT DEFINITIONS */
OBJECT = IMAGE_MAP_PROJECTION
  ^DATA_SET_MAP_PROJECTION_CATALOG= "DSMAP.CAT"
  A_AXIS_RADIUS = 3396.0
  B_AXIS_RADIUS = 3396.0
  C_AXIS_RADIUS = 3396.0
  CENTER_LATITUDE = 0.0
  CENTER_LONGITUDE = 84.0
  COORDINATE_SYSTEM_NAME = PLANETOGRAPHIC
  COORDINATE_SYSTEM_TYPE = "BODY-FIXED ROTATING"
  EASTERNMOST_LONGITUDE = 85.57980000000001
  FIRST_STANDARD_PARALLEL = "N/A"
  LINE_FIRST_PIXEL = 1
  LINE_LAST_PIXEL = 9714
  LINE_PROJECTION_OFFSET = 57127.75
  MAP_PROJECTION_ROTATION = 0.0
  MAP_PROJECTION_TYPE = SINUSOIDAL
  MAP_RESOLUTION = 1185.42760773333
  MAP_SCALE = 0.05
  MAXIMUM_LATITUDE = 48.1457
  MINIMUM_LATITUDE = 40.0326
  POSITIVE_LONGITUDE_DIRECTION = EAST
  REFERENCE_LATITUDE = "N/A"
  REFERENCE_LONGITUDE = "N/A"
  SAMPLE_FIRST_PIXEL = 1
  SAMPLE_LAST_PIXEL = 2677
  SAMPLE_PROJECTION_OFFSET = 1422.25
  SECOND_STANDARD_PARALLEL = "N/A"
  WESTERNMOST_LONGITUDE = 82.13
END_OBJECT = IMAGE_MAP_PROJECTION
/* The JPEG2000 image data file associated with this label. */
OBJECT = COMPRESSED_FILE
  FILE_NAME = "HD882_0000_S23.JP2"
  RECORD_TYPE = UNDEFINED
  FILE_RECORDS = UNK
  ENCODING_TYPE = "JP2"
  INTERCHANGE_FORMAT = BINARY
  UNCOMPRESSED_FILE_NAME = "HD882_0000_S23.IMG"
  REQUIRED_STORAGE_BYTES = "26025794"
  ^DESCRIPTION = "JP2INFO.TXT"
END_OBJECT = COMPRESSED_FILE
END
