PDS_VERSION_ID = PDS3
/* FILE DATA ELEMENTS */
RECORD_TYPE = STREAM
/* POINTERS TO DATA OBJECTS */
^COMPRESSED_FILE = "HD884_0000_P23.JP2"
/* IDENTIFICATION DATA ELEMENTS */
DATA_SET_ID = "MEX-M-HRSC-5-REFDR-MAPPROJECTED-V3.0"
DATA_SET_NAME = "MARS EXPRESS HRSC MAP PROJECTED REFDR V3.0"
DETECTOR_ID = MEX_HRSC_P2
EVENT_TYPE = "MARS-REGIONAL-MAPPING-Vo-Te"
INSTRUMENT_HOST_ID = MEX
INSTRUMENT_HOST_NAME = "MARS EXPRESS"
INSTRUMENT_ID = HRSC
INSTRUMENT_NAME = "HIGH RESOLUTION STEREO CAMERA"
MISSION_NAME = "MARS EXPRESS"
MISSION_PHASE_NAME = ME_Phase_31
PROCESSING_LEVEL_ID = 3
PRODUCT_CREATION_TIME = 2016-10-29T17:34:02.000Z
PRODUCT_ID = "HD884_0000_P23.JP2"
RELEASE_ID = 0126
REVISION_ID = 0000
/* QUALITY DATA ELEMENTS */
DATA_QUALITY_ID = 1
DATA_QUALITY_DESC = "Data calculated based on original SPICE kernels"
/* TIME DATA ELEMENTS */
SPACECRAFT_CLOCK_START_COUNT = "1/0366227861.07287"
SPACECRAFT_CLOCK_STOP_COUNT = "1/0366228280.31348"
START_TIME = 2014-12-09T17:59:34.406Z
STOP_TIME = 2014-12-09T18:03:55.467Z
/* ORBITAL DATA ELEMENTS */
ASCENDING_NODE_LONGITUDE = 313.04
MAXIMUM_RESOLUTION = 55.6
FOOTPRINT_POINT_LATITUDE = (40.3519,40.3529,40.3528,40.3513, 40.3487,40.3446,40.3639,39.8121,39.4795 ,39.144,38.6942,38.24,37.7822,37.5523, 37.3198,36.97,36.7366,36.5011,36.1455, 35.9079,35.6685,35.3077,35.0662,34.8229 ,34.5787,34.3332,34.0862,33.8389, 33.5902,33.3401,33.0892,32.8367,32.5824 ,32.3274,32.072,31.8144,31.5556,31.2958 ,31.0346,30.7722,30.5083,30.2431, 29.9767,29.709,29.44,29.1695,28.8974, 28.6262,28.356,28.0871,28.0313,28.0267, 28.021,28.0099,27.9986,27.9921,27.9854, 27.9726,27.9631,27.9523,28.2236,28.4962 ,28.9074,29.1814,29.4541,29.7259, 29.9956,30.2638,30.5307,30.9292,31.1925 ,31.455,31.7163,31.9761,32.2346,32.4918 ,32.7479,33.0018,33.3809,33.7575, 34.0063,34.2561,34.5033,34.8719,35.2373 ,35.4804,35.7211,36.0805,36.3189, 36.5559,36.9093,37.1444,37.3773,37.7255 ,38.1865,38.7568,39.2087,39.6563, 40.1008,40.3519)
FOOTPRINT_POINT_LONGITUDE = (240.01,239.564,239.086,238.607,238.126 ,237.642,237.153,237.161,237.164, 237.167,237.169,237.171,237.172,237.172 ,237.172,237.171,237.17,237.169,237.167 ,237.165,237.163,237.159,237.157, 237.153,237.15,237.147,237.143,237.139, 237.134,237.129,237.124,237.118,237.113 ,237.107,237.1,237.094,237.086,237.079, 237.072,237.063,237.055,237.046,237.037 ,237.028,237.018,237.008,236.998, 236.987,236.976,236.965,237.261,237.522 ,237.82,238.375,238.891,239.186,239.48, 239.993,240.359,240.774,240.765,240.757 ,240.743,240.734,240.725,240.717, 240.707,240.698,240.689,240.676,240.666 ,240.657,240.648,240.639,240.63,240.62, 240.611,240.601,240.587,240.573,240.563 ,240.554,240.544,240.529,240.515, 240.505,240.495,240.48,240.47,240.459, 240.444,240.434,240.423,240.408,240.387 ,240.36,240.338,240.317,240.295,240.01)
ORBIT_NUMBER = 13884
ORBITAL_ECCENTRICITY = 0.571
ORBITAL_INCLINATION = 86.93
ORBITAL_SEMIMAJOR_AXIS = 8763.66
PERIAPSIS_ALTITUDE = 384.78
PERIAPSIS_ARGUMENT_ANGLE = 104.98
PERIAPSIS_TIME = 2014-12-09T17:49:25.000Z
SPACECRAFT_ORIENTATION = (0.0,-1.0,0.0)
^MEX_ORIENTATION_DESC = "MEX_ORIENTATION_DESC.TXT"
SPACECRAFT_POINTING_MODE = ACROSSTRACK
^MEX_POINTING_DESC = "MEX_POINTING_DESC.TXT"
RIGHT_ASCENSION = -1e+32
DECLINATION = -1e+32
OFFSET_ANGLE = -0.539
SPACECRAFT_SOLAR_DISTANCE = 2.06634e+08
TARGET_NAME = MARS
/* CAMERA DATA ELEMENTS */
DETECTOR_TEMPERATURE = 19.5939
FOCAL_PLANE_TEMPERATURE = 10.0106
INST_CMPRS_NAME = "DISCRETE COSINE TRANSFORMATION (DCT)"
INST_CMPRS_RATIO = 6.87009
INST_CMPRS_QUALITY = 0
INST_CMPRS_QUANTZ_TBL_ID = 0
INSTRUMENT_TEMPERATURE = 12.4574
LENS_TEMPERATURE = 10.2145
MACROPIXEL_SIZE = 2
MISSING_FRAMES = 0
PIXEL_SUBSAMPLING_FLAG = N
SIGNAL_CHAIN_ID = 3
/* RADIOMETRIC DATA ELEMENTS */
BANDWIDTH = 177.0
CENTER_FILTER_WAVELENGTH = 676.5
RADIANCE_OFFSET = 4.59593
RADIANCE_SCALING_FACTOR = 0.0218331
REFLECTANCE_SCALING_FACTOR = 0.000494282
MEX:REFLECTANCE_OFFSET = 0.104048
/* IMAGE OBJECT DEFINITIONS */
OBJECT = IMAGE
  INTERCHANGE_FORMAT = BINARY
  LINES = 14707
  LINE_SAMPLES = 3680
  SAMPLE_TYPE = UNSIGNED_INTEGER
  SAMPLE_BITS = 8
  BANDS = 1
  BAND_STORAGE_TYPE = BAND_SEQUENTIAL
  MAXIMUM = 255
  MEAN = 156.334
  MINIMUM = 1
  STANDARD_DEVIATION = 45.1893
END_OBJECT = IMAGE
/* MAP OBJECT DEFINITIONS */
OBJECT = IMAGE_MAP_PROJECTION
  ^DATA_SET_MAP_PROJECTION_CATALOG= "DSMAP.CAT"
  A_AXIS_RADIUS = 3396.0
  B_AXIS_RADIUS = 3396.0
  C_AXIS_RADIUS = 3396.0
  CENTER_LATITUDE = 0.0
  CENTER_LONGITUDE = 239.0
  COORDINATE_SYSTEM_NAME = PLANETOGRAPHIC
  COORDINATE_SYSTEM_TYPE = "BODY-FIXED ROTATING"
  EASTERNMOST_LONGITUDE = 240.774
  FIRST_STANDARD_PARALLEL = "N/A"
  LINE_FIRST_PIXEL = 1
  LINE_LAST_PIXEL = 14707
  LINE_PROJECTION_OFFSET = 47891.25
  MAP_PROJECTION_ROTATION = 0.0
  MAP_PROJECTION_TYPE = SINUSOIDAL
  MAP_RESOLUTION = 1185.42760773333
  MAP_SCALE = 0.05
  MAXIMUM_LATITUDE = 40.3639
  MINIMUM_LATITUDE = 27.9523
  POSITIVE_LONGITUDE_DIRECTION = EAST
  REFERENCE_LATITUDE = "N/A"
  REFERENCE_LONGITUDE = "N/A"
  SAMPLE_FIRST_PIXEL = 1
  SAMPLE_LAST_PIXEL = 3680
  SAMPLE_PROJECTION_OFFSET = 1994.25
  SECOND_STANDARD_PARALLEL = "N/A"
  WESTERNMOST_LONGITUDE = 236.965
END_OBJECT = IMAGE_MAP_PROJECTION
/* The JPEG2000 image data file associated with this label. */
OBJECT = COMPRESSED_FILE
  FILE_NAME = "HD884_0000_P23.JP2"
  RECORD_TYPE = UNDEFINED
  FILE_RECORDS = UNK
  ENCODING_TYPE = "JP2"
  INTERCHANGE_FORMAT = BINARY
  UNCOMPRESSED_FILE_NAME = "HD884_0000_P23.IMG"
  REQUIRED_STORAGE_BYTES = "54143840"
  ^DESCRIPTION = "JP2INFO.TXT"
END_OBJECT = COMPRESSED_FILE
END
