PDS_VERSION_ID = PDS3
/* FILE DATA ELEMENTS */
RECORD_TYPE = STREAM
/* POINTERS TO DATA OBJECTS */
^COMPRESSED_FILE = "HD888_0000_P23.JP2"
/* IDENTIFICATION DATA ELEMENTS */
DATA_SET_ID = "MEX-M-HRSC-5-REFDR-MAPPROJECTED-V3.0"
DATA_SET_NAME = "MARS EXPRESS HRSC MAP PROJECTED REFDR V3.0"
DETECTOR_ID = MEX_HRSC_P2
EVENT_TYPE = "MARS-REGIONAL-MAPPING-Te-Im-Pf"
INSTRUMENT_HOST_ID = MEX
INSTRUMENT_HOST_NAME = "MARS EXPRESS"
INSTRUMENT_ID = HRSC
INSTRUMENT_NAME = "HIGH RESOLUTION STEREO CAMERA"
MISSION_NAME = "MARS EXPRESS"
MISSION_PHASE_NAME = ME_Phase_31
PROCESSING_LEVEL_ID = 3
PRODUCT_CREATION_TIME = 2016-10-29T17:34:02.000Z
PRODUCT_ID = "HD888_0000_P23.JP2"
RELEASE_ID = 0126
REVISION_ID = 0000
/* QUALITY DATA ELEMENTS */
DATA_QUALITY_ID = 1
DATA_QUALITY_DESC = "Data calculated based on original SPICE kernels"
/* TIME DATA ELEMENTS */
SPACECRAFT_CLOCK_START_COUNT = "1/0366328331.08445"
SPACECRAFT_CLOCK_STOP_COUNT = "1/0366328591.56437"
START_TIME = 2014-12-10T21:53:34.039Z
STOP_TIME = 2014-12-10T21:56:11.297Z
/* ORBITAL DATA ELEMENTS */
ASCENDING_NODE_LONGITUDE = 312.96
MAXIMUM_RESOLUTION = 41.6
FOOTPRINT_POINT_LATITUDE = (53.8506,53.8439,53.8357,53.826,53.8147 ,53.8019,53.8551,53.3725,52.8813, 52.5549,52.224,51.8098,51.5601,51.3916, 51.2234,51.0554,50.8877,50.7178,50.5472 ,50.3768,50.2064,49.9495,49.6906, 49.5179,49.3456,49.171,48.996,48.8211, 48.6468,48.3817,48.2046,48.0277,47.8504 ,47.6711,47.4023,47.2237,47.0422, 46.7702,46.5892,46.4058,46.1307,45.9476 ,45.7619,45.5763,45.391,45.2042,45.1456 ,45.1491,45.1521,45.1547,45.1569, 45.1588,45.1604,45.1616,45.1623,45.1627 ,45.1627,45.1624,45.3513,45.5374, 45.7242,46.0038,46.1879,46.3723,46.6487 ,46.8309,47.0132,47.2864,47.4663, 47.6464,47.827,48.0949,48.2728,48.4509, 48.6293,48.8047,48.9805,49.1564,49.4195 ,49.5926,49.7661,49.9399,50.1138, 50.2847,50.4559,50.6273,50.799,51.0536, 51.2225,51.3916,51.5608,51.7297,52.0626 ,52.2294,52.3964,52.5631,52.8913, 53.2203,53.6287,53.8506)
FOOTPRINT_POINT_LONGITUDE = (188.717,188.266,187.81,187.349,186.881 ,186.407,185.786,185.861,185.934,185.98 ,186.026,186.082,186.114,186.136, 186.157,186.178,186.198,186.219,186.239 ,186.259,186.279,186.308,186.335, 186.354,186.372,186.39,186.408,186.426, 186.442,186.468,186.484,186.501,186.517 ,186.533,186.556,186.571,186.586, 186.608,186.623,186.637,186.657,186.671 ,186.684,186.697,186.71,186.723,187.01, 187.261,187.511,187.759,188.005,188.25, 188.494,188.736,188.977,189.217,189.455 ,189.881,189.864,189.848,189.831, 189.806,189.79,189.773,189.747,189.73, 189.713,189.686,189.669,189.651,189.633 ,189.606,189.588,189.57,189.551,189.533 ,189.514,189.495,189.467,189.448, 189.429,189.409,189.389,189.37,189.35, 189.33,189.31,189.279,189.259,189.238, 189.217,189.196,189.154,189.132,189.11, 189.088,189.045,189.0,188.943,188.717)
ORBIT_NUMBER = 13888
ORBITAL_ECCENTRICITY = 0.571
ORBITAL_INCLINATION = 86.92
ORBITAL_SEMIMAJOR_AXIS = 8763.61
PERIAPSIS_ALTITUDE = 385.71
PERIAPSIS_ARGUMENT_ANGLE = 104.31
PERIAPSIS_TIME = 2014-12-10T21:47:20.000Z
SPACECRAFT_ORIENTATION = (0.0,-1.0,0.0)
^MEX_ORIENTATION_DESC = "MEX_ORIENTATION_DESC.TXT"
SPACECRAFT_POINTING_MODE = ACROSSTRACK
^MEX_POINTING_DESC = "MEX_POINTING_DESC.TXT"
RIGHT_ASCENSION = -1e+32
DECLINATION = -1e+32
OFFSET_ANGLE = -1.347
SPACECRAFT_SOLAR_DISTANCE = 2.06629e+08
TARGET_NAME = MARS
/* CAMERA DATA ELEMENTS */
DETECTOR_TEMPERATURE = 19.39
FOCAL_PLANE_TEMPERATURE = 9.8067
INST_CMPRS_NAME = "DISCRETE COSINE TRANSFORMATION (DCT)"
INST_CMPRS_RATIO = 7.57373
INST_CMPRS_QUALITY = 0
INST_CMPRS_QUANTZ_TBL_ID = 0
INSTRUMENT_TEMPERATURE = 12.0496
LENS_TEMPERATURE = 10.2145
MACROPIXEL_SIZE = 2
MISSING_FRAMES = 0
PIXEL_SUBSAMPLING_FLAG = N
SIGNAL_CHAIN_ID = 3
/* RADIOMETRIC DATA ELEMENTS */
BANDWIDTH = 177.0
CENTER_FILTER_WAVELENGTH = 676.5
RADIANCE_OFFSET = 2.63365
RADIANCE_SCALING_FACTOR = 0.0116023
REFLECTANCE_SCALING_FACTOR = 0.000262653
MEX:REFLECTANCE_OFFSET = 0.0596206
/* IMAGE OBJECT DEFINITIONS */
OBJECT = IMAGE
  INTERCHANGE_FORMAT = BINARY
  LINES = 10513
  LINE_SAMPLES = 3009
  SAMPLE_TYPE = UNSIGNED_INTEGER
  SAMPLE_BITS = 8
  BANDS = 1
  BAND_STORAGE_TYPE = BAND_SEQUENTIAL
  MAXIMUM = 255
  MEAN = 129.902
  MINIMUM = 1
  STANDARD_DEVIATION = 60.717
END_OBJECT = IMAGE
/* MAP OBJECT DEFINITIONS */
OBJECT = IMAGE_MAP_PROJECTION
  ^DATA_SET_MAP_PROJECTION_CATALOG= "DSMAP.CAT"
  A_AXIS_RADIUS = 3396.0
  B_AXIS_RADIUS = 3396.0
  C_AXIS_RADIUS = 3396.0
  CENTER_LATITUDE = 0.0
  CENTER_LONGITUDE = 188.0
  COORDINATE_SYSTEM_NAME = PLANETOGRAPHIC
  COORDINATE_SYSTEM_TYPE = "BODY-FIXED ROTATING"
  EASTERNMOST_LONGITUDE = 189.881
  FIRST_STANDARD_PARALLEL = "N/A"
  LINE_FIRST_PIXEL = 1
  LINE_LAST_PIXEL = 10513
  LINE_PROJECTION_OFFSET = 63954.75
  MAP_PROJECTION_ROTATION = 0.0
  MAP_PROJECTION_TYPE = SINUSOIDAL
  MAP_RESOLUTION = 1185.42760773333
  MAP_SCALE = 0.05
  MAXIMUM_LATITUDE = 53.8551
  MINIMUM_LATITUDE = 45.1456
  POSITIVE_LONGITUDE_DIRECTION = EAST
  REFERENCE_LATITUDE = "N/A"
  REFERENCE_LONGITUDE = "N/A"
  SAMPLE_FIRST_PIXEL = 1
  SAMPLE_LAST_PIXEL = 3009
  SAMPLE_PROJECTION_OFFSET = 1502.25
  SECOND_STANDARD_PARALLEL = "N/A"
  WESTERNMOST_LONGITUDE = 185.786
END_OBJECT = IMAGE_MAP_PROJECTION
/* The JPEG2000 image data file associated with this label. */
OBJECT = COMPRESSED_FILE
  FILE_NAME = "HD888_0000_P23.JP2"
  RECORD_TYPE = UNDEFINED
  FILE_RECORDS = UNK
  ENCODING_TYPE = "JP2"
  INTERCHANGE_FORMAT = BINARY
  UNCOMPRESSED_FILE_NAME = "HD888_0000_P23.IMG"
  REQUIRED_STORAGE_BYTES = "31657689"
  ^DESCRIPTION = "JP2INFO.TXT"
END_OBJECT = COMPRESSED_FILE
END
