PDS_VERSION_ID = PDS3
/* FILE DATA ELEMENTS */
RECORD_TYPE = STREAM
/* POINTERS TO DATA OBJECTS */
^COMPRESSED_FILE = "HD894_0000_S13.JP2"
/* IDENTIFICATION DATA ELEMENTS */
DATA_SET_ID = "MEX-M-HRSC-5-REFDR-MAPPROJECTED-V3.0"
DATA_SET_NAME = "MARS EXPRESS HRSC MAP PROJECTED REFDR V3.0"
DETECTOR_ID = MEX_HRSC_S1
EVENT_TYPE = "MARS-REGIONAL-STEREO-Te"
INSTRUMENT_HOST_ID = MEX
INSTRUMENT_HOST_NAME = "MARS EXPRESS"
INSTRUMENT_ID = HRSC
INSTRUMENT_NAME = "HIGH RESOLUTION STEREO CAMERA"
MISSION_NAME = "MARS EXPRESS"
MISSION_PHASE_NAME = ME_Phase_31
PROCESSING_LEVEL_ID = 3
PRODUCT_CREATION_TIME = 2016-10-29T17:34:02.000Z
PRODUCT_ID = "HD894_0000_S13.JP2"
RELEASE_ID = 0126
REVISION_ID = 0000
/* QUALITY DATA ELEMENTS */
DATA_QUALITY_ID = 1
DATA_QUALITY_DESC = "Data calculated based on original SPICE kernels"
/* TIME DATA ELEMENTS */
SPACECRAFT_CLOCK_START_COUNT = "1/0366479373.07316"
SPACECRAFT_CLOCK_STOP_COUNT = "1/0366479650.54412"
START_TIME = 2014-12-12T15:49:39.145Z
STOP_TIME = 2014-12-12T15:52:06.019Z
/* ORBITAL DATA ELEMENTS */
ASCENDING_NODE_LONGITUDE = 312.86
MAXIMUM_RESOLUTION = 20.2
FOOTPRINT_POINT_LATITUDE = (53.2136,53.2015,53.191,53.1751,53.1597 ,53.1389,53.1256,52.9411,52.7649, 52.4225,52.0771,51.8199,51.5646,51.3884 ,51.2132,51.0386,50.8616,50.5929, 50.4137,50.2363,50.0566,49.8788,49.6966 ,49.424,49.2415,49.0598,48.7833,48.5979 ,48.4123,48.2266,48.0404,47.7544, 47.4667,47.2756,47.0897,46.816,46.6273, 46.4344,46.0462,45.7549,45.5589,45.3608 ,45.1616,44.9614,44.7646,44.5665, 44.3659,44.0628,43.8607,43.7565,43.767, 43.7735,43.7819,43.7886,43.7927,43.7962 ,43.999,44.2023,44.4054,44.6074,44.8071 ,45.0065,45.2066,45.4064,45.6024, 45.7985,45.9948,46.2893,46.5778,46.7706 ,46.9636,47.1564,47.3454,47.5352,47.82, 48.0095,48.1946,48.3819,48.5666,48.7492 ,48.9336,49.1148,49.3032,49.4883, 49.6699,49.8519,50.0339,50.3023,50.5699 ,50.7482,50.9259,51.1918,51.3684, 51.5419,51.8061,51.9826,52.1576,52.5021 ,52.9338,53.2136)
FOOTPRINT_POINT_LONGITUDE = (297.713,297.155,296.757,296.253,295.83 ,295.326,295.035,294.993,295.007, 295.037,295.065,295.088,295.112,295.125 ,295.138,295.151,295.164,295.183, 295.195,295.208,295.219,295.232,295.243 ,295.261,295.271,295.282,295.298, 295.309,295.319,295.329,295.338,295.351 ,295.363,295.371,295.381,295.399, 295.409,295.417,295.432,295.444,295.451 ,295.457,295.463,295.47,295.477,295.483 ,295.49,295.498,295.504,295.888,296.242 ,296.542,296.923,297.443,297.798, 298.276,298.268,298.26,298.252,298.244, 298.235,298.227,298.218,298.209,298.201 ,298.192,298.183,298.169,298.156, 298.147,298.138,298.128,298.119,298.109 ,298.095,298.085,298.076,298.065, 298.056,298.048,298.038,298.029,298.016 ,298.004,297.994,297.984,297.973, 297.957,297.941,297.93,297.92,297.902, 297.89,297.88,297.862,297.85,297.838, 297.813,297.781,297.713)
ORBIT_NUMBER = 13894
ORBITAL_ECCENTRICITY = 0.571
ORBITAL_INCLINATION = 86.92
ORBITAL_SEMIMAJOR_AXIS = 8763.56
PERIAPSIS_ALTITUDE = 386.07
PERIAPSIS_ARGUMENT_ANGLE = 103.29
PERIAPSIS_TIME = 2014-12-12T15:44:11.000Z
SPACECRAFT_ORIENTATION = (0.0,-1.0,0.0)
^MEX_ORIENTATION_DESC = "MEX_ORIENTATION_DESC.TXT"
SPACECRAFT_POINTING_MODE = NADIR
^MEX_POINTING_DESC = "MEX_POINTING_DESC.TXT"
RIGHT_ASCENSION = -1e+32
DECLINATION = -1e+32
OFFSET_ANGLE = -1e+32
SPACECRAFT_SOLAR_DISTANCE = 2.06627e+08
TARGET_NAME = MARS
/* CAMERA DATA ELEMENTS */
DETECTOR_TEMPERATURE = 18.1666
FOCAL_PLANE_TEMPERATURE = 10.0106
INST_CMPRS_NAME = "DISCRETE COSINE TRANSFORMATION (DCT)"
INST_CMPRS_RATIO = 7.51512
INST_CMPRS_QUALITY = 0
INST_CMPRS_QUANTZ_TBL_ID = 0
INSTRUMENT_TEMPERATURE = 12.2535
LENS_TEMPERATURE = 10.4184
MACROPIXEL_SIZE = 1
MISSING_FRAMES = 0
PIXEL_SUBSAMPLING_FLAG = N
SIGNAL_CHAIN_ID = 2
/* RADIOMETRIC DATA ELEMENTS */
BANDWIDTH = 180.0
CENTER_FILTER_WAVELENGTH = 677.0
RADIANCE_OFFSET = 1.89482
RADIANCE_SCALING_FACTOR = 0.0172025
REFLECTANCE_SCALING_FACTOR = 0.000383182
MEX:REFLECTANCE_OFFSET = 0.0422067
/* IMAGE OBJECT DEFINITIONS */
OBJECT = IMAGE
  INTERCHANGE_FORMAT = BINARY
  LINES = 22239
  LINE_SAMPLES = 5375
  SAMPLE_TYPE = UNSIGNED_INTEGER
  SAMPLE_BITS = 8
  BANDS = 1
  BAND_STORAGE_TYPE = BAND_SEQUENTIAL
  MAXIMUM = 255
  MEAN = 133.382
  MINIMUM = 1
  STANDARD_DEVIATION = 49.9707
END_OBJECT = IMAGE
/* MAP OBJECT DEFINITIONS */
OBJECT = IMAGE_MAP_PROJECTION
  ^DATA_SET_MAP_PROJECTION_CATALOG= "DSMAP.CAT"
  A_AXIS_RADIUS = 3396.0
  B_AXIS_RADIUS = 3396.0
  C_AXIS_RADIUS = 3396.0
  CENTER_LATITUDE = 0.0
  CENTER_LONGITUDE = 297.0
  COORDINATE_SYSTEM_NAME = PLANETOGRAPHIC
  COORDINATE_SYSTEM_TYPE = "BODY-FIXED ROTATING"
  EASTERNMOST_LONGITUDE = 298.276
  FIRST_STANDARD_PARALLEL = "N/A"
  LINE_FIRST_PIXEL = 1
  LINE_LAST_PIXEL = 22239
  LINE_PROJECTION_OFFSET = 125933.0
  MAP_PROJECTION_ROTATION = 0.0
  MAP_PROJECTION_TYPE = SINUSOIDAL
  MAP_RESOLUTION = 2370.85521546667
  MAP_SCALE = 0.025
  MAXIMUM_LATITUDE = 53.2136
  MINIMUM_LATITUDE = 43.7565
  POSITIVE_LONGITUDE_DIRECTION = EAST
  REFERENCE_LATITUDE = "N/A"
  REFERENCE_LONGITUDE = "N/A"
  SAMPLE_FIRST_PIXEL = 1
  SAMPLE_LAST_PIXEL = 5375
  SAMPLE_PROJECTION_OFFSET = 3014.0
  SECOND_STANDARD_PARALLEL = "N/A"
  WESTERNMOST_LONGITUDE = 294.993
END_OBJECT = IMAGE_MAP_PROJECTION
/* The JPEG2000 image data file associated with this label. */
OBJECT = COMPRESSED_FILE
  FILE_NAME = "HD894_0000_S13.JP2"
  RECORD_TYPE = UNDEFINED
  FILE_RECORDS = UNK
  ENCODING_TYPE = "JP2"
  INTERCHANGE_FORMAT = BINARY
  UNCOMPRESSED_FILE_NAME = "HD894_0000_S13.IMG"
  REQUIRED_STORAGE_BYTES = "119561500"
  ^DESCRIPTION = "JP2INFO.TXT"
END_OBJECT = COMPRESSED_FILE
END
