PDS_VERSION_ID = PDS3
/* FILE DATA ELEMENTS */
RECORD_TYPE = STREAM
/* POINTERS TO DATA OBJECTS */
^COMPRESSED_FILE = "HD900_0000_S13.JP2"
/* IDENTIFICATION DATA ELEMENTS */
DATA_SET_ID = "MEX-M-HRSC-5-REFDR-MAPPROJECTED-V3.0"
DATA_SET_NAME = "MARS EXPRESS HRSC MAP PROJECTED REFDR V3.0"
DETECTOR_ID = MEX_HRSC_S1
EVENT_TYPE = "MARS-REGIONAL-MAPPING-Te-Gl-Pf"
INSTRUMENT_HOST_ID = MEX
INSTRUMENT_HOST_NAME = "MARS EXPRESS"
INSTRUMENT_ID = HRSC
INSTRUMENT_NAME = "HIGH RESOLUTION STEREO CAMERA"
MISSION_NAME = "MARS EXPRESS"
MISSION_PHASE_NAME = ME_Phase_31
PROCESSING_LEVEL_ID = 3
PRODUCT_CREATION_TIME = 2016-10-29T17:34:02.000Z
PRODUCT_ID = "HD900_0000_S13.JP2"
RELEASE_ID = 0126
REVISION_ID = 0000
/* QUALITY DATA ELEMENTS */
DATA_QUALITY_ID = 1
DATA_QUALITY_DESC = "Data calculated based on original SPICE kernels"
/* TIME DATA ELEMENTS */
SPACECRAFT_CLOCK_START_COUNT = "1/0366630374.09060"
SPACECRAFT_CLOCK_STOP_COUNT = "1/0366630618.17762"
START_TIME = 2014-12-14T09:46:20.152Z
STOP_TIME = 2014-12-14T09:48:20.661Z
/* ORBITAL DATA ELEMENTS */
ASCENDING_NODE_LONGITUDE = 312.73
MAXIMUM_RESOLUTION = 40.2
FOOTPRINT_POINT_LATITUDE = (54.525,54.5099,54.4929,54.474,54.4532, 54.4304,54.3941,54.2163,54.0008,53.7131 ,53.4971,53.1371,52.9907,52.8435, 52.6965,52.5499,52.3301,52.1831,52.0367 ,51.8869,51.737,51.5121,51.2874,51.138, 50.9889,50.7601,50.6071,50.4543,50.3019 ,50.1493,49.9188,49.7642,49.608,49.453, 49.2206,48.9846,48.8259,48.6676,48.5091 ,48.3511,48.1934,48.0338,47.8722, 47.6305,47.4692,47.3091,47.1464,46.9818 ,46.7317,46.6724,46.692,46.7086,46.7213 ,46.7312,46.7429,46.7518,46.8404, 47.0051,47.2572,47.5007,47.6627,47.8265 ,47.9899,48.1494,48.3104,48.4679, 48.6269,48.7858,48.9439,49.1026,49.3379 ,49.4938,49.6499,49.806,49.9622,50.1186 ,50.272,50.4252,50.5783,50.7317,50.9619 ,51.1148,51.2645,51.4146,51.5649, 51.7904,51.9406,52.1658,52.3134,52.4609 ,52.6816,52.9027,53.0502,53.1977, 53.3432,53.7042,53.9929,54.1377,54.3546 ,54.525)
FOOTPRINT_POINT_LONGITUDE = (43.6459,43.2213,42.796,42.3697,41.943, 41.5153,40.8982,40.8397,40.8648,40.8971 ,40.9206,40.9585,40.9737,40.9886, 41.0033,41.018,41.0397,41.0536,41.0676, 41.0814,41.0951,41.1152,41.1348,41.1478 ,41.1608,41.18,41.1923,41.2045,41.2166, 41.2285,41.246,41.2582,41.2692,41.2807, 41.2975,41.3128,41.3234,41.3339,41.3441 ,41.3543,41.3645,41.3744,41.384,41.3982 ,41.4074,41.4169,41.4259,41.4345, 41.4484,41.8885,42.2979,42.6786,43.0046 ,43.2761,43.6826,44.0072,44.2556, 44.2461,44.2315,44.2173,44.2074,44.1968 ,44.1863,44.1771,44.1668,44.1572, 44.1469,44.1366,44.1265,44.1161,44.1002 ,44.0896,44.0789,44.068,44.057,44.0459, 44.0348,44.0236,44.0124,44.001,43.9836, 43.972,43.9607,43.949,43.9372,43.9193, 43.9072,43.8888,43.8765,43.8641,43.8455 ,43.8265,43.8136,43.8007,43.7877,43.755 ,43.7283,43.7146,43.6939,43.6459)
ORBIT_NUMBER = 13900
ORBITAL_ECCENTRICITY = 0.571
ORBITAL_INCLINATION = 86.92
ORBITAL_SEMIMAJOR_AXIS = 8764.7
PERIAPSIS_ALTITUDE = 386.18
PERIAPSIS_ARGUMENT_ANGLE = 102.24
PERIAPSIS_TIME = 2014-12-14T09:40:56.000Z
SPACECRAFT_ORIENTATION = (0.0,-1.0,0.0)
^MEX_ORIENTATION_DESC = "MEX_ORIENTATION_DESC.TXT"
SPACECRAFT_POINTING_MODE = ACROSSTRACK
^MEX_POINTING_DESC = "MEX_POINTING_DESC.TXT"
RIGHT_ASCENSION = -1e+32
DECLINATION = -1e+32
OFFSET_ANGLE = -0.3
SPACECRAFT_SOLAR_DISTANCE = 2.06631e+08
TARGET_NAME = MARS
/* CAMERA DATA ELEMENTS */
DETECTOR_TEMPERATURE = 17.351
FOCAL_PLANE_TEMPERATURE = 8.1755
INST_CMPRS_NAME = "DISCRETE COSINE TRANSFORMATION (DCT)"
INST_CMPRS_RATIO = 9.02975
INST_CMPRS_QUALITY = 0
INST_CMPRS_QUANTZ_TBL_ID = 0
INSTRUMENT_TEMPERATURE = 11.234
LENS_TEMPERATURE = 8.5833
MACROPIXEL_SIZE = 2
MISSING_FRAMES = 1
PIXEL_SUBSAMPLING_FLAG = N
SIGNAL_CHAIN_ID = 1
/* RADIOMETRIC DATA ELEMENTS */
BANDWIDTH = 180.0
CENTER_FILTER_WAVELENGTH = 677.0
RADIANCE_OFFSET = 2.80724
RADIANCE_SCALING_FACTOR = 0.0164008
REFLECTANCE_SCALING_FACTOR = 0.000365342
MEX:REFLECTANCE_OFFSET = 0.0625335
/* IMAGE OBJECT DEFINITIONS */
OBJECT = IMAGE
  INTERCHANGE_FORMAT = BINARY
  LINES = 9184
  LINE_SAMPLES = 2654
  SAMPLE_TYPE = UNSIGNED_INTEGER
  SAMPLE_BITS = 8
  BANDS = 1
  BAND_STORAGE_TYPE = BAND_SEQUENTIAL
  MAXIMUM = 255
  MEAN = 89.4639
  MINIMUM = 1
  STANDARD_DEVIATION = 32.3568
END_OBJECT = IMAGE
/* MAP OBJECT DEFINITIONS */
OBJECT = IMAGE_MAP_PROJECTION
  ^DATA_SET_MAP_PROJECTION_CATALOG= "DSMAP.CAT"
  A_AXIS_RADIUS = 3396.0
  B_AXIS_RADIUS = 3396.0
  C_AXIS_RADIUS = 3396.0
  CENTER_LATITUDE = 0.0
  CENTER_LONGITUDE = 43.0
  COORDINATE_SYSTEM_NAME = PLANETOGRAPHIC
  COORDINATE_SYSTEM_TYPE = "BODY-FIXED ROTATING"
  EASTERNMOST_LONGITUDE = 44.2556
  FIRST_STANDARD_PARALLEL = "N/A"
  LINE_FIRST_PIXEL = 1
  LINE_LAST_PIXEL = 9184
  LINE_PROJECTION_OFFSET = 64508.25
  MAP_PROJECTION_ROTATION = 0.0
  MAP_PROJECTION_TYPE = SINUSOIDAL
  MAP_RESOLUTION = 1185.42760773333
  MAP_SCALE = 0.05
  MAXIMUM_LATITUDE = 54.525
  MINIMUM_LATITUDE = 46.6724
  POSITIVE_LONGITUDE_DIRECTION = EAST
  REFERENCE_LATITUDE = "N/A"
  REFERENCE_LONGITUDE = "N/A"
  SAMPLE_FIRST_PIXEL = 1
  SAMPLE_LAST_PIXEL = 2654
  SAMPLE_PROJECTION_OFFSET = 1562.25
  SECOND_STANDARD_PARALLEL = "N/A"
  WESTERNMOST_LONGITUDE = 40.8397
END_OBJECT = IMAGE_MAP_PROJECTION
/* The JPEG2000 image data file associated with this label. */
OBJECT = COMPRESSED_FILE
  FILE_NAME = "HD900_0000_S13.JP2"
  RECORD_TYPE = UNDEFINED
  FILE_RECORDS = UNK
  ENCODING_TYPE = "JP2"
  INTERCHANGE_FORMAT = BINARY
  UNCOMPRESSED_FILE_NAME = "HD900_0000_S13.IMG"
  REQUIRED_STORAGE_BYTES = "24395568"
  ^DESCRIPTION = "JP2INFO.TXT"
END_OBJECT = COMPRESSED_FILE
END
