PDS_VERSION_ID = PDS3
/* FILE DATA ELEMENTS */
RECORD_TYPE = STREAM
/* POINTERS TO DATA OBJECTS */
^COMPRESSED_FILE = "HD900_0000_S23.JP2"
/* IDENTIFICATION DATA ELEMENTS */
DATA_SET_ID = "MEX-M-HRSC-5-REFDR-MAPPROJECTED-V3.0"
DATA_SET_NAME = "MARS EXPRESS HRSC MAP PROJECTED REFDR V3.0"
DETECTOR_ID = MEX_HRSC_S2
EVENT_TYPE = "MARS-REGIONAL-MAPPING-Te-Gl-Pf"
INSTRUMENT_HOST_ID = MEX
INSTRUMENT_HOST_NAME = "MARS EXPRESS"
INSTRUMENT_ID = HRSC
INSTRUMENT_NAME = "HIGH RESOLUTION STEREO CAMERA"
MISSION_NAME = "MARS EXPRESS"
MISSION_PHASE_NAME = ME_Phase_31
PROCESSING_LEVEL_ID = 3
PRODUCT_CREATION_TIME = 2016-10-29T17:34:02.000Z
PRODUCT_ID = "HD900_0000_S23.JP2"
RELEASE_ID = 0126
REVISION_ID = 0000
/* QUALITY DATA ELEMENTS */
DATA_QUALITY_ID = 1
DATA_QUALITY_DESC = "Data calculated based on original SPICE kernels"
/* TIME DATA ELEMENTS */
SPACECRAFT_CLOCK_START_COUNT = "1/0366630374.09060"
SPACECRAFT_CLOCK_STOP_COUNT = "1/0366630618.17762"
START_TIME = 2014-12-14T09:47:57.789Z
STOP_TIME = 2014-12-14T09:50:22.252Z
/* ORBITAL DATA ELEMENTS */
ASCENDING_NODE_LONGITUDE = 312.73
MAXIMUM_RESOLUTION = 45.6
FOOTPRINT_POINT_LATITUDE = (54.311,54.3029,54.2934,54.2826,54.2704 ,54.2568,54.3472,53.986,53.7698,53.4811 ,53.1896,52.8984,52.7508,52.603,52.4554 ,52.2341,52.0105,51.8612,51.7121, 51.5633,51.3377,51.1107,50.9593,50.8087 ,50.6555,50.5026,50.3497,50.1973, 50.0428,49.8877,49.7329,49.5768,49.4222 ,49.2658,49.1098,48.9548,48.7968,48.639 ,48.4813,48.2426,48.083,47.9239,47.6832 ,47.5214,47.3604,47.1979,46.9544, 46.7043,46.7148,46.7187,46.7243,46.7276 ,46.7303,46.7342,46.7368,46.7385,46.739 ,46.9859,47.1476,47.3132,47.4752, 47.6373,47.7948,47.9517,48.1187,48.2786 ,48.4394,48.5979,48.7555,48.9154, 49.0748,49.2319,49.3891,49.6244,49.7796 ,49.9346,50.09,50.2454,50.3987,50.5524, 50.7827,51.0109,51.1631,51.3916,51.5438 ,51.6935,51.8436,52.0691,52.2194, 52.3672,52.5157,52.738,52.8868,53.1803, 53.3999,53.5468,53.6938,53.9825,54.2719 ,54.311)
FOOTPRINT_POINT_LONGITUDE = (43.6121,43.1293,42.6453,42.1604, 41.6748,41.1873,40.6312,40.6704,40.6933 ,40.7221,40.7506,40.7784,40.7922, 40.8058,40.8191,40.8388,40.8582,40.8706 ,40.8829,40.8948,40.9127,40.9304, 40.9421,40.9533,40.9645,40.9754,40.9863 ,40.9968,41.0072,41.0178,41.0281, 41.0393,41.048,41.0576,41.0669,41.0754, 41.0844,41.0931,41.1018,41.1149,41.1232 ,41.1311,41.1431,41.1512,41.1586, 41.1667,41.1769,41.3181,41.7401,42.0002 ,42.4217,42.7452,43.0037,43.4556, 43.8423,44.1642,44.4214,44.5129,44.501, 44.4903,44.4791,44.4677,44.4547,44.442, 44.4324,44.4205,44.4088,44.3971,44.3849 ,44.3732,44.3615,44.3496,44.3374, 44.3189,44.3067,44.2942,44.2817,44.269, 44.2565,44.2438,44.2245,44.205,44.1922, 44.1726,44.1593,44.1461,44.1328,44.1125 ,44.0988,44.0851,44.0715,44.0506, 44.0365,44.0085,43.987,43.9726,43.9581, 43.929,43.8992,43.6121)
ORBIT_NUMBER = 13900
ORBITAL_ECCENTRICITY = 0.571
ORBITAL_INCLINATION = 86.92
ORBITAL_SEMIMAJOR_AXIS = 8764.7
PERIAPSIS_ALTITUDE = 386.18
PERIAPSIS_ARGUMENT_ANGLE = 102.24
PERIAPSIS_TIME = 2014-12-14T09:40:56.000Z
SPACECRAFT_ORIENTATION = (0.0,-1.0,0.0)
^MEX_ORIENTATION_DESC = "MEX_ORIENTATION_DESC.TXT"
SPACECRAFT_POINTING_MODE = ACROSSTRACK
^MEX_POINTING_DESC = "MEX_POINTING_DESC.TXT"
RIGHT_ASCENSION = -1e+32
DECLINATION = -1e+32
OFFSET_ANGLE = -0.3
SPACECRAFT_SOLAR_DISTANCE = 2.06631e+08
TARGET_NAME = MARS
/* CAMERA DATA ELEMENTS */
DETECTOR_TEMPERATURE = 18.5744
FOCAL_PLANE_TEMPERATURE = 8.1755
INST_CMPRS_NAME = "DISCRETE COSINE TRANSFORMATION (DCT)"
INST_CMPRS_RATIO = 11.5219
INST_CMPRS_QUALITY = 0
INST_CMPRS_QUANTZ_TBL_ID = 0
INSTRUMENT_TEMPERATURE = 11.234
LENS_TEMPERATURE = 8.5833
MACROPIXEL_SIZE = 2
MISSING_FRAMES = 0
PIXEL_SUBSAMPLING_FLAG = N
SIGNAL_CHAIN_ID = 1
/* RADIOMETRIC DATA ELEMENTS */
BANDWIDTH = 178.0
CENTER_FILTER_WAVELENGTH = 679.0
RADIANCE_OFFSET = 2.49931
RADIANCE_SCALING_FACTOR = 0.0149246
REFLECTANCE_SCALING_FACTOR = 0.00033746
MEX:REFLECTANCE_OFFSET = 0.056512
/* IMAGE OBJECT DEFINITIONS */
OBJECT = IMAGE
  INTERCHANGE_FORMAT = BINARY
  LINES = 9184
  LINE_SAMPLES = 2654
  SAMPLE_TYPE = UNSIGNED_INTEGER
  SAMPLE_BITS = 8
  BANDS = 1
  BAND_STORAGE_TYPE = BAND_SEQUENTIAL
  MAXIMUM = 255
  MEAN = 88.4209
  MINIMUM = 1
  STANDARD_DEVIATION = 36.8572
END_OBJECT = IMAGE
/* MAP OBJECT DEFINITIONS */
OBJECT = IMAGE_MAP_PROJECTION
  ^DATA_SET_MAP_PROJECTION_CATALOG= "DSMAP.CAT"
  A_AXIS_RADIUS = 3396.0
  B_AXIS_RADIUS = 3396.0
  C_AXIS_RADIUS = 3396.0
  CENTER_LATITUDE = 0.0
  CENTER_LONGITUDE = 43.0
  COORDINATE_SYSTEM_NAME = PLANETOGRAPHIC
  COORDINATE_SYSTEM_TYPE = "BODY-FIXED ROTATING"
  EASTERNMOST_LONGITUDE = 44.5129
  FIRST_STANDARD_PARALLEL = "N/A"
  LINE_FIRST_PIXEL = 1
  LINE_LAST_PIXEL = 9184
  LINE_PROJECTION_OFFSET = 64508.25
  MAP_PROJECTION_ROTATION = 0.0
  MAP_PROJECTION_TYPE = SINUSOIDAL
  MAP_RESOLUTION = 1185.42760773333
  MAP_SCALE = 0.05
  MAXIMUM_LATITUDE = 54.3472
  MINIMUM_LATITUDE = 46.7043
  POSITIVE_LONGITUDE_DIRECTION = EAST
  REFERENCE_LATITUDE = "N/A"
  REFERENCE_LONGITUDE = "N/A"
  SAMPLE_FIRST_PIXEL = 1
  SAMPLE_LAST_PIXEL = 2654
  SAMPLE_PROJECTION_OFFSET = 1562.25
  SECOND_STANDARD_PARALLEL = "N/A"
  WESTERNMOST_LONGITUDE = 40.6312
END_OBJECT = IMAGE_MAP_PROJECTION
/* The JPEG2000 image data file associated with this label. */
OBJECT = COMPRESSED_FILE
  FILE_NAME = "HD900_0000_S23.JP2"
  RECORD_TYPE = UNDEFINED
  FILE_RECORDS = UNK
  ENCODING_TYPE = "JP2"
  INTERCHANGE_FORMAT = BINARY
  UNCOMPRESSED_FILE_NAME = "HD900_0000_S23.IMG"
  REQUIRED_STORAGE_BYTES = "24395568"
  ^DESCRIPTION = "JP2INFO.TXT"
END_OBJECT = COMPRESSED_FILE
END
