PDS_VERSION_ID = PDS3
/* FILE DATA ELEMENTS */
RECORD_TYPE = STREAM
/* POINTERS TO DATA OBJECTS */
^COMPRESSED_FILE = "HD905_0000_P23.JP2"
/* IDENTIFICATION DATA ELEMENTS */
DATA_SET_ID = "MEX-M-HRSC-5-REFDR-MAPPROJECTED-V3.0"
DATA_SET_NAME = "MARS EXPRESS HRSC MAP PROJECTED REFDR V3.0"
DETECTOR_ID = MEX_HRSC_P2
EVENT_TYPE = "MARS-REGIONAL-STEREO-Vo-Te"
INSTRUMENT_HOST_ID = MEX
INSTRUMENT_HOST_NAME = "MARS EXPRESS"
INSTRUMENT_ID = HRSC
INSTRUMENT_NAME = "HIGH RESOLUTION STEREO CAMERA"
MISSION_NAME = "MARS EXPRESS"
MISSION_PHASE_NAME = ME_Phase_31
PROCESSING_LEVEL_ID = 3
PRODUCT_CREATION_TIME = 2016-10-29T17:34:02.000Z
PRODUCT_ID = "HD905_0000_P23.JP2"
RELEASE_ID = 0126
REVISION_ID = 0000
/* QUALITY DATA ELEMENTS */
DATA_QUALITY_ID = 1
DATA_QUALITY_DESC = "Data calculated based on original SPICE kernels"
/* TIME DATA ELEMENTS */
SPACECRAFT_CLOCK_START_COUNT = "1/0366756346.09062"
SPACECRAFT_CLOCK_STOP_COUNT = "1/0366756680.17733"
START_TIME = 2014-12-15T20:47:30.490Z
STOP_TIME = 2014-12-15T20:50:46.471Z
/* ORBITAL DATA ELEMENTS */
ASCENDING_NODE_LONGITUDE = 312.65
MAXIMUM_RESOLUTION = 51.8
FOOTPRINT_POINT_LATITUDE = (46.9877,46.9825,46.9772,46.9688, 46.9621,46.9511,46.9708,46.6115,46.2503 ,45.8853,45.5173,45.2399,44.9622, 44.5917,44.4048,44.1244,43.8417,43.6532 ,43.3672,43.1766,42.9842,42.7906, 42.5976,42.403,42.111,41.9146,41.7187, 41.5202,41.3225,41.1234,40.8248,40.6242 ,40.423,40.221,40.0194,39.8162,39.6127, 39.4071,39.2008,38.9921,38.7852,38.5772 ,38.3691,38.159,37.8434,37.6324,37.4198 ,37.1541,37.1579,37.1607,37.1626, 37.1642,37.1651,37.1651,37.165,37.1637, 37.1628,37.1609,37.2658,37.481,37.8019, 38.0154,38.2274,38.5432,38.7535,38.9618 ,39.1707,39.3775,39.6874,39.8927, 40.1993,40.4034,40.6052,40.8078,41.008, 41.3089,41.6066,41.805,42.0019,42.1986, 42.3937,42.589,42.8798,43.0733,43.3613, 43.5527,43.7433,43.933,44.1234,44.4063, 44.5954,44.7834,44.9709,45.1588,45.5284 ,45.7144,46.0808,46.537,46.9897, 46.9877)
FOOTPRINT_POINT_LONGITUDE = (253.206,252.774,252.404,251.911, 251.572,251.079,250.456,250.47,250.483, 250.495,250.508,250.516,250.524,250.532 ,250.535,250.54,250.545,250.548,250.552 ,250.555,250.557,250.56,250.562,250.564 ,250.567,250.568,250.569,250.57,250.571 ,250.572,250.572,250.572,250.572, 250.571,250.57,250.568,250.567,250.566, 250.564,250.564,250.561,250.559,250.556 ,250.553,250.548,250.544,250.541, 250.604,250.951,251.368,251.681,251.924 ,252.166,252.444,252.827,253.139, 253.452,253.696,254.123,254.115,254.103 ,254.096,254.088,254.076,254.068,254.06 ,254.052,254.044,254.032,254.023, 254.011,254.003,253.995,253.987,253.978 ,253.966,253.953,253.944,253.936, 253.927,253.919,253.91,253.896,253.888, 253.874,253.865,253.856,253.847,253.838 ,253.825,253.816,253.808,253.799, 253.791,253.772,253.764,253.745,253.723 ,253.7,253.206)
ORBIT_NUMBER = 13905
ORBITAL_ECCENTRICITY = 0.571
ORBITAL_INCLINATION = 86.92
ORBITAL_SEMIMAJOR_AXIS = 8761.68
PERIAPSIS_ALTITUDE = 385.77
PERIAPSIS_ARGUMENT_ANGLE = 101.36
PERIAPSIS_TIME = 2014-12-15T20:38:18.000Z
SPACECRAFT_ORIENTATION = (0.0,-1.0,0.0)
^MEX_ORIENTATION_DESC = "MEX_ORIENTATION_DESC.TXT"
SPACECRAFT_POINTING_MODE = NADIR
^MEX_POINTING_DESC = "MEX_POINTING_DESC.TXT"
RIGHT_ASCENSION = -1e+32
DECLINATION = -1e+32
OFFSET_ANGLE = -1e+32
SPACECRAFT_SOLAR_DISTANCE = 2.0664e+08
TARGET_NAME = MARS
/* CAMERA DATA ELEMENTS */
DETECTOR_TEMPERATURE = 19.39
FOCAL_PLANE_TEMPERATURE = 9.8067
INST_CMPRS_NAME = "DISCRETE COSINE TRANSFORMATION (DCT)"
INST_CMPRS_RATIO = 4.82599
INST_CMPRS_QUALITY = 0
INST_CMPRS_QUANTZ_TBL_ID = 0
INSTRUMENT_TEMPERATURE = 12.0496
LENS_TEMPERATURE = 10.4184
MACROPIXEL_SIZE = 2
MISSING_FRAMES = 0
PIXEL_SUBSAMPLING_FLAG = N
SIGNAL_CHAIN_ID = 3
/* RADIOMETRIC DATA ELEMENTS */
BANDWIDTH = 177.0
CENTER_FILTER_WAVELENGTH = 676.5
RADIANCE_OFFSET = 3.12369
RADIANCE_SCALING_FACTOR = 0.0214928
REFLECTANCE_SCALING_FACTOR = 0.000486607
MEX:REFLECTANCE_OFFSET = 0.0707219
/* IMAGE OBJECT DEFINITIONS */
OBJECT = IMAGE
  INTERCHANGE_FORMAT = BINARY
  LINES = 11693
  LINE_SAMPLES = 3179
  SAMPLE_TYPE = UNSIGNED_INTEGER
  SAMPLE_BITS = 8
  BANDS = 1
  BAND_STORAGE_TYPE = BAND_SEQUENTIAL
  MAXIMUM = 255
  MEAN = 146.896
  MINIMUM = 1
  STANDARD_DEVIATION = 42.5804
END_OBJECT = IMAGE
/* MAP OBJECT DEFINITIONS */
OBJECT = IMAGE_MAP_PROJECTION
  ^DATA_SET_MAP_PROJECTION_CATALOG= "DSMAP.CAT"
  A_AXIS_RADIUS = 3396.0
  B_AXIS_RADIUS = 3396.0
  C_AXIS_RADIUS = 3396.0
  CENTER_LATITUDE = 0.0
  CENTER_LONGITUDE = 252.0
  COORDINATE_SYSTEM_NAME = PLANETOGRAPHIC
  COORDINATE_SYSTEM_TYPE = "BODY-FIXED ROTATING"
  EASTERNMOST_LONGITUDE = 254.123
  FIRST_STANDARD_PARALLEL = "N/A"
  LINE_FIRST_PIXEL = 1
  LINE_LAST_PIXEL = 11693
  LINE_PROJECTION_OFFSET = 55774.75
  MAP_PROJECTION_ROTATION = 0.0
  MAP_PROJECTION_TYPE = SINUSOIDAL
  MAP_RESOLUTION = 1185.42760773333
  MAP_SCALE = 0.05
  MAXIMUM_LATITUDE = 46.9897
  MINIMUM_LATITUDE = 37.1541
  POSITIVE_LONGITUDE_DIRECTION = EAST
  REFERENCE_LATITUDE = "N/A"
  REFERENCE_LONGITUDE = "N/A"
  SAMPLE_FIRST_PIXEL = 1
  SAMPLE_LAST_PIXEL = 3179
  SAMPLE_PROJECTION_OFFSET = 1291.75
  SECOND_STANDARD_PARALLEL = "N/A"
  WESTERNMOST_LONGITUDE = 250.456
END_OBJECT = IMAGE_MAP_PROJECTION
/* The JPEG2000 image data file associated with this label. */
OBJECT = COMPRESSED_FILE
  FILE_NAME = "HD905_0000_P23.JP2"
  RECORD_TYPE = UNDEFINED
  FILE_RECORDS = UNK
  ENCODING_TYPE = "JP2"
  INTERCHANGE_FORMAT = BINARY
  UNCOMPRESSED_FILE_NAME = "HD905_0000_P23.IMG"
  REQUIRED_STORAGE_BYTES = "37194300"
  ^DESCRIPTION = "JP2INFO.TXT"
END_OBJECT = COMPRESSED_FILE
END
