PDS_VERSION_ID = PDS3
/* FILE DATA ELEMENTS */
RECORD_TYPE = STREAM
/* POINTERS TO DATA OBJECTS */
^COMPRESSED_FILE = "HD905_0000_S13.JP2"
/* IDENTIFICATION DATA ELEMENTS */
DATA_SET_ID = "MEX-M-HRSC-5-REFDR-MAPPROJECTED-V3.0"
DATA_SET_NAME = "MARS EXPRESS HRSC MAP PROJECTED REFDR V3.0"
DETECTOR_ID = MEX_HRSC_S1
EVENT_TYPE = "MARS-REGIONAL-STEREO-Vo-Te"
INSTRUMENT_HOST_ID = MEX
INSTRUMENT_HOST_NAME = "MARS EXPRESS"
INSTRUMENT_ID = HRSC
INSTRUMENT_NAME = "HIGH RESOLUTION STEREO CAMERA"
MISSION_NAME = "MARS EXPRESS"
MISSION_PHASE_NAME = ME_Phase_31
PROCESSING_LEVEL_ID = 3
PRODUCT_CREATION_TIME = 2016-10-29T17:34:02.000Z
PRODUCT_ID = "HD905_0000_S13.JP2"
RELEASE_ID = 0126
REVISION_ID = 0000
/* QUALITY DATA ELEMENTS */
DATA_QUALITY_ID = 1
DATA_QUALITY_DESC = "Data calculated based on original SPICE kernels"
/* TIME DATA ELEMENTS */
SPACECRAFT_CLOCK_START_COUNT = "1/0366756346.09062"
SPACECRAFT_CLOCK_STOP_COUNT = "1/0366756680.17733"
START_TIME = 2014-12-15T20:45:52.172Z
STOP_TIME = 2014-12-15T20:48:31.671Z
/* ORBITAL DATA ELEMENTS */
ASCENDING_NODE_LONGITUDE = 312.65
MAXIMUM_RESOLUTION = 23.4
FOOTPRINT_POINT_LATITUDE = (47.1238,47.1199,47.1124,47.1,47.0871, 47.0769,47.0635,46.9137,46.5623,46.2053 ,45.6694,45.3973,45.2155,45.0337, 44.8497,44.6628,44.3831,44.1966,44.0075 ,43.8179,43.6285,43.4391,43.1515, 42.9597,42.7683,42.4778,42.2834,42.0888 ,41.8925,41.6948,41.3985,41.1989, 40.8993,40.5973,40.3941,40.1903,39.8807 ,39.6734,39.4677,39.2603,39.054,38.845, 38.6332,38.4207,38.2084,37.9941,37.7784 ,37.5631,37.3447,37.2299,37.2385, 37.2426,37.2474,37.2487,37.2505,37.2499 ,37.3577,37.5757,37.7906,38.0062, 38.2215,38.4338,38.6465,38.859,39.0685, 39.2785,39.5913,39.9014,40.1088,40.3129 ,40.517,40.7212,40.9221,41.1234,41.4246 ,41.6231,41.8216,42.0203,42.2172, 42.5106,42.7066,42.9008,43.0938,43.2869 ,43.5763,43.766,43.9562,44.146,44.3341, 44.5197,44.7049,44.8899,45.0743,45.2571 ,45.4395,45.6224,45.985,46.3433,46.8768 ,47.1238)
FOOTPRINT_POINT_LONGITUDE = (253.169,252.894,252.481,251.959,251.52 ,251.217,250.86,250.666,250.683,250.698 ,250.72,250.731,250.738,250.744,250.75, 250.756,250.764,250.769,250.774,250.779 ,250.784,250.788,250.795,250.799, 250.803,250.809,250.813,250.816,250.82, 250.823,250.827,250.83,250.834,250.837, 250.839,250.84,250.841,250.842,250.843, 250.844,250.846,250.846,250.846,250.846 ,250.845,250.845,250.844,250.843, 250.842,251.253,251.695,252.049,252.491 ,252.757,253.111,253.466,253.833, 253.827,253.822,253.817,253.811,253.806 ,253.8,253.794,253.788,253.783,253.774, 253.765,253.759,253.752,253.746,253.74, 253.734,253.728,253.718,253.712,253.705 ,253.698,253.691,253.681,253.674, 253.667,253.66,253.653,253.641,253.634, 253.627,253.619,253.612,253.605,253.598 ,253.592,253.584,253.577,253.57,253.563 ,253.547,253.533,253.51,253.169)
ORBIT_NUMBER = 13905
ORBITAL_ECCENTRICITY = 0.571
ORBITAL_INCLINATION = 86.92
ORBITAL_SEMIMAJOR_AXIS = 8761.68
PERIAPSIS_ALTITUDE = 385.77
PERIAPSIS_ARGUMENT_ANGLE = 101.36
PERIAPSIS_TIME = 2014-12-15T20:38:18.000Z
SPACECRAFT_ORIENTATION = (0.0,-1.0,0.0)
^MEX_ORIENTATION_DESC = "MEX_ORIENTATION_DESC.TXT"
SPACECRAFT_POINTING_MODE = NADIR
^MEX_POINTING_DESC = "MEX_POINTING_DESC.TXT"
RIGHT_ASCENSION = -1e+32
DECLINATION = -1e+32
OFFSET_ANGLE = -1e+32
SPACECRAFT_SOLAR_DISTANCE = 2.0664e+08
TARGET_NAME = MARS
/* CAMERA DATA ELEMENTS */
DETECTOR_TEMPERATURE = 18.3705
FOCAL_PLANE_TEMPERATURE = 9.8067
INST_CMPRS_NAME = "DISCRETE COSINE TRANSFORMATION (DCT)"
INST_CMPRS_RATIO = 5.53438
INST_CMPRS_QUALITY = 0
INST_CMPRS_QUANTZ_TBL_ID = 0
INSTRUMENT_TEMPERATURE = 12.0496
LENS_TEMPERATURE = 10.4184
MACROPIXEL_SIZE = 1
MISSING_FRAMES = 0
PIXEL_SUBSAMPLING_FLAG = N
SIGNAL_CHAIN_ID = 2
/* RADIOMETRIC DATA ELEMENTS */
BANDWIDTH = 180.0
CENTER_FILTER_WAVELENGTH = 677.0
RADIANCE_OFFSET = 3.66938
RADIANCE_SCALING_FACTOR = 0.0258023
REFLECTANCE_SCALING_FACTOR = 0.000574815
MEX:REFLECTANCE_OFFSET = 0.0817453
/* IMAGE OBJECT DEFINITIONS */
OBJECT = IMAGE
  INTERCHANGE_FORMAT = BINARY
  LINES = 23385
  LINE_SAMPLES = 6357
  SAMPLE_TYPE = UNSIGNED_INTEGER
  SAMPLE_BITS = 8
  BANDS = 1
  BAND_STORAGE_TYPE = BAND_SEQUENTIAL
  MAXIMUM = 255
  MEAN = 117.68
  MINIMUM = 1
  STANDARD_DEVIATION = 36.3498
END_OBJECT = IMAGE
/* MAP OBJECT DEFINITIONS */
OBJECT = IMAGE_MAP_PROJECTION
  ^DATA_SET_MAP_PROJECTION_CATALOG= "DSMAP.CAT"
  A_AXIS_RADIUS = 3396.0
  B_AXIS_RADIUS = 3396.0
  C_AXIS_RADIUS = 3396.0
  CENTER_LATITUDE = 0.0
  CENTER_LONGITUDE = 252.0
  COORDINATE_SYSTEM_NAME = PLANETOGRAPHIC
  COORDINATE_SYSTEM_TYPE = "BODY-FIXED ROTATING"
  EASTERNMOST_LONGITUDE = 253.833
  FIRST_STANDARD_PARALLEL = "N/A"
  LINE_FIRST_PIXEL = 1
  LINE_LAST_PIXEL = 23385
  LINE_PROJECTION_OFFSET = 111550.0
  MAP_PROJECTION_ROTATION = 0.0
  MAP_PROJECTION_TYPE = SINUSOIDAL
  MAP_RESOLUTION = 2370.85521546667
  MAP_SCALE = 0.025
  MAXIMUM_LATITUDE = 47.1238
  MINIMUM_LATITUDE = 37.2299
  POSITIVE_LONGITUDE_DIRECTION = EAST
  REFERENCE_LATITUDE = "N/A"
  REFERENCE_LONGITUDE = "N/A"
  SAMPLE_FIRST_PIXEL = 1
  SAMPLE_LAST_PIXEL = 6357
  SAMPLE_PROJECTION_OFFSET = 2584.0
  SECOND_STANDARD_PARALLEL = "N/A"
  WESTERNMOST_LONGITUDE = 250.666
END_OBJECT = IMAGE_MAP_PROJECTION
/* The JPEG2000 image data file associated with this label. */
OBJECT = COMPRESSED_FILE
  FILE_NAME = "HD905_0000_S13.JP2"
  RECORD_TYPE = UNDEFINED
  FILE_RECORDS = UNK
  ENCODING_TYPE = "JP2"
  INTERCHANGE_FORMAT = BINARY
  UNCOMPRESSED_FILE_NAME = "HD905_0000_S13.IMG"
  REQUIRED_STORAGE_BYTES = "148690230"
  ^DESCRIPTION = "JP2INFO.TXT"
END_OBJECT = COMPRESSED_FILE
END
