PDS_VERSION_ID = PDS3
/* FILE DATA ELEMENTS */
RECORD_TYPE = STREAM
/* POINTERS TO DATA OBJECTS */
^COMPRESSED_FILE = "HD912_0000_BL3.JP2"
/* IDENTIFICATION DATA ELEMENTS */
DATA_SET_ID = "MEX-M-HRSC-5-REFDR-MAPPROJECTED-V3.0"
DATA_SET_NAME = "MARS EXPRESS HRSC MAP PROJECTED REFDR V3.0"
DETECTOR_ID = MEX_HRSC_BLUE
EVENT_TYPE = "MARS-REGIONAL-MAPPING-Vo-Te"
INSTRUMENT_HOST_ID = MEX
INSTRUMENT_HOST_NAME = "MARS EXPRESS"
INSTRUMENT_ID = HRSC
INSTRUMENT_NAME = "HIGH RESOLUTION STEREO CAMERA"
MISSION_NAME = "MARS EXPRESS"
MISSION_PHASE_NAME = ME_Phase_31
PROCESSING_LEVEL_ID = 3
PRODUCT_CREATION_TIME = 2016-10-29T17:34:02.000Z
PRODUCT_ID = "HD912_0000_BL3.JP2"
RELEASE_ID = 0126
REVISION_ID = 0000
/* QUALITY DATA ELEMENTS */
DATA_QUALITY_ID = 1
DATA_QUALITY_DESC = "Data calculated based on original SPICE kernels"
/* TIME DATA ELEMENTS */
SPACECRAFT_CLOCK_START_COUNT = "1/0366932440.08259"
SPACECRAFT_CLOCK_STOP_COUNT = "1/0366932768.27531"
START_TIME = 2014-12-17T21:41:43.696Z
STOP_TIME = 2014-12-17T21:45:01.347Z
/* ORBITAL DATA ELEMENTS */
ASCENDING_NODE_LONGITUDE = 312.52
MAXIMUM_RESOLUTION = 170.8
FOOTPRINT_POINT_LATITUDE = (53.6232,53.6144,53.5973,53.5772, 53.5607,53.4501,52.8504,52.4464,52.1421 ,51.9369,51.7321,51.5275,51.2161, 51.0084,50.801,50.4852,50.2747,50.0644, 49.8509,49.6374,49.4243,49.2088,48.9925 ,48.7765,48.5585,48.3393,48.1206, 47.8997,47.6778,47.4563,47.1196,46.8953 ,46.6691,46.4417,46.2148,45.9847, 45.6398,45.4072,45.0586,44.8233,44.4709 ,44.2328,43.9953,43.6352,43.3952, 43.1521,42.7871,42.542,42.4873,42.4951, 42.5004,42.5051,42.5109,42.5143,42.5166 ,42.5208,42.7671,43.0128,43.2564,43.5, 43.7411,43.9837,44.2217,44.5791,44.815, 45.1686,45.4017,45.7512,45.9818,46.3275 ,46.5555,46.8975,47.1228,47.3485, 47.5728,47.9066,48.1291,48.3488,48.5688 ,48.7886,49.0054,49.2225,49.44,49.654, 49.8683,50.1891,50.4004,50.6119,50.9282 ,51.1367,51.3454,51.6573,51.8629, 52.0687,52.377,52.5795,52.7823,52.9855, 53.3871,53.6232)
FOOTPRINT_POINT_LONGITUDE = (257.367,256.913,256.203,255.523, 255.042,254.397,254.448,254.48,254.504, 254.519,254.534,254.549,254.57,254.584, 254.598,254.618,254.631,254.643,254.656 ,254.668,254.679,254.691,254.702, 254.713,254.723,254.734,254.744,254.754 ,254.764,254.774,254.787,254.796, 254.805,254.813,254.821,254.829,254.841 ,254.848,254.858,254.865,254.873, 254.879,254.884,254.891,254.896,254.9, 254.905,254.908,255.449,255.842,256.144 ,256.446,256.87,257.295,257.69,258.138, 258.128,258.118,258.107,258.097,258.087 ,258.079,258.067,258.051,258.04,258.024 ,258.012,257.996,257.984,257.967, 257.956,257.938,257.927,257.915,257.903 ,257.884,257.871,257.859,257.846, 257.833,257.82,257.807,257.794,257.781, 257.767,257.747,257.733,257.719,257.698 ,257.683,257.669,257.647,257.632, 257.617,257.594,257.579,257.563,257.547 ,257.516,257.367)
ORBIT_NUMBER = 13912
ORBITAL_ECCENTRICITY = 0.57
ORBITAL_INCLINATION = 86.92
ORBITAL_SEMIMAJOR_AXIS = 8761.19
PERIAPSIS_ALTITUDE = 386.06
PERIAPSIS_ARGUMENT_ANGLE = 100.16
PERIAPSIS_TIME = 2014-12-17T21:34:37.000Z
SPACECRAFT_ORIENTATION = (0.0,-1.0,0.0)
^MEX_ORIENTATION_DESC = "MEX_ORIENTATION_DESC.TXT"
SPACECRAFT_POINTING_MODE = NADIR
^MEX_POINTING_DESC = "MEX_POINTING_DESC.TXT"
RIGHT_ASCENSION = -1e+32
DECLINATION = -1e+32
OFFSET_ANGLE = -1e+32
SPACECRAFT_SOLAR_DISTANCE = 2.0666e+08
TARGET_NAME = MARS
/* CAMERA DATA ELEMENTS */
DETECTOR_TEMPERATURE = 18.5744
FOCAL_PLANE_TEMPERATURE = 9.195
INST_CMPRS_NAME = "DISCRETE COSINE TRANSFORMATION (DCT)"
INST_CMPRS_RATIO = 13.2099
INST_CMPRS_QUALITY = 0
INST_CMPRS_QUANTZ_TBL_ID = 0
INSTRUMENT_TEMPERATURE = 11.8457
LENS_TEMPERATURE = 9.3989
MACROPIXEL_SIZE = 8
MISSING_FRAMES = 0
PIXEL_SUBSAMPLING_FLAG = N
SIGNAL_CHAIN_ID = 2
/* RADIOMETRIC DATA ELEMENTS */
BANDWIDTH = 76.0
CENTER_FILTER_WAVELENGTH = 444.0
RADIANCE_OFFSET = 0.554791
RADIANCE_SCALING_FACTOR = 0.00189444
REFLECTANCE_SCALING_FACTOR = 8.31287e-05
MEX:REFLECTANCE_OFFSET = 0.0243444
/* IMAGE OBJECT DEFINITIONS */
OBJECT = IMAGE
  INTERCHANGE_FORMAT = BINARY
  LINES = 3308
  LINE_SAMPLES = 755
  SAMPLE_TYPE = UNSIGNED_INTEGER
  SAMPLE_BITS = 8
  BANDS = 1
  BAND_STORAGE_TYPE = BAND_SEQUENTIAL
  MAXIMUM = 255
  MEAN = 134.665
  MINIMUM = 1
  STANDARD_DEVIATION = 62.4531
END_OBJECT = IMAGE
/* MAP OBJECT DEFINITIONS */
OBJECT = IMAGE_MAP_PROJECTION
  ^DATA_SET_MAP_PROJECTION_CATALOG= "DSMAP.CAT"
  A_AXIS_RADIUS = 3396.0
  B_AXIS_RADIUS = 3396.0
  C_AXIS_RADIUS = 3396.0
  CENTER_LATITUDE = 0.0
  CENTER_LONGITUDE = 256.0
  COORDINATE_SYSTEM_NAME = PLANETOGRAPHIC
  COORDINATE_SYSTEM_TYPE = "BODY-FIXED ROTATING"
  EASTERNMOST_LONGITUDE = 258.138
  FIRST_STANDARD_PARALLEL = "N/A"
  LINE_FIRST_PIXEL = 1
  LINE_LAST_PIXEL = 3308
  LINE_PROJECTION_OFFSET = 15898.5625
  MAP_PROJECTION_ROTATION = 0.0
  MAP_PROJECTION_TYPE = SINUSOIDAL
  MAP_RESOLUTION = 296.356901933333
  MAP_SCALE = 0.2
  MAXIMUM_LATITUDE = 53.6232
  MINIMUM_LATITUDE = 42.4873
  POSITIVE_LONGITUDE_DIRECTION = EAST
  REFERENCE_LATITUDE = "N/A"
  REFERENCE_LONGITUDE = "N/A"
  SAMPLE_FIRST_PIXEL = 1
  SAMPLE_LAST_PIXEL = 755
  SAMPLE_PROJECTION_OFFSET = 291.3125
  SECOND_STANDARD_PARALLEL = "N/A"
  WESTERNMOST_LONGITUDE = 254.397
END_OBJECT = IMAGE_MAP_PROJECTION
/* The JPEG2000 image data file associated with this label. */
OBJECT = COMPRESSED_FILE
  FILE_NAME = "HD912_0000_BL3.JP2"
  RECORD_TYPE = UNDEFINED
  FILE_RECORDS = UNK
  ENCODING_TYPE = "JP2"
  INTERCHANGE_FORMAT = BINARY
  UNCOMPRESSED_FILE_NAME = "HD912_0000_BL3.IMG"
  REQUIRED_STORAGE_BYTES = "2515660"
  ^DESCRIPTION = "JP2INFO.TXT"
END_OBJECT = COMPRESSED_FILE
END
