PDS_VERSION_ID = PDS3
/* FILE DATA ELEMENTS */
RECORD_TYPE = STREAM
/* POINTERS TO DATA OBJECTS */
^COMPRESSED_FILE = "HD912_0000_P23.JP2"
/* IDENTIFICATION DATA ELEMENTS */
DATA_SET_ID = "MEX-M-HRSC-5-REFDR-MAPPROJECTED-V3.0"
DATA_SET_NAME = "MARS EXPRESS HRSC MAP PROJECTED REFDR V3.0"
DETECTOR_ID = MEX_HRSC_P2
EVENT_TYPE = "MARS-REGIONAL-MAPPING-Vo-Te"
INSTRUMENT_HOST_ID = MEX
INSTRUMENT_HOST_NAME = "MARS EXPRESS"
INSTRUMENT_ID = HRSC
INSTRUMENT_NAME = "HIGH RESOLUTION STEREO CAMERA"
MISSION_NAME = "MARS EXPRESS"
MISSION_PHASE_NAME = ME_Phase_31
PROCESSING_LEVEL_ID = 3
PRODUCT_CREATION_TIME = 2016-10-29T17:34:02.000Z
PRODUCT_ID = "HD912_0000_P23.JP2"
RELEASE_ID = 0126
REVISION_ID = 0000
/* QUALITY DATA ELEMENTS */
DATA_QUALITY_ID = 1
DATA_QUALITY_DESC = "Data calculated based on original SPICE kernels"
/* TIME DATA ELEMENTS */
SPACECRAFT_CLOCK_START_COUNT = "1/0366932440.08259"
SPACECRAFT_CLOCK_STOP_COUNT = "1/0366932768.27531"
START_TIME = 2014-12-17T21:42:10.780Z
STOP_TIME = 2014-12-17T21:45:40.725Z
/* ORBITAL DATA ELEMENTS */
ASCENDING_NODE_LONGITUDE = 312.52
MAXIMUM_RESOLUTION = 45.7
FOOTPRINT_POINT_LATITUDE = (53.5867,53.5752,53.5653,53.549,53.5361 ,53.5199,53.3596,52.8567,52.4517, 52.1444,51.9393,51.7345,51.527,51.3193, 51.1121,50.9026,50.6922,50.4824,50.2707 ,50.058,49.8455,49.6312,49.4159,49.2015 ,48.9838,48.6577,48.4382,48.2179, 47.9984,47.7755,47.4415,47.2155,46.9907 ,46.6503,46.4231,46.0777,45.8472, 45.6141,45.382,45.1479,44.9132,44.6768, 44.4406,44.2019,43.8443,43.4829,43.241, 42.8763,42.632,42.4777,42.4827,42.491, 42.4964,42.5048,42.507,42.5111,42.5144, 42.7604,43.0067,43.25,43.4938,43.7348, 43.9803,44.2171,44.4585,44.6933,44.9302 ,45.1659,45.4001,45.7487,45.9813, 46.2117,46.5569,46.7848,47.0122,47.2382 ,47.5769,47.9113,48.1341,48.4655, 48.6866,48.9049,49.1234,49.4488,49.6648 ,49.8808,50.094,50.3079,50.5212,50.7321 ,50.9434,51.1545,51.4673,51.6761, 51.9866,52.1926,52.5017,52.9085,53.2137 ,53.5867)
FOOTPRINT_POINT_LONGITUDE = (257.403,256.815,256.383,255.766, 255.334,254.841,254.303,254.344,254.376 ,254.399,254.414,254.428,254.443, 254.457,254.47,254.483,254.497,254.509, 254.521,254.533,254.545,254.557,254.568 ,254.579,254.589,254.605,254.615, 254.624,254.634,254.643,254.656,254.665 ,254.673,254.685,254.692,254.704, 254.711,254.718,254.725,254.73,254.736, 254.742,254.747,254.752,254.758,254.763 ,254.766,254.77,254.772,255.209,255.512 ,256.048,256.384,256.855,257.225, 257.731,258.251,258.24,258.229,258.218, 258.207,258.195,258.186,258.173,258.163 ,258.15,258.138,258.126,258.114,258.095 ,258.083,258.071,258.053,258.04,258.027 ,258.015,257.995,257.975,257.962, 257.942,257.928,257.915,257.901,257.88, 257.866,257.851,257.837,257.822,257.808 ,257.793,257.778,257.763,257.74,257.725 ,257.702,257.686,257.662,257.629, 257.604,257.403)
ORBIT_NUMBER = 13912
ORBITAL_ECCENTRICITY = 0.57
ORBITAL_INCLINATION = 86.92
ORBITAL_SEMIMAJOR_AXIS = 8761.19
PERIAPSIS_ALTITUDE = 386.06
PERIAPSIS_ARGUMENT_ANGLE = 100.16
PERIAPSIS_TIME = 2014-12-17T21:34:37.000Z
SPACECRAFT_ORIENTATION = (0.0,-1.0,0.0)
^MEX_ORIENTATION_DESC = "MEX_ORIENTATION_DESC.TXT"
SPACECRAFT_POINTING_MODE = NADIR
^MEX_POINTING_DESC = "MEX_POINTING_DESC.TXT"
RIGHT_ASCENSION = -1e+32
DECLINATION = -1e+32
OFFSET_ANGLE = -1e+32
SPACECRAFT_SOLAR_DISTANCE = 2.0666e+08
TARGET_NAME = MARS
/* CAMERA DATA ELEMENTS */
DETECTOR_TEMPERATURE = 18.9822
FOCAL_PLANE_TEMPERATURE = 9.195
INST_CMPRS_NAME = "DISCRETE COSINE TRANSFORMATION (DCT)"
INST_CMPRS_RATIO = 6.12388
INST_CMPRS_QUALITY = 0
INST_CMPRS_QUANTZ_TBL_ID = 0
INSTRUMENT_TEMPERATURE = 11.8457
LENS_TEMPERATURE = 9.3989
MACROPIXEL_SIZE = 2
MISSING_FRAMES = 0
PIXEL_SUBSAMPLING_FLAG = N
SIGNAL_CHAIN_ID = 3
/* RADIOMETRIC DATA ELEMENTS */
BANDWIDTH = 177.0
CENTER_FILTER_WAVELENGTH = 676.5
RADIANCE_OFFSET = 2.59519
RADIANCE_SCALING_FACTOR = 0.0162836
REFLECTANCE_SCALING_FACTOR = 0.00036874
MEX:REFLECTANCE_OFFSET = 0.0587679
/* IMAGE OBJECT DEFINITIONS */
OBJECT = IMAGE
  INTERCHANGE_FORMAT = BINARY
  LINES = 13231
  LINE_SAMPLES = 3018
  SAMPLE_TYPE = UNSIGNED_INTEGER
  SAMPLE_BITS = 8
  BANDS = 1
  BAND_STORAGE_TYPE = BAND_SEQUENTIAL
  MAXIMUM = 255
  MEAN = 127.434
  MINIMUM = 1
  STANDARD_DEVIATION = 53.6914
END_OBJECT = IMAGE
/* MAP OBJECT DEFINITIONS */
OBJECT = IMAGE_MAP_PROJECTION
  ^DATA_SET_MAP_PROJECTION_CATALOG= "DSMAP.CAT"
  A_AXIS_RADIUS = 3396.0
  B_AXIS_RADIUS = 3396.0
  C_AXIS_RADIUS = 3396.0
  CENTER_LATITUDE = 0.0
  CENTER_LONGITUDE = 256.0
  COORDINATE_SYSTEM_NAME = PLANETOGRAPHIC
  COORDINATE_SYSTEM_TYPE = "BODY-FIXED ROTATING"
  EASTERNMOST_LONGITUDE = 258.251
  FIRST_STANDARD_PARALLEL = "N/A"
  LINE_FIRST_PIXEL = 1
  LINE_LAST_PIXEL = 13231
  LINE_PROJECTION_OFFSET = 63595.75
  MAP_PROJECTION_ROTATION = 0.0
  MAP_PROJECTION_TYPE = SINUSOIDAL
  MAP_RESOLUTION = 1185.42760773333
  MAP_SCALE = 0.05
  MAXIMUM_LATITUDE = 53.5867
  MINIMUM_LATITUDE = 42.4777
  POSITIVE_LONGITUDE_DIRECTION = EAST
  REFERENCE_LATITUDE = "N/A"
  REFERENCE_LONGITUDE = "N/A"
  SAMPLE_FIRST_PIXEL = 1
  SAMPLE_LAST_PIXEL = 3018
  SAMPLE_PROJECTION_OFFSET = 1166.75
  SECOND_STANDARD_PARALLEL = "N/A"
  WESTERNMOST_LONGITUDE = 254.303
END_OBJECT = IMAGE_MAP_PROJECTION
/* The JPEG2000 image data file associated with this label. */
OBJECT = COMPRESSED_FILE
  FILE_NAME = "HD912_0000_P23.JP2"
  RECORD_TYPE = UNDEFINED
  FILE_RECORDS = UNK
  ENCODING_TYPE = "JP2"
  INTERCHANGE_FORMAT = BINARY
  UNCOMPRESSED_FILE_NAME = "HD912_0000_P23.IMG"
  REQUIRED_STORAGE_BYTES = "39955302"
  ^DESCRIPTION = "JP2INFO.TXT"
END_OBJECT = COMPRESSED_FILE
END
