PDS_VERSION_ID = PDS3
/* FILE DATA ELEMENTS */
RECORD_TYPE = STREAM
/* POINTERS TO DATA OBJECTS */
^COMPRESSED_FILE = "HD913_0000_S23.JP2"
/* IDENTIFICATION DATA ELEMENTS */
DATA_SET_ID = "MEX-M-HRSC-5-REFDR-MAPPROJECTED-V3.0"
DATA_SET_NAME = "MARS EXPRESS HRSC MAP PROJECTED REFDR V3.0"
DETECTOR_ID = MEX_HRSC_S2
EVENT_TYPE = "MARS-REGIONAL-MAPPING-Fl-Pf"
INSTRUMENT_HOST_ID = MEX
INSTRUMENT_HOST_NAME = "MARS EXPRESS"
INSTRUMENT_ID = HRSC
INSTRUMENT_NAME = "HIGH RESOLUTION STEREO CAMERA"
MISSION_NAME = "MARS EXPRESS"
MISSION_PHASE_NAME = ME_Phase_31
PROCESSING_LEVEL_ID = 3
PRODUCT_CREATION_TIME = 2016-10-29T17:34:02.000Z
PRODUCT_ID = "HD913_0000_S23.JP2"
RELEASE_ID = 0126
REVISION_ID = 0000
/* QUALITY DATA ELEMENTS */
DATA_QUALITY_ID = 1
DATA_QUALITY_DESC = "Data calculated based on original SPICE kernels"
/* TIME DATA ELEMENTS */
SPACECRAFT_CLOCK_START_COUNT = "1/0366957730.09051"
SPACECRAFT_CLOCK_STOP_COUNT = "1/0366958067.25884"
START_TIME = 2014-12-18T04:44:29.698Z
STOP_TIME = 2014-12-18T04:47:51.539Z
/* ORBITAL DATA ELEMENTS */
ASCENDING_NODE_LONGITUDE = 312.5
MAXIMUM_RESOLUTION = 60
FOOTPRINT_POINT_LATITUDE = (46.0844,46.0823,46.0802,46.0778, 46.0723,46.0688,46.065,46.0609,46.0563, 46.0467,46.0411,45.7997,45.4606,45.2049 ,44.8612,44.6028,44.2562,43.9069, 43.6433,43.2902,43.0246,42.6675,42.4872 ,42.2178,42.036,41.8554,41.6727,41.4904 ,41.3068,41.1235,40.9384,40.7536, 40.5672,40.3812,40.1936,39.9115,39.7231 ,39.5334,39.2483,39.0574,38.8658, 38.5774,38.2873,37.9955,37.8002,37.6041 ,37.3088,37.1113,36.96,36.9593,36.9588, 36.9581,36.9567,36.9546,36.9523,36.9498 ,36.9467,36.9427,36.9396,36.9361, 36.9336,37.1343,37.3338,37.6317,37.9281 ,38.2232,38.5164,38.7111,38.9049, 39.1941,39.3867,39.5781,39.8637,40.0538 ,40.2429,40.4321,40.6195,40.8069, 40.9931,41.1795,41.3643,41.641,41.917, 42.0993,42.2821,42.4631,42.6445,42.8242 ,43.0936,43.2721,43.4509,43.8053, 44.0698,44.3331,44.7691,45.2016,45.5446 ,45.8005,46.1408,46.0844)
FOOTPRINT_POINT_LONGITUDE = (155.658,155.319,155.048,154.777,154.27 ,153.999,153.729,153.458,153.188,152.68 ,152.408,152.358,152.365,152.37,152.376 ,152.38,152.385,152.39,152.392,152.395, 152.397,152.399,152.399,152.4,152.4, 152.4,152.4,152.399,152.399,152.398, 152.397,152.396,152.395,152.393,152.391 ,152.389,152.386,152.384,152.38,152.377 ,152.374,152.369,152.364,152.358, 152.354,152.349,152.342,152.338,152.648 ,152.924,153.239,153.514,153.828, 154.142,154.456,154.77,155.084,155.516, 155.83,156.105,156.395,156.387,156.378, 156.365,156.352,156.339,156.326,156.317 ,156.309,156.296,156.287,156.278, 156.265,156.256,156.247,156.239,156.23, 156.221,156.212,156.203,156.194,156.181 ,156.167,156.158,156.149,156.14,156.131 ,156.121,156.107,156.098,156.089,156.07 ,156.056,156.042,156.018,155.994, 155.974,155.96,155.94,155.658)
ORBIT_NUMBER = 13913
ORBITAL_ECCENTRICITY = 0.57
ORBITAL_INCLINATION = 86.92
ORBITAL_SEMIMAJOR_AXIS = 8762.61
PERIAPSIS_ALTITUDE = 387.39
PERIAPSIS_ARGUMENT_ANGLE = 100.0
PERIAPSIS_TIME = 2014-12-18T04:34:06.000Z
SPACECRAFT_ORIENTATION = (0.0,-1.0,0.0)
^MEX_ORIENTATION_DESC = "MEX_ORIENTATION_DESC.TXT"
SPACECRAFT_POINTING_MODE = NADIR
^MEX_POINTING_DESC = "MEX_POINTING_DESC.TXT"
RIGHT_ASCENSION = -1e+32
DECLINATION = -1e+32
OFFSET_ANGLE = -1e+32
SPACECRAFT_SOLAR_DISTANCE = 2.06664e+08
TARGET_NAME = MARS
/* CAMERA DATA ELEMENTS */
DETECTOR_TEMPERATURE = 18.9822
FOCAL_PLANE_TEMPERATURE = 9.195
INST_CMPRS_NAME = "DISCRETE COSINE TRANSFORMATION (DCT)"
INST_CMPRS_RATIO = 11.3015
INST_CMPRS_QUALITY = 0
INST_CMPRS_QUANTZ_TBL_ID = 0
INSTRUMENT_TEMPERATURE = 11.6418
LENS_TEMPERATURE = 9.6028
MACROPIXEL_SIZE = 2
MISSING_FRAMES = 0
PIXEL_SUBSAMPLING_FLAG = N
SIGNAL_CHAIN_ID = 1
/* RADIOMETRIC DATA ELEMENTS */
BANDWIDTH = 178.0
CENTER_FILTER_WAVELENGTH = 679.0
RADIANCE_OFFSET = 5.12065
RADIANCE_SCALING_FACTOR = 0.0128724
REFLECTANCE_SCALING_FACTOR = 0.000291151
MEX:REFLECTANCE_OFFSET = 0.11582
/* IMAGE OBJECT DEFINITIONS */
OBJECT = IMAGE
  INTERCHANGE_FORMAT = BINARY
  LINES = 10977
  LINE_SAMPLES = 3342
  SAMPLE_TYPE = UNSIGNED_INTEGER
  SAMPLE_BITS = 8
  BANDS = 1
  BAND_STORAGE_TYPE = BAND_SEQUENTIAL
  MAXIMUM = 255
  MEAN = 119.805
  MINIMUM = 1
  STANDARD_DEVIATION = 48.8178
END_OBJECT = IMAGE
/* MAP OBJECT DEFINITIONS */
OBJECT = IMAGE_MAP_PROJECTION
  ^DATA_SET_MAP_PROJECTION_CATALOG= "DSMAP.CAT"
  A_AXIS_RADIUS = 3396.0
  B_AXIS_RADIUS = 3396.0
  C_AXIS_RADIUS = 3396.0
  CENTER_LATITUDE = 0.0
  CENTER_LONGITUDE = 154.0
  COORDINATE_SYSTEM_NAME = PLANETOGRAPHIC
  COORDINATE_SYSTEM_TYPE = "BODY-FIXED ROTATING"
  EASTERNMOST_LONGITUDE = 156.395
  FIRST_STANDARD_PARALLEL = "N/A"
  LINE_FIRST_PIXEL = 1
  LINE_LAST_PIXEL = 10977
  LINE_PROJECTION_OFFSET = 54729.75
  MAP_PROJECTION_ROTATION = 0.0
  MAP_PROJECTION_TYPE = SINUSOIDAL
  MAP_RESOLUTION = 1185.42760773333
  MAP_SCALE = 0.05
  MAXIMUM_LATITUDE = 46.1408
  MINIMUM_LATITUDE = 36.9336
  POSITIVE_LONGITUDE_DIRECTION = EAST
  REFERENCE_LATITUDE = "N/A"
  REFERENCE_LONGITUDE = "N/A"
  SAMPLE_FIRST_PIXEL = 1
  SAMPLE_LAST_PIXEL = 3342
  SAMPLE_PROJECTION_OFFSET = 1362.25
  SECOND_STANDARD_PARALLEL = "N/A"
  WESTERNMOST_LONGITUDE = 152.338
END_OBJECT = IMAGE_MAP_PROJECTION
/* The JPEG2000 image data file associated with this label. */
OBJECT = COMPRESSED_FILE
  FILE_NAME = "HD913_0000_S23.JP2"
  RECORD_TYPE = UNDEFINED
  FILE_RECORDS = UNK
  ENCODING_TYPE = "JP2"
  INTERCHANGE_FORMAT = BINARY
  UNCOMPRESSED_FILE_NAME = "HD913_0000_S23.IMG"
  REQUIRED_STORAGE_BYTES = "36708528"
  ^DESCRIPTION = "JP2INFO.TXT"
END_OBJECT = COMPRESSED_FILE
END
