PDS_VERSION_ID = PDS3
/* FILE DATA ELEMENTS */
RECORD_TYPE = STREAM
/* POINTERS TO DATA OBJECTS */
^COMPRESSED_FILE = "HD976_0000_P23.JP2"
/* IDENTIFICATION DATA ELEMENTS */
DATA_SET_ID = "MEX-M-HRSC-5-REFDR-MAPPROJECTED-V3.0"
DATA_SET_NAME = "MARS EXPRESS HRSC MAP PROJECTED REFDR V3.0"
DETECTOR_ID = MEX_HRSC_P2
EVENT_TYPE = "MARS-REGIONAL-MAPPING-Fl-Gl-Pf"
INSTRUMENT_HOST_ID = MEX
INSTRUMENT_HOST_NAME = "MARS EXPRESS"
INSTRUMENT_ID = HRSC
INSTRUMENT_NAME = "HIGH RESOLUTION STEREO CAMERA"
MISSION_NAME = "MARS EXPRESS"
MISSION_PHASE_NAME = ME_Phase_32
PROCESSING_LEVEL_ID = 3
PRODUCT_CREATION_TIME = 2016-10-30T01:41:23.000Z
PRODUCT_ID = "HD976_0000_P23.JP2"
RELEASE_ID = 0127
REVISION_ID = 0000
/* QUALITY DATA ELEMENTS */
DATA_QUALITY_ID = 1
DATA_QUALITY_DESC = "Data calculated based on original SPICE kernels"
/* TIME DATA ELEMENTS */
SPACECRAFT_CLOCK_START_COUNT = "1/0368543372.08248"
SPACECRAFT_CLOCK_STOP_COUNT = "1/0368543761.12972"
START_TIME = 2015-01-05T13:11:30.486Z
STOP_TIME = 2015-01-05T13:15:17.079Z
/* ORBITAL DATA ELEMENTS */
ASCENDING_NODE_LONGITUDE = 311.32
MAXIMUM_RESOLUTION = 58.6
FOOTPRINT_POINT_LATITUDE = (55.0395,55.0316,55.021,55.0103,54.9935 ,54.9803,54.9588,55.0044,54.7164, 54.3301,54.0393,53.7456,53.3525,52.9566 ,52.5573,52.1547,51.9525,51.6471, 51.3402,51.1347,50.9281,50.721,50.5128, 50.3041,50.094,49.7778,49.5662,49.3531, 49.0324,48.8178,48.6016,48.2764,47.949, 47.6197,47.288,47.0658,46.8427,46.6189, 46.3941,46.1679,45.941,45.7134,45.4843, 45.2543,45.0236,44.7921,44.559,44.3626, 44.3696,44.375,44.3797,44.3843,44.387, 44.3891,44.3904,44.3907,44.3903,44.3893 ,44.3862,44.622,44.8573,45.0914,45.324, 45.6716,45.9016,46.1316,46.3601,46.5871 ,46.8138,47.0392,47.2633,47.5983, 47.8207,48.0418,48.3717,48.6995,48.9172 ,49.1337,49.4567,49.6713,49.8846,50.203 ,50.4146,50.6247,50.9385,51.1475, 51.3544,51.5616,51.767,51.9725,52.176, 52.3802,52.5822,53.0857,53.4847,53.8804 ,54.1756,54.4683,54.8568,55.0395)
FOOTPRINT_POINT_LONGITUDE = (194.092,193.557,192.982,192.489, 191.833,191.383,190.728,189.864,189.889 ,189.921,189.944,189.967,189.995, 190.022,190.048,190.073,190.085,190.102 ,190.118,190.129,190.139,190.149, 190.158,190.167,190.176,190.189,190.197 ,190.205,190.215,190.222,190.229, 190.238,190.246,190.254,190.261,190.265 ,190.269,190.272,190.275,190.278,190.28 ,190.282,190.284,190.286,190.287, 190.287,190.288,190.56,190.971,191.336, 191.7,192.155,192.518,192.883,193.292, 193.656,194.021,194.34,194.842,194.983, 194.97,194.958,194.945,194.926,194.912, 194.9,194.886,194.873,194.86,194.846, 194.833,194.812,194.799,194.785,194.764 ,194.743,194.728,194.714,194.692, 194.677,194.662,194.64,194.625,194.61, 194.586,194.571,194.555,194.539,194.523 ,194.507,194.491,194.475,194.458, 194.417,194.383,194.348,194.322,194.295 ,194.259,194.092)
ORBIT_NUMBER = 13976
ORBITAL_ECCENTRICITY = 0.57
ORBITAL_INCLINATION = 86.92
ORBITAL_SEMIMAJOR_AXIS = 8759.45
PERIAPSIS_ALTITUDE = 386.74
PERIAPSIS_ARGUMENT_ANGLE = 89.15
PERIAPSIS_TIME = 2015-01-05T13:00:58.000Z
SPACECRAFT_ORIENTATION = (0.0,-1.0,0.0)
^MEX_ORIENTATION_DESC = "MEX_ORIENTATION_DESC.TXT"
SPACECRAFT_POINTING_MODE = NADIR
^MEX_POINTING_DESC = "MEX_POINTING_DESC.TXT"
RIGHT_ASCENSION = -1e+32
DECLINATION = -1e+32
OFFSET_ANGLE = -1e+32
SPACECRAFT_SOLAR_DISTANCE = 2.07257e+08
TARGET_NAME = MARS
/* CAMERA DATA ELEMENTS */
DETECTOR_TEMPERATURE = 18.7783
FOCAL_PLANE_TEMPERATURE = 8.7872
INST_CMPRS_NAME = "DISCRETE COSINE TRANSFORMATION (DCT)"
INST_CMPRS_RATIO = 8.84261
INST_CMPRS_QUALITY = 0
INST_CMPRS_QUANTZ_TBL_ID = 0
INSTRUMENT_TEMPERATURE = 11.4379
LENS_TEMPERATURE = 9.195
MACROPIXEL_SIZE = 2
MISSING_FRAMES = 0
PIXEL_SUBSAMPLING_FLAG = N
SIGNAL_CHAIN_ID = 3
/* RADIOMETRIC DATA ELEMENTS */
BANDWIDTH = 177.0
CENTER_FILTER_WAVELENGTH = 676.5
RADIANCE_OFFSET = 1.63129
RADIANCE_SCALING_FACTOR = 0.0136288
REFLECTANCE_SCALING_FACTOR = 0.000310411
MEX:REFLECTANCE_OFFSET = 0.0371543
/* IMAGE OBJECT DEFINITIONS */
OBJECT = IMAGE
  INTERCHANGE_FORMAT = BINARY
  LINES = 12780
  LINE_SAMPLES = 3689
  SAMPLE_TYPE = UNSIGNED_INTEGER
  SAMPLE_BITS = 8
  BANDS = 1
  BAND_STORAGE_TYPE = BAND_SEQUENTIAL
  MAXIMUM = 255
  MEAN = 162.212
  MINIMUM = 1
  STANDARD_DEVIATION = 79.7938
END_OBJECT = IMAGE
/* MAP OBJECT DEFINITIONS */
OBJECT = IMAGE_MAP_PROJECTION
  ^DATA_SET_MAP_PROJECTION_CATALOG= "DSMAP.CAT"
  A_AXIS_RADIUS = 3396.0
  B_AXIS_RADIUS = 3396.0
  C_AXIS_RADIUS = 3396.0
  CENTER_LATITUDE = 0.0
  CENTER_LONGITUDE = 192.0
  COORDINATE_SYSTEM_NAME = PLANETOGRAPHIC
  COORDINATE_SYSTEM_TYPE = "BODY-FIXED ROTATING"
  EASTERNMOST_LONGITUDE = 194.983
  FIRST_STANDARD_PARALLEL = "N/A"
  LINE_FIRST_PIXEL = 1
  LINE_LAST_PIXEL = 12780
  LINE_PROJECTION_OFFSET = 65309.25
  MAP_PROJECTION_ROTATION = 0.0
  MAP_PROJECTION_TYPE = SINUSOIDAL
  MAP_RESOLUTION = 1185.42760773333
  MAP_SCALE = 0.05
  MAXIMUM_LATITUDE = 55.0395
  MINIMUM_LATITUDE = 44.3626
  POSITIVE_LONGITUDE_DIRECTION = EAST
  REFERENCE_LATITUDE = "N/A"
  REFERENCE_LONGITUDE = "N/A"
  SAMPLE_FIRST_PIXEL = 1
  SAMPLE_LAST_PIXEL = 3689
  SAMPLE_PROJECTION_OFFSET = 1351.75
  SECOND_STANDARD_PARALLEL = "N/A"
  WESTERNMOST_LONGITUDE = 189.864
END_OBJECT = IMAGE_MAP_PROJECTION
/* The JPEG2000 image data file associated with this label. */
OBJECT = COMPRESSED_FILE
  FILE_NAME = "HD976_0000_P23.JP2"
  RECORD_TYPE = UNDEFINED
  FILE_RECORDS = UNK
  ENCODING_TYPE = "JP2"
  INTERCHANGE_FORMAT = BINARY
  UNCOMPRESSED_FILE_NAME = "HD976_0000_P23.IMG"
  REQUIRED_STORAGE_BYTES = "47167554"
  ^DESCRIPTION = "JP2INFO.TXT"
END_OBJECT = COMPRESSED_FILE
END
