PDS_VERSION_ID = PDS3
/* FILE DATA ELEMENTS */
RECORD_TYPE = STREAM
/* POINTERS TO DATA OBJECTS */
^COMPRESSED_FILE = "HD977_0000_RE3.JP2"
/* IDENTIFICATION DATA ELEMENTS */
DATA_SET_ID = "MEX-M-HRSC-5-REFDR-MAPPROJECTED-V3.0"
DATA_SET_NAME = "MARS EXPRESS HRSC MAP PROJECTED REFDR V3.0"
DETECTOR_ID = MEX_HRSC_RED
EVENT_TYPE = "MARS-REGIONAL-MAPPING-Fl-Gl-Pf"
INSTRUMENT_HOST_ID = MEX
INSTRUMENT_HOST_NAME = "MARS EXPRESS"
INSTRUMENT_ID = HRSC
INSTRUMENT_NAME = "HIGH RESOLUTION STEREO CAMERA"
MISSION_NAME = "MARS EXPRESS"
MISSION_PHASE_NAME = ME_Phase_32
PROCESSING_LEVEL_ID = 3
PRODUCT_CREATION_TIME = 2016-10-30T01:41:23.000Z
PRODUCT_ID = "HD977_0000_RE3.JP2"
RELEASE_ID = 0127
REVISION_ID = 0000
/* QUALITY DATA ELEMENTS */
DATA_QUALITY_ID = 1
DATA_QUALITY_DESC = "Data calculated based on original SPICE kernels"
/* TIME DATA ELEMENTS */
SPACECRAFT_CLOCK_START_COUNT = "1/0368568634.09031"
SPACECRAFT_CLOCK_STOP_COUNT = "1/0368568998.05872"
START_TIME = 2015-01-05T20:13:13.671Z
STOP_TIME = 2015-01-05T20:16:13.916Z
/* ORBITAL DATA ELEMENTS */
ASCENDING_NODE_LONGITUDE = 311.3
MAXIMUM_RESOLUTION = 142
FOOTPRINT_POINT_LATITUDE = (49.595,49.5936,49.5915,49.5887,49.5839 ,49.5777,49.5726,49.5652,49.5585, 49.5512,49.5431,49.5344,49.6158,49.3292 ,49.1137,48.8243,48.4614,48.2422, 47.9485,47.6529,47.3558,47.0566,46.7557 ,46.4529,46.2261,46.0732,45.8437, 45.6904,45.5364,45.3823,45.2275,45.0725 ,44.9167,44.6825,44.5261,44.3689, 44.1324,43.9742,43.8154,43.5764,43.3366 ,43.1762,43.0151,42.8536,42.6921, 42.5297,42.2852,42.1219,41.9622,41.9664 ,41.969,41.9709,41.9722,41.9724,41.9717 ,41.9708,41.9692,41.9668,41.9641, 41.9593,41.9552,41.9523,42.1187,42.284, 42.5313,42.7775,43.0227,43.1853,43.3473 ,43.5899,43.7512,43.912,44.0721,44.2324 ,44.3916,44.5507,44.709,44.9456,45.103, 45.2597,45.4161,45.5719,45.8047,45.9599 ,46.1138,46.2682,46.4213,46.5746, 46.8786,47.1055,47.4078,47.7079,48.0062 ,48.2289,48.524,48.7441,49.0368,49.3276 ,49.6171,49.595)
FOOTPRINT_POINT_LONGITUDE = (92.1679,91.8315,91.4957,91.1602, 90.6987,90.2374,89.9024,89.4835,89.1486 ,88.8132,88.4775,88.1412,87.9061, 87.9158,87.9227,87.9311,87.9405,87.9457 ,87.9522,87.9583,87.9637,87.9687, 87.9732,87.9771,87.979,87.9804,87.9823, 87.9832,87.9839,87.9845,87.985,87.9853, 87.9854,87.9853,87.985,87.9845,87.9835, 87.9827,87.9817,87.9799,87.9775,87.9759 ,87.9739,87.972,87.9696,87.9673,87.9635 ,87.9608,88.0482,88.4715,88.8468, 89.2217,89.6426,90.1104,90.4844,90.8121 ,91.1399,91.5146,91.8422,92.3108, 92.6394,92.9842,92.9755,92.9668,92.9537 ,92.9405,92.9273,92.9182,92.9091, 92.8957,92.8868,92.8779,92.8689,92.86, 92.851,92.8421,92.833,92.8193,92.8101, 92.8009,92.7917,92.7825,92.7684,92.7591 ,92.7498,92.7404,92.731,92.7215,92.702, 92.6875,92.6685,92.6491,92.6294,92.6145 ,92.5944,92.5792,92.5591,92.5386,92.518 ,92.1679)
ORBIT_NUMBER = 13977
ORBITAL_ECCENTRICITY = 0.57
ORBITAL_INCLINATION = 86.93
ORBITAL_SEMIMAJOR_AXIS = 8758.61
PERIAPSIS_ALTITUDE = 385.82
PERIAPSIS_ARGUMENT_ANGLE = 88.97
PERIAPSIS_TIME = 2015-01-05T20:00:29.000Z
SPACECRAFT_ORIENTATION = (0.0,-1.0,0.0)
^MEX_ORIENTATION_DESC = "MEX_ORIENTATION_DESC.TXT"
SPACECRAFT_POINTING_MODE = NADIR
^MEX_POINTING_DESC = "MEX_POINTING_DESC.TXT"
RIGHT_ASCENSION = -1e+32
DECLINATION = -1e+32
OFFSET_ANGLE = -1e+32
SPACECRAFT_SOLAR_DISTANCE = 2.07272e+08
TARGET_NAME = MARS
/* CAMERA DATA ELEMENTS */
DETECTOR_TEMPERATURE = 18.7783
FOCAL_PLANE_TEMPERATURE = 8.5833
INST_CMPRS_NAME = "DISCRETE COSINE TRANSFORMATION (DCT)"
INST_CMPRS_RATIO = 17.2144
INST_CMPRS_QUALITY = 0
INST_CMPRS_QUANTZ_TBL_ID = 0
INSTRUMENT_TEMPERATURE = 11.234
LENS_TEMPERATURE = 8.7872
MACROPIXEL_SIZE = 4
MISSING_FRAMES = 0
PIXEL_SUBSAMPLING_FLAG = N
SIGNAL_CHAIN_ID = 2
/* RADIOMETRIC DATA ELEMENTS */
BANDWIDTH = 48.0
CENTER_FILTER_WAVELENGTH = 748.0
RADIANCE_OFFSET = 0.736224
RADIANCE_SCALING_FACTOR = 0.00177506
REFLECTANCE_SCALING_FACTOR = 0.00017403
MEX:REFLECTANCE_OFFSET = 0.0721806
/* IMAGE OBJECT DEFINITIONS */
OBJECT = IMAGE
  INTERCHANGE_FORMAT = BINARY
  LINES = 4598
  LINE_SAMPLES = 1938
  SAMPLE_TYPE = UNSIGNED_INTEGER
  SAMPLE_BITS = 8
  BANDS = 1
  BAND_STORAGE_TYPE = BAND_SEQUENTIAL
  MAXIMUM = 255
  MEAN = 127.066
  MINIMUM = 1
  STANDARD_DEVIATION = 38.0219
END_OBJECT = IMAGE
/* MAP OBJECT DEFINITIONS */
OBJECT = IMAGE_MAP_PROJECTION
  ^DATA_SET_MAP_PROJECTION_CATALOG= "DSMAP.CAT"
  A_AXIS_RADIUS = 3396.0
  B_AXIS_RADIUS = 3396.0
  C_AXIS_RADIUS = 3396.0
  CENTER_LATITUDE = 0.0
  CENTER_LONGITUDE = 90.0
  COORDINATE_SYSTEM_NAME = PLANETOGRAPHIC
  COORDINATE_SYSTEM_TYPE = "BODY-FIXED ROTATING"
  EASTERNMOST_LONGITUDE = 92.9842
  FIRST_STANDARD_PARALLEL = "N/A"
  LINE_FIRST_PIXEL = 1
  LINE_LAST_PIXEL = 4598
  LINE_PROJECTION_OFFSET = 29446.625
  MAP_PROJECTION_ROTATION = 0.0
  MAP_PROJECTION_TYPE = SINUSOIDAL
  MAP_RESOLUTION = 592.713803866667
  MAP_SCALE = 0.1
  MAXIMUM_LATITUDE = 49.6171
  MINIMUM_LATITUDE = 41.9523
  POSITIVE_LONGITUDE_DIRECTION = EAST
  REFERENCE_LATITUDE = "N/A"
  REFERENCE_LONGITUDE = "N/A"
  SAMPLE_FIRST_PIXEL = 1
  SAMPLE_LAST_PIXEL = 1938
  SAMPLE_PROJECTION_OFFSET = 782.625
  SECOND_STANDARD_PARALLEL = "N/A"
  WESTERNMOST_LONGITUDE = 87.9061
END_OBJECT = IMAGE_MAP_PROJECTION
/* The JPEG2000 image data file associated with this label. */
OBJECT = COMPRESSED_FILE
  FILE_NAME = "HD977_0000_RE3.JP2"
  RECORD_TYPE = UNDEFINED
  FILE_RECORDS = UNK
  ENCODING_TYPE = "JP2"
  INTERCHANGE_FORMAT = BINARY
  UNCOMPRESSED_FILE_NAME = "HD977_0000_RE3.IMG"
  REQUIRED_STORAGE_BYTES = "8930304"
  ^DESCRIPTION = "JP2INFO.TXT"
END_OBJECT = COMPRESSED_FILE
END
