PDS_VERSION_ID = PDS3
/* FILE DATA ELEMENTS */
RECORD_TYPE = STREAM
/* POINTERS TO DATA OBJECTS */
^COMPRESSED_FILE = "HD980_0000_P13.JP2"
/* IDENTIFICATION DATA ELEMENTS */
DATA_SET_ID = "MEX-M-HRSC-5-REFDR-MAPPROJECTED-V3.0"
DATA_SET_NAME = "MARS EXPRESS HRSC MAP PROJECTED REFDR V3.0"
DETECTOR_ID = MEX_HRSC_P1
EVENT_TYPE = "MARS-REGIONAL-MAPPING-Fl-Gl-Pf"
INSTRUMENT_HOST_ID = MEX
INSTRUMENT_HOST_NAME = "MARS EXPRESS"
INSTRUMENT_ID = HRSC
INSTRUMENT_NAME = "HIGH RESOLUTION STEREO CAMERA"
MISSION_NAME = "MARS EXPRESS"
MISSION_PHASE_NAME = ME_Phase_32
PROCESSING_LEVEL_ID = 3
PRODUCT_CREATION_TIME = 2016-10-30T01:41:23.000Z
PRODUCT_ID = "HD980_0000_P13.JP2"
RELEASE_ID = 0127
REVISION_ID = 0000
/* QUALITY DATA ELEMENTS */
DATA_QUALITY_ID = 1
DATA_QUALITY_DESC = "Data calculated based on original SPICE kernels"
/* TIME DATA ELEMENTS */
SPACECRAFT_CLOCK_START_COUNT = "1/0368644124.08254"
SPACECRAFT_CLOCK_STOP_COUNT = "1/0368644495.34788"
START_TIME = 2015-01-06T17:09:13.478Z
STOP_TIME = 2015-01-06T17:11:39.080Z
/* ORBITAL DATA ELEMENTS */
ASCENDING_NODE_LONGITUDE = 311.25
MAXIMUM_RESOLUTION = 57.4
FOOTPRINT_POINT_LATITUDE = (51.0721,51.0696,51.0665,51.0614,51.056 ,51.0505,51.0434,51.03,51.0206,51.0102, 50.999,50.9853,50.9739,50.7442,50.3666, 50.1376,49.832,49.6008,49.2926,49.059, 48.5885,48.2731,48.1137,47.954,47.6337, 47.3916,47.2302,47.0675,46.9044,46.6583 ,46.4936,46.3292,46.0802,45.9142, 45.7474,45.5797,45.4121,45.2435,45.0741 ,44.9049,44.7341,44.4778,44.2193, 44.0468,43.7862,43.6123,43.4368,43.2611 ,43.0848,42.9076,42.6802,42.6928, 42.7038,42.7133,42.7206,42.727,42.7344, 42.738,42.7417,42.7427,42.7418,42.7413, 42.9195,43.0977,43.3634,43.5402,43.8037 ,44.0668,44.327,44.5005,44.6722,44.8444 ,45.0157,45.1859,45.4411,45.6096, 45.7784,45.9467,46.1137,46.2809,46.5298 ,46.6953,46.8605,47.0243,47.188,47.3517 ,47.5136,47.6757,47.8379,47.9983, 48.1588,48.3991,48.7168,49.1893,49.5019 ,49.7347,50.0433,50.4275,50.7311, 51.0721)
FOOTPRINT_POINT_LONGITUDE = (145.267,145.008,144.75,144.419,144.125 ,143.867,143.573,143.095,142.801, 142.508,142.214,141.883,141.626,141.433 ,141.454,141.466,141.481,141.493, 141.507,141.518,141.537,141.55,141.556, 141.561,141.572,141.58,141.585,141.59, 141.594,141.601,141.605,141.609,141.615 ,141.618,141.622,141.625,141.629, 141.632,141.635,141.637,141.64,141.644, 141.647,141.649,141.651,141.653,141.654 ,141.655,141.656,141.657,141.735, 142.088,142.441,142.793,143.106,143.419 ,143.889,144.203,144.712,145.026, 145.379,145.707,145.701,145.695,145.686 ,145.68,145.67,145.661,145.651,145.644, 145.638,145.631,145.624,145.617,145.607 ,145.6,145.593,145.586,145.579,145.571, 145.56,145.553,145.545,145.537,145.53, 145.522,145.514,145.506,145.498,145.49, 145.482,145.469,145.452,145.427,145.409 ,145.396,145.378,145.355,145.337, 145.267)
ORBIT_NUMBER = 13980
ORBITAL_ECCENTRICITY = 0.57
ORBITAL_INCLINATION = 86.92
ORBITAL_SEMIMAJOR_AXIS = 8759.87
PERIAPSIS_ALTITUDE = 387.51
PERIAPSIS_ARGUMENT_ANGLE = 88.45
PERIAPSIS_TIME = 2015-01-06T16:58:52.000Z
SPACECRAFT_ORIENTATION = (0.0,-1.0,0.0)
^MEX_ORIENTATION_DESC = "MEX_ORIENTATION_DESC.TXT"
SPACECRAFT_POINTING_MODE = NADIR
^MEX_POINTING_DESC = "MEX_POINTING_DESC.TXT"
RIGHT_ASCENSION = -1e+32
DECLINATION = -1e+32
OFFSET_ANGLE = -1e+32
SPACECRAFT_SOLAR_DISTANCE = 2.07319e+08
TARGET_NAME = MARS
/* CAMERA DATA ELEMENTS */
DETECTOR_TEMPERATURE = 17.1471
FOCAL_PLANE_TEMPERATURE = 8.1755
INST_CMPRS_NAME = "DISCRETE COSINE TRANSFORMATION (DCT)"
INST_CMPRS_RATIO = 8.9254
INST_CMPRS_QUALITY = 0
INST_CMPRS_QUANTZ_TBL_ID = 0
INSTRUMENT_TEMPERATURE = 11.0301
LENS_TEMPERATURE = 8.3794
MACROPIXEL_SIZE = 2
MISSING_FRAMES = 0
PIXEL_SUBSAMPLING_FLAG = N
SIGNAL_CHAIN_ID = 3
/* RADIOMETRIC DATA ELEMENTS */
BANDWIDTH = 174.0
CENTER_FILTER_WAVELENGTH = 675.0
RADIANCE_OFFSET = 3.19815
RADIANCE_SCALING_FACTOR = 0.0160607
REFLECTANCE_SCALING_FACTOR = 0.000371303
MEX:REFLECTANCE_OFFSET = 0.0739373
/* IMAGE OBJECT DEFINITIONS */
OBJECT = IMAGE
  INTERCHANGE_FORMAT = BINARY
  LINES = 9855
  LINE_SAMPLES = 3842
  SAMPLE_TYPE = UNSIGNED_INTEGER
  SAMPLE_BITS = 8
  BANDS = 1
  BAND_STORAGE_TYPE = BAND_SEQUENTIAL
  MAXIMUM = 255
  MEAN = 118.605
  MINIMUM = 1
  STANDARD_DEVIATION = 41.9603
END_OBJECT = IMAGE
/* MAP OBJECT DEFINITIONS */
OBJECT = IMAGE_MAP_PROJECTION
  ^DATA_SET_MAP_PROJECTION_CATALOG= "DSMAP.CAT"
  A_AXIS_RADIUS = 3396.0
  B_AXIS_RADIUS = 3396.0
  C_AXIS_RADIUS = 3396.0
  CENTER_LATITUDE = 0.0
  CENTER_LONGITUDE = 144.0
  COORDINATE_SYSTEM_NAME = PLANETOGRAPHIC
  COORDINATE_SYSTEM_TYPE = "BODY-FIXED ROTATING"
  EASTERNMOST_LONGITUDE = 145.707
  FIRST_STANDARD_PARALLEL = "N/A"
  LINE_FIRST_PIXEL = 1
  LINE_LAST_PIXEL = 9855
  LINE_PROJECTION_OFFSET = 60479.25
  MAP_PROJECTION_ROTATION = 0.0
  MAP_PROJECTION_TYPE = SINUSOIDAL
  MAP_RESOLUTION = 1185.42760773333
  MAP_SCALE = 0.05
  MAXIMUM_LATITUDE = 51.0721
  MINIMUM_LATITUDE = 42.6802
  POSITIVE_LONGITUDE_DIRECTION = EAST
  REFERENCE_LATITUDE = "N/A"
  REFERENCE_LONGITUDE = "N/A"
  SAMPLE_FIRST_PIXEL = 1
  SAMPLE_LAST_PIXEL = 3842
  SAMPLE_PROJECTION_OFFSET = 2217.75
  SECOND_STANDARD_PARALLEL = "N/A"
  WESTERNMOST_LONGITUDE = 141.433
END_OBJECT = IMAGE_MAP_PROJECTION
/* The JPEG2000 image data file associated with this label. */
OBJECT = COMPRESSED_FILE
  FILE_NAME = "HD980_0000_P13.JP2"
  RECORD_TYPE = UNDEFINED
  FILE_RECORDS = UNK
  ENCODING_TYPE = "JP2"
  INTERCHANGE_FORMAT = BINARY
  UNCOMPRESSED_FILE_NAME = "HD980_0000_P13.IMG"
  REQUIRED_STORAGE_BYTES = "37885962"
  ^DESCRIPTION = "JP2INFO.TXT"
END_OBJECT = COMPRESSED_FILE
END
