PDS_VERSION_ID = PDS3
/* FILE DATA ELEMENTS */
RECORD_TYPE = STREAM
/* POINTERS TO DATA OBJECTS */
^COMPRESSED_FILE = "HD994_0000_GR3.JP2"
/* IDENTIFICATION DATA ELEMENTS */
DATA_SET_ID = "MEX-M-HRSC-5-REFDR-MAPPROJECTED-V3.0"
DATA_SET_NAME = "MARS EXPRESS HRSC MAP PROJECTED REFDR V3.0"
DETECTOR_ID = MEX_HRSC_GREEN
EVENT_TYPE = "MARS-REGIONAL-MAPPING-Fl-Gl-Pf"
INSTRUMENT_HOST_ID = MEX
INSTRUMENT_HOST_NAME = "MARS EXPRESS"
INSTRUMENT_ID = HRSC
INSTRUMENT_NAME = "HIGH RESOLUTION STEREO CAMERA"
MISSION_NAME = "MARS EXPRESS"
MISSION_PHASE_NAME = ME_Phase_32
PROCESSING_LEVEL_ID = 3
PRODUCT_CREATION_TIME = 2016-10-30T01:41:23.000Z
PRODUCT_ID = "HD994_0000_GR3.JP2"
RELEASE_ID = 0127
REVISION_ID = 0000
/* QUALITY DATA ELEMENTS */
DATA_QUALITY_ID = 1
DATA_QUALITY_DESC = "Data calculated based on original SPICE kernels"
/* TIME DATA ELEMENTS */
SPACECRAFT_CLOCK_START_COUNT = "1/0368996541.07325"
SPACECRAFT_CLOCK_STOP_COUNT = "1/0368996907.57867"
START_TIME = 2015-01-10T19:04:04.778Z
STOP_TIME = 2015-01-10T19:06:25.463Z
/* ORBITAL DATA ELEMENTS */
ASCENDING_NODE_LONGITUDE = 310.99
MAXIMUM_RESOLUTION = 133
FOOTPRINT_POINT_LATITUDE = (49.6944,49.7067,49.718,49.7285,49.7357 ,49.7414,49.7498,49.7572,49.7637, 49.7694,49.7742,49.7777,49.7813,49.6734 ,49.4851,49.1063,48.7246,48.4689, 48.2111,48.0173,47.7578,47.4964,47.2998 ,47.168,47.0364,46.9038,46.7711,46.5718 ,46.4382,46.2374,46.1028,45.9685, 45.7655,45.5619,45.4255,45.2206,45.0834 ,44.9464,44.8081,44.6701,44.4618, 44.3228,44.1829,43.9732,43.8325,43.6919 ,43.5503,43.3379,43.1953,43.0529, 42.9748,42.9766,42.9781,42.9783,42.9774 ,42.9755,42.9726,42.9688,42.9658, 42.9616,42.9577,42.9527,42.945,42.9362, 42.9279,43.1397,43.3511,43.4912,43.6315 ,43.7708,43.9103,44.0486,44.1873, 44.3942,44.6006,44.7374,44.8744,45.0102 ,45.1463,45.3493,45.5521,45.7534, 45.8875,46.0207,46.1541,46.3532,46.4856 ,46.6177,46.8148,47.0768,47.3377, 47.6618,47.9192,48.1114,48.3672,48.6208 ,48.9995,49.3753,49.6241,49.6944)
FOOTPRINT_POINT_LONGITUDE = (149.483,149.813,150.142,150.471, 150.717,150.922,151.25,151.577,151.905, 152.231,152.558,152.844,153.212,153.552 ,153.566,153.594,153.621,153.639, 153.657,153.67,153.687,153.705,153.717, 153.726,153.734,153.742,153.75,153.763, 153.771,153.783,153.791,153.799,153.811 ,153.823,153.831,153.842,153.85,153.858 ,153.865,153.873,153.884,153.891, 153.899,153.91,153.917,153.924,153.931, 153.942,153.949,153.956,153.788,153.48, 152.996,152.688,152.337,151.985,151.632 ,151.28,151.059,150.794,150.573,150.307 ,149.952,149.598,149.227,149.226, 149.225,149.224,149.223,149.222,149.221 ,149.22,149.218,149.216,149.213,149.211 ,149.209,149.207,149.205,149.201, 149.197,149.193,149.19,149.187,149.183, 149.178,149.175,149.171,149.166,149.158 ,149.149,149.138,149.128,149.12,149.11, 149.099,149.082,149.063,149.05,149.483)
ORBIT_NUMBER = 13994
ORBITAL_ECCENTRICITY = 0.57
ORBITAL_INCLINATION = 86.92
ORBITAL_SEMIMAJOR_AXIS = 8760.35
PERIAPSIS_ALTITUDE = 387.39
PERIAPSIS_ARGUMENT_ANGLE = 86.04
PERIAPSIS_TIME = 2015-01-10T18:51:32.000Z
SPACECRAFT_ORIENTATION = (0.0,1.0,0.0)
^MEX_ORIENTATION_DESC = "MEX_ORIENTATION_DESC.TXT"
SPACECRAFT_POINTING_MODE = ACROSSTRACK
^MEX_POINTING_DESC = "MEX_POINTING_DESC.TXT"
RIGHT_ASCENSION = -1e+32
DECLINATION = -1e+32
OFFSET_ANGLE = -0.4
SPACECRAFT_SOLAR_DISTANCE = 2.07557e+08
TARGET_NAME = MARS
/* CAMERA DATA ELEMENTS */
DETECTOR_TEMPERATURE = 18.3705
FOCAL_PLANE_TEMPERATURE = 9.6028
INST_CMPRS_NAME = "DISCRETE COSINE TRANSFORMATION (DCT)"
INST_CMPRS_RATIO = 13.6205
INST_CMPRS_QUALITY = 0
INST_CMPRS_QUANTZ_TBL_ID = 0
INSTRUMENT_TEMPERATURE = 11.234
LENS_TEMPERATURE = 8.9911
MACROPIXEL_SIZE = 4
MISSING_FRAMES = 0
PIXEL_SUBSAMPLING_FLAG = N
SIGNAL_CHAIN_ID = 2
/* RADIOMETRIC DATA ELEMENTS */
BANDWIDTH = 88.0
CENTER_FILTER_WAVELENGTH = 538.0
RADIANCE_OFFSET = 1.6243
RADIANCE_SCALING_FACTOR = 0.00255982
REFLECTANCE_SCALING_FACTOR = 9.49457e-05
MEX:REFLECTANCE_OFFSET = 0.0602463
/* IMAGE OBJECT DEFINITIONS */
OBJECT = IMAGE
  INTERCHANGE_FORMAT = BINARY
  LINES = 4077
  LINE_SAMPLES = 2036
  SAMPLE_TYPE = UNSIGNED_INTEGER
  SAMPLE_BITS = 8
  BANDS = 1
  BAND_STORAGE_TYPE = BAND_SEQUENTIAL
  MAXIMUM = 255
  MEAN = 98.1121
  MINIMUM = 1
  STANDARD_DEVIATION = 29.1241
END_OBJECT = IMAGE
/* MAP OBJECT DEFINITIONS */
OBJECT = IMAGE_MAP_PROJECTION
  ^DATA_SET_MAP_PROJECTION_CATALOG= "DSMAP.CAT"
  A_AXIS_RADIUS = 3396.0
  B_AXIS_RADIUS = 3396.0
  C_AXIS_RADIUS = 3396.0
  CENTER_LATITUDE = 0.0
  CENTER_LONGITUDE = 151.0
  COORDINATE_SYSTEM_NAME = PLANETOGRAPHIC
  COORDINATE_SYSTEM_TYPE = "BODY-FIXED ROTATING"
  EASTERNMOST_LONGITUDE = 153.956
  FIRST_STANDARD_PARALLEL = "N/A"
  LINE_FIRST_PIXEL = 1
  LINE_LAST_PIXEL = 4077
  LINE_PROJECTION_OFFSET = 29517.625
  MAP_PROJECTION_ROTATION = 0.0
  MAP_PROJECTION_TYPE = SINUSOIDAL
  MAP_RESOLUTION = 592.713803866667
  MAP_SCALE = 0.1
  MAXIMUM_LATITUDE = 49.7813
  MINIMUM_LATITUDE = 42.9279
  POSITIVE_LONGITUDE_DIRECTION = EAST
  REFERENCE_LATITUDE = "N/A"
  REFERENCE_LONGITUDE = "N/A"
  SAMPLE_FIRST_PIXEL = 1
  SAMPLE_LAST_PIXEL = 2036
  SAMPLE_PROJECTION_OFFSET = 758.125
  SECOND_STANDARD_PARALLEL = "N/A"
  WESTERNMOST_LONGITUDE = 149.05
END_OBJECT = IMAGE_MAP_PROJECTION
/* The JPEG2000 image data file associated with this label. */
OBJECT = COMPRESSED_FILE
  FILE_NAME = "HD994_0000_GR3.JP2"
  RECORD_TYPE = UNDEFINED
  FILE_RECORDS = UNK
  ENCODING_TYPE = "JP2"
  INTERCHANGE_FORMAT = BINARY
  UNCOMPRESSED_FILE_NAME = "HD994_0000_GR3.IMG"
  REQUIRED_STORAGE_BYTES = "8321132"
  ^DESCRIPTION = "JP2INFO.TXT"
END_OBJECT = COMPRESSED_FILE
END
