PDS_VERSION_ID = PDS3
/* FILE DATA ELEMENTS */
RECORD_TYPE = STREAM
/* POINTERS TO DATA OBJECTS */
^COMPRESSED_FILE = "HE044_0000_P23.JP2"
/* IDENTIFICATION DATA ELEMENTS */
DATA_SET_ID = "MEX-M-HRSC-5-REFDR-MAPPROJECTED-V3.0"
DATA_SET_NAME = "MARS EXPRESS HRSC MAP PROJECTED REFDR V3.0"
DETECTOR_ID = MEX_HRSC_P2
EVENT_TYPE = "MARS-TERMINATOR-CALIBRATION-Tc"
INSTRUMENT_HOST_ID = MEX
INSTRUMENT_HOST_NAME = "MARS EXPRESS"
INSTRUMENT_ID = HRSC
INSTRUMENT_NAME = "HIGH RESOLUTION STEREO CAMERA"
MISSION_NAME = "MARS EXPRESS"
MISSION_PHASE_NAME = ME_Phase_32
PROCESSING_LEVEL_ID = 3
PRODUCT_CREATION_TIME = 2016-10-30T01:41:23.000Z
PRODUCT_ID = "HE044_0000_P23.JP2"
RELEASE_ID = 0127
REVISION_ID = 0000
/* QUALITY DATA ELEMENTS */
DATA_QUALITY_ID = 1
DATA_QUALITY_DESC = "Data calculated based on original SPICE kernels"
/* TIME DATA ELEMENTS */
SPACECRAFT_CLOCK_START_COUNT = "1/0370265244.08272"
SPACECRAFT_CLOCK_STOP_COUNT = "1/0370265682.05640"
START_TIME = 2015-01-25T11:30:55.354Z
STOP_TIME = 2015-01-25T11:34:06.323Z
/* ORBITAL DATA ELEMENTS */
ASCENDING_NODE_LONGITUDE = 310.05
MAXIMUM_RESOLUTION = 1664.4
FOOTPRINT_POINT_LATITUDE = (4.33616,3.57954,3.29372,4.62169, 2.50747,1.99718,4.21086,0.0144492, -4.92964,-11.6205,-16.2664,-19.1504, -22.2512,-25.2807,-30.1332,-33.7035, -36.3285,-40.2689,-44.4427,-47.0665, -49.6288,-53.0135,-57.1795,-60.1107, -63.5738,-65.896,-68.6116,-69.8657, -70.4159,-69.867,-68.9059,-67.343, -64.0067,-59.6688,-55.8359,-50.9246, -46.1315,-42.7959,-37.8881,-33.1202, -31.4081,-34.5265,-32.4178,-34.7988, -33.6123,-33.0773,-33.228,-35.252, -35.0612,-34.1958,-35.4955,-35.649, -33.6815,-36.5403,-33.2032,-36.2794, -32.8651,-35.9391,-34.1858,-37.3722, -40.731,-45.3466,-50.8351,-56.1792, -59.1906,-61.8036,-64.315,-66.3789, -69.1462,-71.4382,-72.12,-71.6023, -70.6958,-68.6104,-66.7391,-63.6708, -59.4206,-56.2416,-51.7555,-46.35, -42.5873,-37.52,-31.1907,-27.13, -22.0419,-16.0207,-11.5886,-5.74948, -2.09819,1.75023,-0.602333,3.02175, 0.266502,0.9896,1.56824,2.88365,3.27346 ,4.15066,4.33616)
FOOTPRINT_POINT_LONGITUDE = (56.1798,53.0793,49.6099,46.8788, 43.7878,41.0457,36.4781,36.3829,36.553, 36.5114,36.2806,36.0371,35.7287,35.3163 ,34.4452,33.626,32.8781,31.5609,29.7667 ,28.3661,26.7794,24.2087,20.0214,16.057 ,9.59984,3.41638,351.969,342.046, 327.233,315.824,307.719,299.657,289.204 ,281.074,276.241,271.864,268.782, 267.123,265.205,263.815,260.513,256.326 ,253.075,251.562,247.596,242.866, 236.808,232.663,227.928,223.679,220.225 ,216.289,213.559,213.168,212.628, 212.191,211.18,210.712,207.949,207.311, 206.456,204.861,202.174,198.29,195.227, 191.781,187.496,182.846,173.625,159.011 ,144.135,131.223,123.022,112.505, 106.458,99.6634,93.5013,90.3428,87.0756 ,84.4055,83.0711,81.7747,80.7543, 80.3752,80.1589,80.2256,80.4787,81.0505 ,81.5483,80.9149,79.2864,78.6107, 77.7653,75.0264,70.3314,66.168,62.7106, 60.0648,56.1798)
ORBIT_NUMBER = 14044
ORBITAL_ECCENTRICITY = 0.571
ORBITAL_INCLINATION = 86.93
ORBITAL_SEMIMAJOR_AXIS = 8762.25
PERIAPSIS_ALTITUDE = 383.85
PERIAPSIS_ARGUMENT_ANGLE = 77.43
PERIAPSIS_TIME = 2015-01-25T08:25:32.000Z
SPACECRAFT_ORIENTATION = (0.0,-1.0,0.0)
^MEX_ORIENTATION_DESC = "MEX_ORIENTATION_DESC.TXT"
SPACECRAFT_POINTING_MODE = INERT
^MEX_POINTING_DESC = "MEX_POINTING_DESC.TXT"
RIGHT_ASCENSION = 337.331
DECLINATION = 36.771
OFFSET_ANGLE = -1e+32
SPACECRAFT_SOLAR_DISTANCE = 2.08679e+08
TARGET_NAME = MARS
/* CAMERA DATA ELEMENTS */
DETECTOR_TEMPERATURE = 19.1861
FOCAL_PLANE_TEMPERATURE = 9.6028
INST_CMPRS_NAME = "DISCRETE COSINE TRANSFORMATION (DCT)"
INST_CMPRS_RATIO = 12.8568
INST_CMPRS_QUALITY = 0
INST_CMPRS_QUANTZ_TBL_ID = 0
INSTRUMENT_TEMPERATURE = 11.8457
LENS_TEMPERATURE = 10.0106
MACROPIXEL_SIZE = 4
MISSING_FRAMES = 0
PIXEL_SUBSAMPLING_FLAG = N
SIGNAL_CHAIN_ID = 3
/* RADIOMETRIC DATA ELEMENTS */
BANDWIDTH = 177.0
CENTER_FILTER_WAVELENGTH = 676.5
RADIANCE_OFFSET = 0.0
RADIANCE_SCALING_FACTOR = 0.0692605
REFLECTANCE_SCALING_FACTOR = 0.00159937
MEX:REFLECTANCE_OFFSET = 0.0
/* IMAGE OBJECT DEFINITIONS */
OBJECT = IMAGE
  INTERCHANGE_FORMAT = BINARY
  LINES = 5354
  LINE_SAMPLES = 6199
  SAMPLE_TYPE = UNSIGNED_INTEGER
  SAMPLE_BITS = 8
  BANDS = 1
  BAND_STORAGE_TYPE = BAND_SEQUENTIAL
  MAXIMUM = 255
  MEAN = 99.9272
  MINIMUM = 1
  STANDARD_DEVIATION = 59.5528
END_OBJECT = IMAGE
/* MAP OBJECT DEFINITIONS */
OBJECT = IMAGE_MAP_PROJECTION
  ^DATA_SET_MAP_PROJECTION_CATALOG= "DSMAP.CAT"
  A_AXIS_RADIUS = 3396.0
  B_AXIS_RADIUS = 3396.0
  C_AXIS_RADIUS = 3396.0
  CENTER_LATITUDE = -90.0
  CENTER_LONGITUDE = 0.0
  COORDINATE_SYSTEM_NAME = PLANETOGRAPHIC
  COORDINATE_SYSTEM_TYPE = "BODY-FIXED ROTATING"
  EASTERNMOST_LONGITUDE = 360.0
  FIRST_STANDARD_PARALLEL = "N/A"
  LINE_FIRST_PIXEL = 1
  LINE_LAST_PIXEL = 5354
  LINE_PROJECTION_OFFSET = 3467.75
  MAP_PROJECTION_ROTATION = 0.0
  MAP_PROJECTION_TYPE = STEREOGRAPHIC
  MAP_RESOLUTION = 37.0446127416667
  MAP_SCALE = 1.6
  MAXIMUM_LATITUDE = 4.62169
  MINIMUM_LATITUDE = -90.0
  POSITIVE_LONGITUDE_DIRECTION = EAST
  REFERENCE_LATITUDE = "N/A"
  REFERENCE_LONGITUDE = "N/A"
  SAMPLE_FIRST_PIXEL = 1
  SAMPLE_LAST_PIXEL = 6199
  SAMPLE_PROJECTION_OFFSET = 2183.25
  SECOND_STANDARD_PARALLEL = "N/A"
  WESTERNMOST_LONGITUDE = 0.0
END_OBJECT = IMAGE_MAP_PROJECTION
/* The JPEG2000 image data file associated with this label. */
OBJECT = COMPRESSED_FILE
  FILE_NAME = "HE044_0000_P23.JP2"
  RECORD_TYPE = UNDEFINED
  FILE_RECORDS = UNK
  ENCODING_TYPE = "JP2"
  INTERCHANGE_FORMAT = BINARY
  UNCOMPRESSED_FILE_NAME = "HE044_0000_P23.IMG"
  REQUIRED_STORAGE_BYTES = "33220441"
  ^DESCRIPTION = "JP2INFO.TXT"
END_OBJECT = COMPRESSED_FILE
END
