PDS_VERSION_ID = PDS3
/* FILE DATA ELEMENTS */
RECORD_TYPE = STREAM
/* POINTERS TO DATA OBJECTS */
^COMPRESSED_FILE = "HE088_0000_BL3.JP2"
/* IDENTIFICATION DATA ELEMENTS */
DATA_SET_ID = "MEX-M-HRSC-5-REFDR-MAPPROJECTED-V3.0"
DATA_SET_NAME = "MARS EXPRESS HRSC MAP PROJECTED REFDR V3.0"
DETECTOR_ID = MEX_HRSC_BLUE
EVENT_TYPE = "MARS-TERMINATOR-CALIBRATION-Tc"
INSTRUMENT_HOST_ID = MEX
INSTRUMENT_HOST_NAME = "MARS EXPRESS"
INSTRUMENT_ID = HRSC
INSTRUMENT_NAME = "HIGH RESOLUTION STEREO CAMERA"
MISSION_NAME = "MARS EXPRESS"
MISSION_PHASE_NAME = ME_Phase_32
PROCESSING_LEVEL_ID = 3
PRODUCT_CREATION_TIME = 2016-10-30T01:41:23.000Z
PRODUCT_ID = "HE088_0000_BL3.JP2"
RELEASE_ID = 0127
REVISION_ID = 0000
/* QUALITY DATA ELEMENTS */
DATA_QUALITY_ID = 1
DATA_QUALITY_DESC = "Data calculated based on original SPICE kernels"
/* TIME DATA ELEMENTS */
SPACECRAFT_CLOCK_START_COUNT = "1/0371351972.08281"
SPACECRAFT_CLOCK_STOP_COUNT = "1/0371352415.07803"
START_TIME = 2015-02-07T01:21:18.370Z
STOP_TIME = 2015-02-07T01:24:35.401Z
/* ORBITAL DATA ELEMENTS */
ASCENDING_NODE_LONGITUDE = 309.23
MAXIMUM_RESOLUTION = 790.8
FOOTPRINT_POINT_LATITUDE = (-8.91625,-9.24701,-8.79734,-8.65653, -10.2321,-9.76613,-11.6798,-16.7162, -20.4127,-23.0625,-26.4475,-30.8356, -34.468,-37.3228,-40.1433,-44.1794, -46.9162,-50.5281,-53.9469,-58.2158, -61.2612,-64.9646,-66.8787,-69.1757, -70.1738,-70.2436,-69.4484,-68.367, -66.6329,-64.0901,-60.7139,-58.0111, -54.4875,-51.6972,-47.5497,-43.7416, -38.9236,-35.1049,-32.5733,-29.4514, -26.8353,-22.3645,-19.136,-19.11, -19.5964,-21.4191,-20.4273,-20.7982, -20.3814,-21.6584,-22.0731,-22.4335, -21.128,-23.3865,-20.9778,-21.2195, -22.0285,-25.77,-28.3792,-32.0251, -34.8814,-38.9388,-44.3589,-49.8702, -52.6294,-55.1454,-57.5899,-60.2261, -63.3177,-66.385,-69.8432,-72.6007, -73.528,-73.7143,-72.8604,-71.2176, -67.9297,-64.9748,-60.8362,-58.3167, -54.4731,-49.7374,-46.3059,-41.079, -37.2429,-33.3953,-27.4821,-24.2575, -20.2043,-16.9184,-12.852,-10.1611, -11.9732,-11.5221,-10.5138,-11.8543, -10.3333,-8.99357,-8.91625)
FOOTPRINT_POINT_LONGITUDE = (314.425,316.951,322.551,325.87,329.268 ,333.065,335.513,335.738,336.03,336.316 ,336.774,337.558,338.402,339.205, 340.151,341.813,343.208,345.47,348.2, 352.795,357.327,5.35651,11.5466,23.6492 ,35.5683,45.8915,57.6669,65.1877, 72.9492,80.5104,87.2099,91.093,94.9635, 97.3723,100.155,102.134,104.083,105.282 ,105.93,106.611,107.09,107.724,108.902, 111.869,114.965,119.576,124.146,128.993 ,133.052,137.274,140.545,143.437, 146.598,147.829,148.708,152.977,156.696 ,156.789,156.931,157.26,157.621,158.334 ,159.74,161.877,163.303,164.923,166.806 ,169.346,173.252,178.612,188.093,202.33 ,212.592,229.555,241.759,252.483, 264.058,270.367,276.242,278.812,281.815 ,284.48,285.9,287.453,288.264,288.847, 289.386,289.528,289.565,289.489,289.281 ,290.127,293.582,297.991,302.669, 305.101,307.734,310.573,314.425)
ORBIT_NUMBER = 14088
ORBITAL_ECCENTRICITY = 0.571
ORBITAL_INCLINATION = 86.92
ORBITAL_SEMIMAJOR_AXIS = 8773.07
PERIAPSIS_ALTITUDE = 382.14
PERIAPSIS_ARGUMENT_ANGLE = 69.83
PERIAPSIS_TIME = 2015-02-07T04:02:38.000Z
SPACECRAFT_ORIENTATION = (0.0,1.0,0.0)
^MEX_ORIENTATION_DESC = "MEX_ORIENTATION_DESC.TXT"
SPACECRAFT_POINTING_MODE = INERT
^MEX_POINTING_DESC = "MEX_POINTING_DESC.TXT"
RIGHT_ASCENSION = 328.417
DECLINATION = 49.208
OFFSET_ANGLE = -1e+32
SPACECRAFT_SOLAR_DISTANCE = 2.09998e+08
TARGET_NAME = MARS
/* CAMERA DATA ELEMENTS */
DETECTOR_TEMPERATURE = 19.1861
FOCAL_PLANE_TEMPERATURE = 9.195
INST_CMPRS_NAME = "DISCRETE COSINE TRANSFORMATION (DCT)"
INST_CMPRS_RATIO = 4.59949
INST_CMPRS_QUALITY = 0
INST_CMPRS_QUANTZ_TBL_ID = 0
INSTRUMENT_TEMPERATURE = 11.6418
LENS_TEMPERATURE = 9.6028
MACROPIXEL_SIZE = 2
MISSING_FRAMES = 0
PIXEL_SUBSAMPLING_FLAG = N
SIGNAL_CHAIN_ID = 2
/* RADIOMETRIC DATA ELEMENTS */
BANDWIDTH = 76.0
CENTER_FILTER_WAVELENGTH = 444.0
RADIANCE_OFFSET = 0.0
RADIANCE_SCALING_FACTOR = 0.0166054
REFLECTANCE_SCALING_FACTOR = 0.000752282
MEX:REFLECTANCE_OFFSET = 0.0
/* IMAGE OBJECT DEFINITIONS */
OBJECT = IMAGE
  INTERCHANGE_FORMAT = BINARY
  LINES = 11055
  LINE_SAMPLES = 11450
  SAMPLE_TYPE = UNSIGNED_INTEGER
  SAMPLE_BITS = 8
  BANDS = 1
  BAND_STORAGE_TYPE = BAND_SEQUENTIAL
  MAXIMUM = 255
  MEAN = 53.8008
  MINIMUM = 1
  STANDARD_DEVIATION = 49.5378
END_OBJECT = IMAGE
/* MAP OBJECT DEFINITIONS */
OBJECT = IMAGE_MAP_PROJECTION
  ^DATA_SET_MAP_PROJECTION_CATALOG= "DSMAP.CAT"
  A_AXIS_RADIUS = 3396.0
  B_AXIS_RADIUS = 3396.0
  C_AXIS_RADIUS = 3396.0
  CENTER_LATITUDE = -90.0
  CENTER_LONGITUDE = 0.0
  COORDINATE_SYSTEM_NAME = PLANETOGRAPHIC
  COORDINATE_SYSTEM_TYPE = "BODY-FIXED ROTATING"
  EASTERNMOST_LONGITUDE = 360.0
  FIRST_STANDARD_PARALLEL = "N/A"
  LINE_FIRST_PIXEL = 1
  LINE_LAST_PIXEL = 11055
  LINE_PROJECTION_OFFSET = 6149.0
  MAP_PROJECTION_ROTATION = 0.0
  MAP_PROJECTION_TYPE = STEREOGRAPHIC
  MAP_RESOLUTION = 74.08922548333329
  MAP_SCALE = 0.8
  MAXIMUM_LATITUDE = -8.65653
  MINIMUM_LATITUDE = -90.0
  POSITIVE_LONGITUDE_DIRECTION = EAST
  REFERENCE_LATITUDE = "N/A"
  REFERENCE_LONGITUDE = "N/A"
  SAMPLE_FIRST_PIXEL = 1
  SAMPLE_LAST_PIXEL = 11450
  SAMPLE_PROJECTION_OFFSET = 6135.0
  SECOND_STANDARD_PARALLEL = "N/A"
  WESTERNMOST_LONGITUDE = 0.0
END_OBJECT = IMAGE_MAP_PROJECTION
/* The JPEG2000 image data file associated with this label. */
OBJECT = COMPRESSED_FILE
  FILE_NAME = "HE088_0000_BL3.JP2"
  RECORD_TYPE = UNDEFINED
  FILE_RECORDS = UNK
  ENCODING_TYPE = "JP2"
  INTERCHANGE_FORMAT = BINARY
  UNCOMPRESSED_FILE_NAME = "HE088_0000_BL3.IMG"
  REQUIRED_STORAGE_BYTES = "126614100"
  ^DESCRIPTION = "JP2INFO.TXT"
END_OBJECT = COMPRESSED_FILE
END
