PDS_VERSION_ID = PDS3
/* FILE DATA ELEMENTS */
RECORD_TYPE = STREAM
/* POINTERS TO DATA OBJECTS */
^COMPRESSED_FILE = "HE150_0000_IR3.JP2"
/* IDENTIFICATION DATA ELEMENTS */
DATA_SET_ID = "MEX-M-HRSC-5-REFDR-MAPPROJECTED-V3.0"
DATA_SET_NAME = "MARS EXPRESS HRSC MAP PROJECTED REFDR V3.0"
DETECTOR_ID = MEX_HRSC_IR
EVENT_TYPE = "MARS-TERMINATOR-CALIBRATION-Tc"
INSTRUMENT_HOST_ID = MEX
INSTRUMENT_HOST_NAME = "MARS EXPRESS"
INSTRUMENT_ID = HRSC
INSTRUMENT_NAME = "HIGH RESOLUTION STEREO CAMERA"
MISSION_NAME = "MARS EXPRESS"
MISSION_PHASE_NAME = ME_Phase_32
PROCESSING_LEVEL_ID = 3
PRODUCT_CREATION_TIME = 2016-10-30T01:41:23.000Z
PRODUCT_ID = "HE150_0000_IR3.JP2"
RELEASE_ID = 0127
REVISION_ID = 0000
/* QUALITY DATA ELEMENTS */
DATA_QUALITY_ID = 1
DATA_QUALITY_DESC = "Data calculated based on original SPICE kernels"
/* TIME DATA ELEMENTS */
SPACECRAFT_CLOCK_START_COUNT = "1/0372912512.08268"
SPACECRAFT_CLOCK_STOP_COUNT = "1/0372912956.08054"
START_TIME = 2015-02-25T02:52:22.469Z
STOP_TIME = 2015-02-25T02:55:40.468Z
/* ORBITAL DATA ELEMENTS */
ASCENDING_NODE_LONGITUDE = 308.06
MAXIMUM_RESOLUTION = 790.2
FOOTPRINT_POINT_LATITUDE = (1.17083,0.939819,0.763267,-1.68592, 0.0717095,-1.49407,-0.0441138,-0.616158 ,-3.80666,-9.2571,-13.521,-16.9479, -20.0994,-23.9916,-28.8576,-32.4564, -36.126,-38.5971,-42.015,-46.1217, -52.0913,-57.4132,-60.7615,-63.6859, -66.6917,-69.6433,-71.1747,-72.0364, -72.4877,-72.1662,-70.9893,-68.7642, -64.6732,-61.4012,-58.7579,-55.0647, -51.6152,-48.1971,-43.7676,-41.1101, -37.5065,-32.9711,-29.8598,-30.2477, -29.9223,-31.8358,-31.522,-31.0605, -30.8809,-30.3578,-31.2496,-30.0785, -31.3271,-31.4829,-29.1273,-32.064, -35.3584,-38.0225,-41.2578,-44.2818, -47.2951,-51.8726,-55.0386,-57.5074, -60.8054,-63.1275,-65.8417,-68.9704, -70.5561,-71.7393,-72.6946,-71.3776, -69.296,-66.1388,-63.8734,-60.5999, -57.948,-55.2288,-52.5341,-48.906, -44.9483,-41.7259,-34.6215,-29.2091, -25.6868,-22.6556,-19.1768,-14.0277, -10.6107,-7.92985,-4.57657,-1.45043, -0.176757,0.0937763,0.612759,-0.806262, 0.767231,0.200768,1.17083)
FOOTPRINT_POINT_LONGITUDE = (100.897,105.618,110.969,112.865, 115.608,117.562,119.993,122.655,123.078 ,122.677,122.521,122.479,122.518, 122.704,123.1,123.573,124.227,124.775, 125.71,127.175,130.231,134.368,138.108, 142.504,148.899,158.79,167.392,175.346, 184.125,199.734,210.927,221.708,232.702 ,238.15,241.413,244.875,247.343,249.259 ,251.155,252.06,253.068,254.021,254.52, 260.032,264.423,266.651,271.841,275.055 ,279.513,284.994,288.439,293.079, 297.096,301.761,305.009,305.473,306.112 ,306.758,307.708,308.787,310.108, 312.665,314.967,317.176,320.906,324.324 ,329.625,338.732,345.945,354.146,12.65, 33.2064,44.3629,54.0438,58.7293,63.7294 ,66.7446,69.196,71.1717,73.3215,75.147, 76.3269,78.1899,79.1521,79.5823,79.8506 ,80.0579,80.1893,80.1551,80.0764, 79.9054,79.6767,82.094,84.7556,87.9337, 90.2321,92.77,97.7471,100.897)
ORBIT_NUMBER = 14150
ORBITAL_ECCENTRICITY = 0.572
ORBITAL_INCLINATION = 86.91
ORBITAL_SEMIMAJOR_AXIS = 8785.35
PERIAPSIS_ALTITUDE = 377.63
PERIAPSIS_ARGUMENT_ANGLE = 59.15
PERIAPSIS_TIME = 2015-02-25T05:30:38.000Z
SPACECRAFT_ORIENTATION = (0.0,1.0,0.0)
^MEX_ORIENTATION_DESC = "MEX_ORIENTATION_DESC.TXT"
SPACECRAFT_POINTING_MODE = INERT
^MEX_POINTING_DESC = "MEX_POINTING_DESC.TXT"
RIGHT_ASCENSION = 334.047
DECLINATION = 40.635
OFFSET_ANGLE = -1e+32
SPACECRAFT_SOLAR_DISTANCE = 2.12323e+08
TARGET_NAME = MARS
/* CAMERA DATA ELEMENTS */
DETECTOR_TEMPERATURE = 17.9627
FOCAL_PLANE_TEMPERATURE = 9.6028
INST_CMPRS_NAME = "DISCRETE COSINE TRANSFORMATION (DCT)"
INST_CMPRS_RATIO = 9.82582
INST_CMPRS_QUALITY = 0
INST_CMPRS_QUANTZ_TBL_ID = 0
INSTRUMENT_TEMPERATURE = 12.2535
LENS_TEMPERATURE = 10.0106
MACROPIXEL_SIZE = 2
MISSING_FRAMES = 0
PIXEL_SUBSAMPLING_FLAG = N
SIGNAL_CHAIN_ID = 1
/* RADIOMETRIC DATA ELEMENTS */
BANDWIDTH = 81.0
CENTER_FILTER_WAVELENGTH = 955.5
RADIANCE_OFFSET = 0.0
RADIANCE_SCALING_FACTOR = 0.0131785
REFLECTANCE_SCALING_FACTOR = 0.00128151
MEX:REFLECTANCE_OFFSET = 0.0
/* IMAGE OBJECT DEFINITIONS */
OBJECT = IMAGE
  INTERCHANGE_FORMAT = BINARY
  LINES = 7142
  LINE_SAMPLES = 12393
  SAMPLE_TYPE = UNSIGNED_INTEGER
  SAMPLE_BITS = 8
  BANDS = 1
  BAND_STORAGE_TYPE = BAND_SEQUENTIAL
  MAXIMUM = 255
  MEAN = 102.236
  MINIMUM = 1
  STANDARD_DEVIATION = 65.5825
END_OBJECT = IMAGE
/* MAP OBJECT DEFINITIONS */
OBJECT = IMAGE_MAP_PROJECTION
  ^DATA_SET_MAP_PROJECTION_CATALOG= "DSMAP.CAT"
  A_AXIS_RADIUS = 3396.0
  B_AXIS_RADIUS = 3396.0
  C_AXIS_RADIUS = 3396.0
  CENTER_LATITUDE = -90.0
  CENTER_LONGITUDE = 0.0
  COORDINATE_SYSTEM_NAME = PLANETOGRAPHIC
  COORDINATE_SYSTEM_TYPE = "BODY-FIXED ROTATING"
  EASTERNMOST_LONGITUDE = 360.0
  FIRST_STANDARD_PARALLEL = "N/A"
  LINE_FIRST_PIXEL = 1
  LINE_LAST_PIXEL = 7142
  LINE_PROJECTION_OFFSET = 2793.0
  MAP_PROJECTION_ROTATION = 0.0
  MAP_PROJECTION_TYPE = STEREOGRAPHIC
  MAP_RESOLUTION = 74.08922548333329
  MAP_SCALE = 0.8
  MAXIMUM_LATITUDE = 1.17083
  MINIMUM_LATITUDE = -90.0
  POSITIVE_LONGITUDE_DIRECTION = EAST
  REFERENCE_LATITUDE = "N/A"
  REFERENCE_LONGITUDE = "N/A"
  SAMPLE_FIRST_PIXEL = 1
  SAMPLE_LAST_PIXEL = 12393
  SAMPLE_PROJECTION_OFFSET = 4410.0
  SECOND_STANDARD_PARALLEL = "N/A"
  WESTERNMOST_LONGITUDE = 0.0
END_OBJECT = IMAGE_MAP_PROJECTION
/* The JPEG2000 image data file associated with this label. */
OBJECT = COMPRESSED_FILE
  FILE_NAME = "HE150_0000_IR3.JP2"
  RECORD_TYPE = UNDEFINED
  FILE_RECORDS = UNK
  ENCODING_TYPE = "JP2"
  INTERCHANGE_FORMAT = BINARY
  UNCOMPRESSED_FILE_NAME = "HE150_0000_IR3.IMG"
  REQUIRED_STORAGE_BYTES = "88547985"
  ^DESCRIPTION = "JP2INFO.TXT"
END_OBJECT = COMPRESSED_FILE
END
