PDS_VERSION_ID = PDS3
/* FILE DATA ELEMENTS */
RECORD_TYPE = STREAM
/* POINTERS TO DATA OBJECTS */
^COMPRESSED_FILE = "HE241_0000_IR3.JP2"
/* IDENTIFICATION DATA ELEMENTS */
DATA_SET_ID = "MEX-M-HRSC-5-REFDR-MAPPROJECTED-V3.0"
DATA_SET_NAME = "MARS EXPRESS HRSC MAP PROJECTED REFDR V3.0"
DETECTOR_ID = MEX_HRSC_IR
EVENT_TYPE = "MARS-TERMINATOR-CALIBRATION-Tc"
INSTRUMENT_HOST_ID = MEX
INSTRUMENT_HOST_NAME = "MARS EXPRESS"
INSTRUMENT_ID = HRSC
INSTRUMENT_NAME = "HIGH RESOLUTION STEREO CAMERA"
MISSION_NAME = "MARS EXPRESS"
MISSION_PHASE_NAME = ME_Phase_32
PROCESSING_LEVEL_ID = 3
PRODUCT_CREATION_TIME = 2016-10-30T02:17:08.000Z
PRODUCT_ID = "HE241_0000_IR3.JP2"
RELEASE_ID = 0128
REVISION_ID = 0000
/* QUALITY DATA ELEMENTS */
DATA_QUALITY_ID = 1
DATA_QUALITY_DESC = "Data calculated based on original SPICE kernels"
/* TIME DATA ELEMENTS */
SPACECRAFT_CLOCK_START_COUNT = "1/0375205618.09038"
SPACECRAFT_CLOCK_STOP_COUNT = "1/0375206085.06429"
START_TIME = 2015-03-23T15:50:45.617Z
STOP_TIME = 2015-03-23T15:54:30.607Z
/* ORBITAL DATA ELEMENTS */
ASCENDING_NODE_LONGITUDE = 306.34
MAXIMUM_RESOLUTION = 659
FOOTPRINT_POINT_LATITUDE = (-0.758964,-2.17412,-1.34896,-1.22527, -3.0942,-2.04716,-5.16705,-8.29157, -12.8753,-15.2702,-17.9862,-23.4404, -28.8681,-32.946,-37.7903,-42.8005, -45.8349,-51.2929,-54.8054,-57.7895, -60.1652,-63.1201,-65.1885,-67.415, -70.726,-73.4767,-74.0661,-73.1045, -71.724,-69.9435,-68.1445,-65.6741, -62.9343,-58.9845,-56.698,-53.034, -49.9219,-47.3632,-43.5749,-41.1323, -38.3684,-33.6782,-31.1046,-32.9782, -31.4355,-33.3344,-32.5111,-32.2511, -32.2432,-32.3657,-32.1587,-32.5223, -33.3285,-31.6922,-34.5483,-38.468, -40.9197,-43.9006,-47.0702,-49.6715, -53.273,-56.4274,-60.1466,-64.8473, -67.7204,-71.2831,-74.6918,-76.1145, -76.9176,-76.5134,-74.4881,-72.3826, -70.1709,-67.3397,-64.2903,-62.0926, -58.9611,-56.4516,-53.1221,-50.6058, -47.5134,-45.0287,-40.9278,-37.5525, -32.6836,-26.4211,-22.0409,-19.3379, -16.9871,-13.4652,-9.76258,-7.00423, -4.59097,-2.89546,-2.9113,-2.46845, -2.21096,-1.4516,-0.758964)
FOOTPRINT_POINT_LONGITUDE = (144.547,148.177,150.437,154.149, 156.811,160.987,163.892,163.684,163.489 ,163.434,163.433,163.558,163.941, 164.409,165.227,166.428,167.39,169.737, 171.815,174.087,176.356,179.929,183.166 ,187.668,197.793,215.155,237.53,251.022 ,260.175,267.719,273.12,278.552,282.978 ,287.559,289.579,292.16,293.866,295.047 ,296.443,297.182,297.894,298.822,302.11 ,305.348,307.795,312.368,318.223,322.52 ,325.314,328.473,333.338,336.376, 339.111,342.032,343.723,344.311,344.783 ,345.477,346.385,347.285,348.833, 350.551,353.192,357.998,2.25655,10.1303 ,23.7711,34.7684,48.8163,69.9661, 87.1318,96.2057,102.518,108.13,112.421, 114.788,117.447,119.128,120.921,122.011 ,123.128,123.863,124.833,125.447, 126.104,126.627,126.804,126.853,126.851 ,126.799,126.664,126.51,126.346,128.52, 131.612,135.131,138.163,142.138, 144.547)
ORBIT_NUMBER = 14241
ORBITAL_ECCENTRICITY = 0.574
ORBITAL_INCLINATION = 86.92
ORBITAL_SEMIMAJOR_AXIS = 8811.19
PERIAPSIS_ALTITUDE = 368.8
PERIAPSIS_ARGUMENT_ANGLE = 43.43
PERIAPSIS_TIME = 2015-03-23T17:44:04.000Z
SPACECRAFT_ORIENTATION = (0.0,1.0,0.0)
^MEX_ORIENTATION_DESC = "MEX_ORIENTATION_DESC.TXT"
SPACECRAFT_POINTING_MODE = INERT
^MEX_POINTING_DESC = "MEX_POINTING_DESC.TXT"
RIGHT_ASCENSION = 334.517
DECLINATION = 38.84
OFFSET_ANGLE = -1e+32
SPACECRAFT_SOLAR_DISTANCE = 2.16537e+08
TARGET_NAME = MARS
/* CAMERA DATA ELEMENTS */
DETECTOR_TEMPERATURE = 17.351
FOCAL_PLANE_TEMPERATURE = 8.3794
INST_CMPRS_NAME = "DISCRETE COSINE TRANSFORMATION (DCT)"
INST_CMPRS_RATIO = 9.76637
INST_CMPRS_QUALITY = 0
INST_CMPRS_QUANTZ_TBL_ID = 0
INSTRUMENT_TEMPERATURE = 11.234
LENS_TEMPERATURE = 8.7872
MACROPIXEL_SIZE = 2
MISSING_FRAMES = 0
PIXEL_SUBSAMPLING_FLAG = N
SIGNAL_CHAIN_ID = 1
/* RADIOMETRIC DATA ELEMENTS */
BANDWIDTH = 81.0
CENTER_FILTER_WAVELENGTH = 955.5
RADIANCE_OFFSET = 0.0
RADIANCE_SCALING_FACTOR = 0.0127392
REFLECTANCE_SCALING_FACTOR = 0.00128848
MEX:REFLECTANCE_OFFSET = 0.0
/* IMAGE OBJECT DEFINITIONS */
OBJECT = IMAGE
  INTERCHANGE_FORMAT = BINARY
  LINES = 11573
  LINE_SAMPLES = 10043
  SAMPLE_TYPE = UNSIGNED_INTEGER
  SAMPLE_BITS = 8
  BANDS = 1
  BAND_STORAGE_TYPE = BAND_SEQUENTIAL
  MAXIMUM = 255
  MEAN = 104.844
  MINIMUM = 1
  STANDARD_DEVIATION = 71.7453
END_OBJECT = IMAGE
/* MAP OBJECT DEFINITIONS */
OBJECT = IMAGE_MAP_PROJECTION
  ^DATA_SET_MAP_PROJECTION_CATALOG= "DSMAP.CAT"
  A_AXIS_RADIUS = 3396.0
  B_AXIS_RADIUS = 3396.0
  C_AXIS_RADIUS = 3396.0
  CENTER_LATITUDE = -90.0
  CENTER_LONGITUDE = 0.0
  COORDINATE_SYSTEM_NAME = PLANETOGRAPHIC
  COORDINATE_SYSTEM_TYPE = "BODY-FIXED ROTATING"
  EASTERNMOST_LONGITUDE = 360.0
  FIRST_STANDARD_PARALLEL = "N/A"
  LINE_FIRST_PIXEL = 1
  LINE_LAST_PIXEL = 11573
  LINE_PROJECTION_OFFSET = 4189.0
  MAP_PROJECTION_ROTATION = 0.0
  MAP_PROJECTION_TYPE = STEREOGRAPHIC
  MAP_RESOLUTION = 74.08922548333329
  MAP_SCALE = 0.8
  MAXIMUM_LATITUDE = -0.758964
  MINIMUM_LATITUDE = -90.0
  POSITIVE_LONGITUDE_DIRECTION = EAST
  REFERENCE_LATITUDE = "N/A"
  REFERENCE_LONGITUDE = "N/A"
  SAMPLE_FIRST_PIXEL = 1
  SAMPLE_LAST_PIXEL = 10043
  SAMPLE_PROJECTION_OFFSET = 3805.0
  SECOND_STANDARD_PARALLEL = "N/A"
  WESTERNMOST_LONGITUDE = 0.0
END_OBJECT = IMAGE_MAP_PROJECTION
/* The JPEG2000 image data file associated with this label. */
OBJECT = COMPRESSED_FILE
  FILE_NAME = "HE241_0000_IR3.JP2"
  RECORD_TYPE = UNDEFINED
  FILE_RECORDS = UNK
  ENCODING_TYPE = "JP2"
  INTERCHANGE_FORMAT = BINARY
  UNCOMPRESSED_FILE_NAME = "HE241_0000_IR3.IMG"
  REQUIRED_STORAGE_BYTES = "116257768"
  ^DESCRIPTION = "JP2INFO.TXT"
END_OBJECT = COMPRESSED_FILE
END
