PDS_VERSION_ID = PDS3
/* FILE DATA ELEMENTS */
RECORD_TYPE = STREAM
/* POINTERS TO DATA OBJECTS */
^COMPRESSED_FILE = "HE241_0000_ND3.JP2"
/* IDENTIFICATION DATA ELEMENTS */
DATA_SET_ID = "MEX-M-HRSC-5-REFDR-MAPPROJECTED-V3.0"
DATA_SET_NAME = "MARS EXPRESS HRSC MAP PROJECTED REFDR V3.0"
DETECTOR_ID = MEX_HRSC_NADIR
EVENT_TYPE = "MARS-TERMINATOR-CALIBRATION-Tc"
INSTRUMENT_HOST_ID = MEX
INSTRUMENT_HOST_NAME = "MARS EXPRESS"
INSTRUMENT_ID = HRSC
INSTRUMENT_NAME = "HIGH RESOLUTION STEREO CAMERA"
MISSION_NAME = "MARS EXPRESS"
MISSION_PHASE_NAME = ME_Phase_32
PROCESSING_LEVEL_ID = 3
PRODUCT_CREATION_TIME = 2016-10-30T02:17:08.000Z
PRODUCT_ID = "HE241_0000_ND3.JP2"
RELEASE_ID = 0128
REVISION_ID = 0000
/* QUALITY DATA ELEMENTS */
DATA_QUALITY_ID = 1
DATA_QUALITY_DESC = "Data calculated based on original SPICE kernels"
/* TIME DATA ELEMENTS */
SPACECRAFT_CLOCK_START_COUNT = "1/0375205618.09038"
SPACECRAFT_CLOCK_STOP_COUNT = "1/0375206085.06429"
START_TIME = 2015-03-23T15:49:04.608Z
STOP_TIME = 2015-03-23T15:52:47.590Z
/* ORBITAL DATA ELEMENTS */
ASCENDING_NODE_LONGITUDE = 306.34
MAXIMUM_RESOLUTION = 664
FOOTPRINT_POINT_LATITUDE = (-0.0136381,-0.867203,-1.21966, -0.564017,-0.727691,-1.19144,-3.51645, -5.76545,-8.20572,-11.6503,-15.458, -18.891,-22.6946,-26.027,-30.8024, -35.4059,-40.4855,-44.4339,-47.8175, -52.6833,-54.7663,-59.1806,-63.8248, -66.5818,-68.7484,-70.2195,-71.816, -73.4782,-73.8929,-73.498,-71.8458, -68.8596,-64.688,-60.9641,-58.0617, -53.6926,-50.407,-47.2565,-44.406, -41.9356,-38.8171,-35.4551,-31.4127, -33.0487,-33.8707,-32.8544,-33.3418, -32.7953,-32.6678,-33.62,-33.9105, -33.7993,-34.6183,-36.2038,-38.8749, -41.2622,-44.0303,-48.6012,-51.1332, -54.4562,-56.6158,-59.3164,-62.6482, -64.8237,-67.8554,-70.2768,-72.5051, -74.0035,-75.4157,-75.7901,-75.473, -73.7446,-70.6643,-67.0465,-63.9302, -61.0085,-56.6979,-52.5414,-49.785, -46.4831,-43.9846,-41.4416,-37.6917, -34.7214,-30.4535,-25.7503,-22.7649, -20.2404,-17.0353,-14.5404,-9.82302, -6.11416,-2.75365,-0.997308,-0.880983, -0.65501,-1.21293,-0.523444,-0.0136381)
FOOTPRINT_POINT_LONGITUDE = (145.016,148.12,152.288,156.037,159.627 ,162.545,164.771,164.583,164.416, 164.247,164.147,164.141,164.229,164.406 ,164.841,165.49,166.537,167.657,168.894 ,171.301,172.618,176.268,181.995, 187.014,192.493,197.417,204.847,219.0, 232.848,243.706,258.038,270.309,279.759 ,285.059,288.08,291.475,293.392,294.893 ,295.984,296.785,297.634,298.362, 301.067,304.307,307.854,311.34,316.051, 320.003,326.453,330.813,333.806,338.201 ,343.377,346.117,346.605,347.137, 347.869,349.419,350.496,352.241,353.622 ,355.717,359.045,1.84717,7.03531, 12.8886,20.7666,28.8376,42.7327,54.2159 ,67.1982,83.7254,96.8775,105.429, 110.248,113.577,117.154,119.621,120.889 ,122.131,122.889,123.558,124.339, 124.829,125.353,125.743,125.882,125.961 ,125.984,125.96,125.808,125.592,126.886 ,130.012,132.56,135.258,139.308,142.633 ,145.016)
ORBIT_NUMBER = 14241
ORBITAL_ECCENTRICITY = 0.574
ORBITAL_INCLINATION = 86.92
ORBITAL_SEMIMAJOR_AXIS = 8811.19
PERIAPSIS_ALTITUDE = 368.8
PERIAPSIS_ARGUMENT_ANGLE = 43.43
PERIAPSIS_TIME = 2015-03-23T17:44:04.000Z
SPACECRAFT_ORIENTATION = (0.0,1.0,0.0)
^MEX_ORIENTATION_DESC = "MEX_ORIENTATION_DESC.TXT"
SPACECRAFT_POINTING_MODE = INERT
^MEX_POINTING_DESC = "MEX_POINTING_DESC.TXT"
RIGHT_ASCENSION = 334.517
DECLINATION = 38.84
OFFSET_ANGLE = -1e+32
SPACECRAFT_SOLAR_DISTANCE = 2.16537e+08
TARGET_NAME = MARS
/* CAMERA DATA ELEMENTS */
DETECTOR_TEMPERATURE = 18.1666
FOCAL_PLANE_TEMPERATURE = 8.3794
INST_CMPRS_NAME = "DISCRETE COSINE TRANSFORMATION (DCT)"
INST_CMPRS_RATIO = 10.0477
INST_CMPRS_QUALITY = 0
INST_CMPRS_QUANTZ_TBL_ID = 0
INSTRUMENT_TEMPERATURE = 11.234
LENS_TEMPERATURE = 8.7872
MACROPIXEL_SIZE = 2
MISSING_FRAMES = 0
PIXEL_SUBSAMPLING_FLAG = N
SIGNAL_CHAIN_ID = 0
/* RADIOMETRIC DATA ELEMENTS */
BANDWIDTH = 177.0
CENTER_FILTER_WAVELENGTH = 677.5
RADIANCE_OFFSET = 0.0
RADIANCE_SCALING_FACTOR = 0.0509063
REFLECTANCE_SCALING_FACTOR = 0.00126784
MEX:REFLECTANCE_OFFSET = 0.0
/* IMAGE OBJECT DEFINITIONS */
OBJECT = IMAGE
  INTERCHANGE_FORMAT = BINARY
  LINES = 11573
  LINE_SAMPLES = 10043
  SAMPLE_TYPE = UNSIGNED_INTEGER
  SAMPLE_BITS = 8
  BANDS = 1
  BAND_STORAGE_TYPE = BAND_SEQUENTIAL
  MAXIMUM = 255
  MEAN = 110.897
  MINIMUM = 1
  STANDARD_DEVIATION = 73.8608
END_OBJECT = IMAGE
/* MAP OBJECT DEFINITIONS */
OBJECT = IMAGE_MAP_PROJECTION
  ^DATA_SET_MAP_PROJECTION_CATALOG= "DSMAP.CAT"
  A_AXIS_RADIUS = 3396.0
  B_AXIS_RADIUS = 3396.0
  C_AXIS_RADIUS = 3396.0
  CENTER_LATITUDE = -90.0
  CENTER_LONGITUDE = 0.0
  COORDINATE_SYSTEM_NAME = PLANETOGRAPHIC
  COORDINATE_SYSTEM_TYPE = "BODY-FIXED ROTATING"
  EASTERNMOST_LONGITUDE = 360.0
  FIRST_STANDARD_PARALLEL = "N/A"
  LINE_FIRST_PIXEL = 1
  LINE_LAST_PIXEL = 11573
  LINE_PROJECTION_OFFSET = 4189.0
  MAP_PROJECTION_ROTATION = 0
  MAP_PROJECTION_TYPE = STEREOGRAPHIC
  MAP_RESOLUTION = 74.08922548333329
  MAP_SCALE = 0.8
  MAXIMUM_LATITUDE = -0.013638
  MINIMUM_LATITUDE = -90.0
  POSITIVE_LONGITUDE_DIRECTION = EAST
  REFERENCE_LATITUDE = "N/A"
  REFERENCE_LONGITUDE = "N/A"
  SAMPLE_FIRST_PIXEL = 1
  SAMPLE_LAST_PIXEL = 10043
  SAMPLE_PROJECTION_OFFSET = 3805.0
  SECOND_STANDARD_PARALLEL = "N/A"
  WESTERNMOST_LONGITUDE = 0.0
END_OBJECT = IMAGE_MAP_PROJECTION
/* The JPEG2000 image data file associated with this label. */
OBJECT = COMPRESSED_FILE
  FILE_NAME = "HE241_0000_ND3.JP2"
  RECORD_TYPE = UNDEFINED
  FILE_RECORDS = UNK
  ENCODING_TYPE = "JP2"
  INTERCHANGE_FORMAT = BINARY
  UNCOMPRESSED_FILE_NAME = "HE241_0000_ND3.IMG"
  REQUIRED_STORAGE_BYTES = "116257768"
  ^DESCRIPTION = "JP2INFO.TXT"
END_OBJECT = COMPRESSED_FILE
END
