PDS_VERSION_ID = PDS3
/* FILE DATA ELEMENTS */
RECORD_TYPE = STREAM
/* POINTERS TO DATA OBJECTS */
^COMPRESSED_FILE = "HE241_0000_S13.JP2"
/* IDENTIFICATION DATA ELEMENTS */
DATA_SET_ID = "MEX-M-HRSC-5-REFDR-MAPPROJECTED-V3.0"
DATA_SET_NAME = "MARS EXPRESS HRSC MAP PROJECTED REFDR V3.0"
DETECTOR_ID = MEX_HRSC_S1
EVENT_TYPE = "MARS-TERMINATOR-CALIBRATION-Tc"
INSTRUMENT_HOST_ID = MEX
INSTRUMENT_HOST_NAME = "MARS EXPRESS"
INSTRUMENT_ID = HRSC
INSTRUMENT_NAME = "HIGH RESOLUTION STEREO CAMERA"
MISSION_NAME = "MARS EXPRESS"
MISSION_PHASE_NAME = ME_Phase_32
PROCESSING_LEVEL_ID = 3
PRODUCT_CREATION_TIME = 2016-10-30T02:17:08.000Z
PRODUCT_ID = "HE241_0000_S13.JP2"
RELEASE_ID = 0128
REVISION_ID = 0000
/* QUALITY DATA ELEMENTS */
DATA_QUALITY_ID = 1
DATA_QUALITY_DESC = "Data calculated based on original SPICE kernels"
/* TIME DATA ELEMENTS */
SPACECRAFT_CLOCK_START_COUNT = "1/0375205618.09038"
SPACECRAFT_CLOCK_STOP_COUNT = "1/0375206085.06429"
START_TIME = 2015-03-23T15:51:04.648Z
STOP_TIME = 2015-03-23T15:54:49.597Z
/* ORBITAL DATA ELEMENTS */
ASCENDING_NODE_LONGITUDE = 306.34
MAXIMUM_RESOLUTION = 1314.2
FOOTPRINT_POINT_LATITUDE = (-1.71996,-3.15419,-2.99368,-3.92095, -4.26079,-2.99875,-5.86905,-9.44588, -11.8016,-14.5835,-18.2936,-20.9485, -24.4763,-29.0071,-34.4305,-38.4131, -42.6765,-47.1176,-49.6998,-52.5962, -56.566,-59.6373,-62.5965,-64.6139, -67.5621,-69.5023,-71.9049,-73.3242, -74.3687,-74.1809,-73.3069,-72.1565, -69.5525,-66.7782,-64.068,-61.9305, -59.1644,-55.3755,-50.4491,-46.4339, -42.6545,-40.3035,-36.8677,-34.0236, -31.7054,-33.8755,-31.9569,-33.4469, -32.6586,-32.6177,-32.9959,-31.8577, -34.0444,-34.0117,-32.3768,-36.1386, -38.8039,-41.162,-46.1142,-49.9046, -52.7684,-57.5378,-61.0021,-64.7812, -67.052,-70.8467,-72.57,-75.6148, -77.3045,-77.1361,-75.2438,-73.4101, -70.2046,-67.137,-63.4051,-59.6592, -55.0652,-51.7201,-48.8485,-44.8176, -41.8662,-38.6563,-35.2726,-32.5763, -27.7131,-24.3179,-21.9653,-19.1983, -14.9696,-11.6615,-9.33542,-5.56318, -2.00256,-3.94141,-3.9569,-2.78474, -3.23838,-1.34369,-1.71996)
FOOTPRINT_POINT_LONGITUDE = (145.826,149.865,153.637,156.124, 158.652,162.956,163.36,163.147,163.048, 162.985,162.968,163.004,163.143,163.48, 164.145,164.851,165.864,167.298,168.369 ,169.838,172.403,175.054,178.361, 181.252,186.86,191.992,201.349,210.423, 224.386,242.097,252.195,259.836,270.341 ,277.379,282.185,285.098,288.084, 291.231,294.147,295.912,297.213,297.869 ,298.674,299.195,302.566,306.839, 309.643,312.492,318.785,322.814,327.984 ,333.094,335.445,339.206,342.837, 343.295,343.723,344.161,345.37,346.614, 347.791,350.366,352.929,356.774,359.862 ,7.30193,12.2639,26.7494,49.0221, 65.5777,85.2096,94.2119,103.733,109.487 ,114.264,117.611,120.517,122.091, 123.177,124.382,125.072,125.676,126.187 ,126.502,126.914,127.089,127.163, 127.197,127.185,127.094,126.996,126.77, 126.493,127.938,131.132,134.859,138.011 ,141.723,145.826)
ORBIT_NUMBER = 14241
ORBITAL_ECCENTRICITY = 0.574
ORBITAL_INCLINATION = 86.92
ORBITAL_SEMIMAJOR_AXIS = 8811.19
PERIAPSIS_ALTITUDE = 368.8
PERIAPSIS_ARGUMENT_ANGLE = 43.43
PERIAPSIS_TIME = 2015-03-23T17:44:04.000Z
SPACECRAFT_ORIENTATION = (0.0,1.0,0.0)
^MEX_ORIENTATION_DESC = "MEX_ORIENTATION_DESC.TXT"
SPACECRAFT_POINTING_MODE = INERT
^MEX_POINTING_DESC = "MEX_POINTING_DESC.TXT"
RIGHT_ASCENSION = 334.517
DECLINATION = 38.84
OFFSET_ANGLE = -1e+32
SPACECRAFT_SOLAR_DISTANCE = 2.16537e+08
TARGET_NAME = MARS
/* CAMERA DATA ELEMENTS */
DETECTOR_TEMPERATURE = 17.351
FOCAL_PLANE_TEMPERATURE = 8.3794
INST_CMPRS_NAME = "DISCRETE COSINE TRANSFORMATION (DCT)"
INST_CMPRS_RATIO = 30.2458
INST_CMPRS_QUALITY = 0
INST_CMPRS_QUANTZ_TBL_ID = 0
INSTRUMENT_TEMPERATURE = 11.234
LENS_TEMPERATURE = 8.7872
MACROPIXEL_SIZE = 4
MISSING_FRAMES = 0
PIXEL_SUBSAMPLING_FLAG = N
SIGNAL_CHAIN_ID = 3
/* RADIOMETRIC DATA ELEMENTS */
BANDWIDTH = 180.0
CENTER_FILTER_WAVELENGTH = 677.0
RADIANCE_OFFSET = 0.0
RADIANCE_SCALING_FACTOR = 0.0477464
REFLECTANCE_SCALING_FACTOR = 0.00116786
MEX:REFLECTANCE_OFFSET = 0.0
/* IMAGE OBJECT DEFINITIONS */
OBJECT = IMAGE
  INTERCHANGE_FORMAT = BINARY
  LINES = 5787
  LINE_SAMPLES = 5022
  SAMPLE_TYPE = UNSIGNED_INTEGER
  SAMPLE_BITS = 8
  BANDS = 1
  BAND_STORAGE_TYPE = BAND_SEQUENTIAL
  MAXIMUM = 255
  MEAN = 114.263
  MINIMUM = 1
  STANDARD_DEVIATION = 75.1317
END_OBJECT = IMAGE
/* MAP OBJECT DEFINITIONS */
OBJECT = IMAGE_MAP_PROJECTION
  ^DATA_SET_MAP_PROJECTION_CATALOG= "DSMAP.CAT"
  A_AXIS_RADIUS = 3396.0
  B_AXIS_RADIUS = 3396.0
  C_AXIS_RADIUS = 3396.0
  CENTER_LATITUDE = -90.0
  CENTER_LONGITUDE = 0.0
  COORDINATE_SYSTEM_NAME = PLANETOGRAPHIC
  COORDINATE_SYSTEM_TYPE = "BODY-FIXED ROTATING"
  EASTERNMOST_LONGITUDE = 360.0
  FIRST_STANDARD_PARALLEL = "N/A"
  LINE_FIRST_PIXEL = 1
  LINE_LAST_PIXEL = 5787
  LINE_PROJECTION_OFFSET = 2094.25
  MAP_PROJECTION_ROTATION = 0.0
  MAP_PROJECTION_TYPE = STEREOGRAPHIC
  MAP_RESOLUTION = 37.0446127416667
  MAP_SCALE = 1.6
  MAXIMUM_LATITUDE = -1.34369
  MINIMUM_LATITUDE = -90.0
  POSITIVE_LONGITUDE_DIRECTION = EAST
  REFERENCE_LATITUDE = "N/A"
  REFERENCE_LONGITUDE = "N/A"
  SAMPLE_FIRST_PIXEL = 1
  SAMPLE_LAST_PIXEL = 5022
  SAMPLE_PROJECTION_OFFSET = 1902.25
  SECOND_STANDARD_PARALLEL = "N/A"
  WESTERNMOST_LONGITUDE = 0.0
END_OBJECT = IMAGE_MAP_PROJECTION
/* The JPEG2000 image data file associated with this label. */
OBJECT = COMPRESSED_FILE
  FILE_NAME = "HE241_0000_S13.JP2"
  RECORD_TYPE = UNDEFINED
  FILE_RECORDS = UNK
  ENCODING_TYPE = "JP2"
  INTERCHANGE_FORMAT = BINARY
  UNCOMPRESSED_FILE_NAME = "HE241_0000_S13.IMG"
  REQUIRED_STORAGE_BYTES = "29087424"
  ^DESCRIPTION = "JP2INFO.TXT"
END_OBJECT = COMPRESSED_FILE
END
