PDS_VERSION_ID = PDS3
/* FILE DATA ELEMENTS */
RECORD_TYPE = STREAM
/* POINTERS TO DATA OBJECTS */
^COMPRESSED_FILE = "HE338_0000_BL3.JP2"
/* IDENTIFICATION DATA ELEMENTS */
DATA_SET_ID = "MEX-M-HRSC-5-REFDR-MAPPROJECTED-V3.0"
DATA_SET_NAME = "MARS EXPRESS HRSC MAP PROJECTED REFDR V3.0"
DETECTOR_ID = MEX_HRSC_BLUE
EVENT_TYPE = "MARS-TERMINATOR-VARIABLE-Gl-At"
INSTRUMENT_HOST_ID = MEX
INSTRUMENT_HOST_NAME = "MARS EXPRESS"
INSTRUMENT_ID = HRSC
INSTRUMENT_NAME = "HIGH RESOLUTION STEREO CAMERA"
MISSION_NAME = "MARS EXPRESS"
MISSION_PHASE_NAME = ME_Phase_32
PROCESSING_LEVEL_ID = 3
PRODUCT_CREATION_TIME = 2016-10-30T02:17:08.000Z
PRODUCT_ID = "HE338_0000_BL3.JP2"
RELEASE_ID = 0128
REVISION_ID = 0000
/* QUALITY DATA ELEMENTS */
DATA_QUALITY_ID = 1
DATA_QUALITY_DESC = "Data calculated based on original SPICE kernels"
/* TIME DATA ELEMENTS */
SPACECRAFT_CLOCK_START_COUNT = "1/0377649222.09063"
SPACECRAFT_CLOCK_STOP_COUNT = "1/0377652118.09805"
START_TIME = 2015-04-20T22:33:48.841Z
STOP_TIME = 2015-04-20T23:14:12.894Z
/* ORBITAL DATA ELEMENTS */
ASCENDING_NODE_LONGITUDE = 304.5
MAXIMUM_RESOLUTION = 290.6
FOOTPRINT_POINT_LATITUDE = (-73.7831,-74.3513,-74.8811,-75.3703, -75.8166,-76.217,-76.5682,-76.867, -77.1109,-77.2976,-77.4246,-77.4905, -77.4946,-77.4371,-77.3185,-77.1403, -76.9046,-76.6136,-76.2704,-75.8776, -75.438,-74.9542,-74.4299,-73.8682, -73.2712,-72.8912,-73.7496,-74.6186, -75.4794,-75.8992,-76.3053,-76.6906, -77.0497,-77.3763,-77.6545,-77.8786, -78.031,-78.1049,-78.0816,-77.9521, -77.707,-77.3367,-76.8326,-76.1972, -75.8301,-75.428,-74.9926,-74.5192, -74.0156,-73.4792,-72.9082,-72.7286, -73.1729,-73.5203,-73.8284,-74.1653, -74.3737,-74.5599,-74.6982,-74.761, -74.6927,-74.5439,-74.4039,-74.7022, -75.4724,-76.2226,-76.9446,-77.645, -78.3231,-78.9748,-79.5972,-80.1919, -80.756,-81.2874,-81.7817,-82.2385, -82.6565,-83.0227,-83.3364,-83.5928, -83.7875,-83.9186,-83.9849,-83.9263, -83.6368,-83.1601,-82.5446,-81.8313, -81.052,-80.2283,-79.3767,-78.5087, -77.6304,-76.7469,-75.8623,-74.9793, -74.0985,-73.2229,-73.7831)
FOOTPRINT_POINT_LONGITUDE = (255.655,258.405,261.322,264.409, 267.672,271.111,274.717,278.48,282.384, 286.407,290.52,294.688,298.876,303.046, 307.162,311.19,315.106,318.884,322.508, 325.965,329.251,332.366,335.306,338.076 ,340.683,342.442,344.828,347.776, 351.443,353.596,356.0,358.687,1.67036, 4.96153,8.60325,12.5734,16.8768,21.4599 ,26.2819,31.2563,36.2891,41.282,46.1369 ,50.7709,52.9856,55.1223,57.1777, 59.1428,61.0248,62.8199,64.5253,68.6406 ,71.649,74.3938,77.2356,81.0267,84.0684 ,87.6358,91.7376,96.8231,102.392, 106.542,109.261,111.419,112.79,114.264, 115.889,117.653,119.576,121.689,124.025 ,126.596,129.436,132.573,136.043, 139.865,144.059,148.658,153.647,158.999 ,164.658,170.537,176.528,188.359, 199.272,208.747,216.673,223.197,228.559 ,232.984,236.683,239.824,242.512, 244.836,246.878,248.694,250.307,251.78, 255.655)
ORBIT_NUMBER = 14338
ORBITAL_ECCENTRICITY = 0.576
ORBITAL_INCLINATION = 86.9
ORBITAL_SEMIMAJOR_AXIS = 8842.65
PERIAPSIS_ALTITUDE = 358.98
PERIAPSIS_ARGUMENT_ANGLE = 26.59
PERIAPSIS_TIME = 2015-04-20T23:58:20.000Z
SPACECRAFT_ORIENTATION = (0.0,1.0,0.0)
^MEX_ORIENTATION_DESC = "MEX_ORIENTATION_DESC.TXT"
SPACECRAFT_POINTING_MODE = NADIR
^MEX_POINTING_DESC = "MEX_POINTING_DESC.TXT"
RIGHT_ASCENSION = -1e+32
DECLINATION = -1e+32
OFFSET_ANGLE = -1e+32
SPACECRAFT_SOLAR_DISTANCE = 2.21729e+08
TARGET_NAME = MARS
/* CAMERA DATA ELEMENTS */
DETECTOR_TEMPERATURE = 18.3705
FOCAL_PLANE_TEMPERATURE = 8.3794
INST_CMPRS_NAME = "DISCRETE COSINE TRANSFORMATION (DCT)"
INST_CMPRS_RATIO = 27.5917
INST_CMPRS_QUALITY = 0
INST_CMPRS_QUANTZ_TBL_ID = 0
INSTRUMENT_TEMPERATURE = 11.234
LENS_TEMPERATURE = 8.7872
MACROPIXEL_SIZE = 2
MISSING_FRAMES = 0
PIXEL_SUBSAMPLING_FLAG = N
SIGNAL_CHAIN_ID = 2
/* RADIOMETRIC DATA ELEMENTS */
BANDWIDTH = 76.0
CENTER_FILTER_WAVELENGTH = 444.0
RADIANCE_OFFSET = 0.0643926
RADIANCE_SCALING_FACTOR = 0.00719682
REFLECTANCE_SCALING_FACTOR = 0.000363495
MEX:REFLECTANCE_OFFSET = 0.00325232
/* IMAGE OBJECT DEFINITIONS */
OBJECT = IMAGE
  INTERCHANGE_FORMAT = BINARY
  LINES = 6621
  LINE_SAMPLES = 9656
  SAMPLE_TYPE = UNSIGNED_INTEGER
  SAMPLE_BITS = 8
  BANDS = 1
  BAND_STORAGE_TYPE = BAND_SEQUENTIAL
  MAXIMUM = 255
  MEAN = 63.8222
  MINIMUM = 1
  STANDARD_DEVIATION = 32.7337
END_OBJECT = IMAGE
/* MAP OBJECT DEFINITIONS */
OBJECT = IMAGE_MAP_PROJECTION
  ^DATA_SET_MAP_PROJECTION_CATALOG= "DSMAP.CAT"
  A_AXIS_RADIUS = 3396.0
  B_AXIS_RADIUS = 3396.0
  C_AXIS_RADIUS = 3396.0
  CENTER_LATITUDE = -90.0
  CENTER_LONGITUDE = 0.0
  COORDINATE_SYSTEM_NAME = PLANETOGRAPHIC
  COORDINATE_SYSTEM_TYPE = "BODY-FIXED ROTATING"
  EASTERNMOST_LONGITUDE = 360.0
  FIRST_STANDARD_PARALLEL = "N/A"
  LINE_FIRST_PIXEL = 1
  LINE_LAST_PIXEL = 6621
  LINE_PROJECTION_OFFSET = 4856.0
  MAP_PROJECTION_ROTATION = 0
  MAP_PROJECTION_TYPE = STEREOGRAPHIC
  MAP_RESOLUTION = 296.356901933333
  MAP_SCALE = 0.2
  MAXIMUM_LATITUDE = -72.7286
  MINIMUM_LATITUDE = -90.0
  POSITIVE_LONGITUDE_DIRECTION = EAST
  REFERENCE_LATITUDE = "N/A"
  REFERENCE_LONGITUDE = "N/A"
  SAMPLE_FIRST_PIXEL = 1
  SAMPLE_LAST_PIXEL = 9656
  SAMPLE_PROJECTION_OFFSET = 4831.0
  SECOND_STANDARD_PARALLEL = "N/A"
  WESTERNMOST_LONGITUDE = 0.0
END_OBJECT = IMAGE_MAP_PROJECTION
/* The JPEG2000 image data file associated with this label. */
OBJECT = COMPRESSED_FILE
  FILE_NAME = "HE338_0000_BL3.JP2"
  RECORD_TYPE = UNDEFINED
  FILE_RECORDS = UNK
  ENCODING_TYPE = "JP2"
  INTERCHANGE_FORMAT = BINARY
  UNCOMPRESSED_FILE_NAME = "HE338_0000_BL3.IMG"
  REQUIRED_STORAGE_BYTES = "63961344"
  ^DESCRIPTION = "JP2INFO.TXT"
END_OBJECT = COMPRESSED_FILE
END
