PDS_VERSION_ID = PDS3
/* FILE DATA ELEMENTS */
RECORD_TYPE = STREAM
/* POINTERS TO DATA OBJECTS */
^COMPRESSED_FILE = "HE338_0000_GR3.JP2"
/* IDENTIFICATION DATA ELEMENTS */
DATA_SET_ID = "MEX-M-HRSC-5-REFDR-MAPPROJECTED-V3.0"
DATA_SET_NAME = "MARS EXPRESS HRSC MAP PROJECTED REFDR V3.0"
DETECTOR_ID = MEX_HRSC_GREEN
EVENT_TYPE = "MARS-TERMINATOR-VARIABLE-Gl-At"
INSTRUMENT_HOST_ID = MEX
INSTRUMENT_HOST_NAME = "MARS EXPRESS"
INSTRUMENT_ID = HRSC
INSTRUMENT_NAME = "HIGH RESOLUTION STEREO CAMERA"
MISSION_NAME = "MARS EXPRESS"
MISSION_PHASE_NAME = ME_Phase_32
PROCESSING_LEVEL_ID = 3
PRODUCT_CREATION_TIME = 2016-10-30T02:17:08.000Z
PRODUCT_ID = "HE338_0000_GR3.JP2"
RELEASE_ID = 0128
REVISION_ID = 0000
/* QUALITY DATA ELEMENTS */
DATA_QUALITY_ID = 1
DATA_QUALITY_DESC = "Data calculated based on original SPICE kernels"
/* TIME DATA ELEMENTS */
SPACECRAFT_CLOCK_START_COUNT = "1/0377649222.09063"
SPACECRAFT_CLOCK_STOP_COUNT = "1/0377652118.09805"
START_TIME = 2015-04-20T22:53:34.828Z
STOP_TIME = 2015-04-20T23:19:46.295Z
/* ORBITAL DATA ELEMENTS */
ASCENDING_NODE_LONGITUDE = 304.5
MAXIMUM_RESOLUTION = 247.1
FOOTPRINT_POINT_LATITUDE = (-76.4858,-76.7951,-77.0674,-77.3014, -77.4957,-77.6493,-77.7609,-77.8297, -77.8553,-77.8378,-77.7776,-77.6755, -77.5326,-77.3501,-77.1297,-76.873, -76.582,-76.2584,-75.9042,-75.5213, -75.111,-74.6744,-74.2136,-73.7304, -73.226,-72.7196,-73.3675,-74.0157, -74.6568,-75.2899,-75.9107,-76.5136, -77.094,-77.6402,-78.1478,-78.6041, -78.9982,-79.3141,-79.5406,-79.6593, -79.6597,-79.5353,-79.2798,-78.8926, -78.3783,-77.7401,-76.9867,-76.3418, -75.8861,-75.4061,-74.9024,-74.3761, -73.828,-73.2586,-73.3172,-73.6579, -73.9206,-74.1183,-74.3305,-74.5422, -74.6288,-74.6493,-74.6339,-74.5731, -74.4204,-74.6901,-75.3848,-76.0669, -76.7371,-77.3942,-78.0382,-78.6687, -79.2923,-79.8946,-80.4814,-81.0516, -81.6038,-82.1362,-82.6467,-83.1326, -83.5903,-84.4035,-85.0422,-85.4532, -85.5921,-85.4529,-85.0722,-84.5116, -83.644,-82.873,-82.0599,-81.2217, -80.3696,-79.5131,-78.6553,-77.7995, -76.9452,-76.0995,-76.4858)
FOOTPRINT_POINT_LONGITUDE = (260.226,263.13,266.147,269.267,272.48, 275.774,279.129,282.525,285.942,289.358 ,292.747,296.084,299.351,302.535, 305.621,308.597,311.457,314.193,316.804 ,319.288,321.649,323.891,326.015, 328.024,329.925,331.505,332.813,334.3, 335.984,337.895,340.065,342.528,345.322 ,348.484,352.051,356.052,0.516434, 5.41403,10.725,16.3626,22.2161,28.1558, 34.0261,39.6861,45.0369,49.9777,54.4799 ,57.573,59.4882,61.2978,62.9973,64.596, 66.1081,67.5303,71.274,74.3966,77.2578, 79.8245,83.193,88.1941,92.1156,94.4878, 98.0513,101.206,105.529,107.663,108.563 ,109.527,110.581,111.717,112.951, 114.291,115.809,117.451,119.264,121.275 ,123.517,126.026,128.848,132.032, 135.634,144.326,155.305,168.535,183.12, 197.401,209.924,220.116,229.867,235.776 ,240.465,244.248,247.354,249.955, 252.166,254.072,255.741,257.214, 260.226)
ORBIT_NUMBER = 14338
ORBITAL_ECCENTRICITY = 0.576
ORBITAL_INCLINATION = 86.9
ORBITAL_SEMIMAJOR_AXIS = 8842.65
PERIAPSIS_ALTITUDE = 358.98
PERIAPSIS_ARGUMENT_ANGLE = 26.59
PERIAPSIS_TIME = 2015-04-20T23:58:20.000Z
SPACECRAFT_ORIENTATION = (0.0,1.0,0.0)
^MEX_ORIENTATION_DESC = "MEX_ORIENTATION_DESC.TXT"
SPACECRAFT_POINTING_MODE = NADIR
^MEX_POINTING_DESC = "MEX_POINTING_DESC.TXT"
RIGHT_ASCENSION = -1e+32
DECLINATION = -1e+32
OFFSET_ANGLE = -1e+32
SPACECRAFT_SOLAR_DISTANCE = 2.21729e+08
TARGET_NAME = MARS
/* CAMERA DATA ELEMENTS */
DETECTOR_TEMPERATURE = 18.3705
FOCAL_PLANE_TEMPERATURE = 8.3794
INST_CMPRS_NAME = "DISCRETE COSINE TRANSFORMATION (DCT)"
INST_CMPRS_RATIO = 16.3073
INST_CMPRS_QUALITY = 0
INST_CMPRS_QUANTZ_TBL_ID = 0
INSTRUMENT_TEMPERATURE = 11.234
LENS_TEMPERATURE = 8.7872
MACROPIXEL_SIZE = 2
MISSING_FRAMES = 2
PIXEL_SUBSAMPLING_FLAG = N
SIGNAL_CHAIN_ID = 2
/* RADIOMETRIC DATA ELEMENTS */
BANDWIDTH = 88.0
CENTER_FILTER_WAVELENGTH = 538.0
RADIANCE_OFFSET = 0.346238
RADIANCE_SCALING_FACTOR = 0.0112697
REFLECTANCE_SCALING_FACTOR = 0.000476983
MEX:REFLECTANCE_OFFSET = 0.0146543
/* IMAGE OBJECT DEFINITIONS */
OBJECT = IMAGE
  INTERCHANGE_FORMAT = BINARY
  LINES = 6621
  LINE_SAMPLES = 9656
  SAMPLE_TYPE = UNSIGNED_INTEGER
  SAMPLE_BITS = 8
  BANDS = 1
  BAND_STORAGE_TYPE = BAND_SEQUENTIAL
  MAXIMUM = 255
  MEAN = 75.9784
  MINIMUM = 1
  STANDARD_DEVIATION = 38.8838
END_OBJECT = IMAGE
/* MAP OBJECT DEFINITIONS */
OBJECT = IMAGE_MAP_PROJECTION
  ^DATA_SET_MAP_PROJECTION_CATALOG= "DSMAP.CAT"
  A_AXIS_RADIUS = 3396.0
  B_AXIS_RADIUS = 3396.0
  C_AXIS_RADIUS = 3396.0
  CENTER_LATITUDE = -90.0
  CENTER_LONGITUDE = 0.0
  COORDINATE_SYSTEM_NAME = PLANETOGRAPHIC
  COORDINATE_SYSTEM_TYPE = "BODY-FIXED ROTATING"
  EASTERNMOST_LONGITUDE = 360.0
  FIRST_STANDARD_PARALLEL = "N/A"
  LINE_FIRST_PIXEL = 1
  LINE_LAST_PIXEL = 6621
  LINE_PROJECTION_OFFSET = 4856.0
  MAP_PROJECTION_ROTATION = 0.0
  MAP_PROJECTION_TYPE = STEREOGRAPHIC
  MAP_RESOLUTION = 296.356901933333
  MAP_SCALE = 0.2
  MAXIMUM_LATITUDE = -72.7196
  MINIMUM_LATITUDE = -90.0
  POSITIVE_LONGITUDE_DIRECTION = EAST
  REFERENCE_LATITUDE = "N/A"
  REFERENCE_LONGITUDE = "N/A"
  SAMPLE_FIRST_PIXEL = 1
  SAMPLE_LAST_PIXEL = 9656
  SAMPLE_PROJECTION_OFFSET = 4831.0
  SECOND_STANDARD_PARALLEL = "N/A"
  WESTERNMOST_LONGITUDE = 0.0
END_OBJECT = IMAGE_MAP_PROJECTION
/* The JPEG2000 image data file associated with this label. */
OBJECT = COMPRESSED_FILE
  FILE_NAME = "HE338_0000_GR3.JP2"
  RECORD_TYPE = UNDEFINED
  FILE_RECORDS = UNK
  ENCODING_TYPE = "JP2"
  INTERCHANGE_FORMAT = BINARY
  UNCOMPRESSED_FILE_NAME = "HE338_0000_GR3.IMG"
  REQUIRED_STORAGE_BYTES = "63961344"
  ^DESCRIPTION = "JP2INFO.TXT"
END_OBJECT = COMPRESSED_FILE
END
