PDS_VERSION_ID = PDS3
/* FILE DATA ELEMENTS */
RECORD_TYPE = STREAM
/* POINTERS TO DATA OBJECTS */
^COMPRESSED_FILE = "HE584_0000_RE3.JP2"
/* IDENTIFICATION DATA ELEMENTS */
DATA_SET_ID = "MEX-M-HRSC-5-REFDR-MAPPROJECTED-V3.0"
DATA_SET_NAME = "MARS EXPRESS HRSC MAP PROJECTED REFDR V3.0"
DETECTOR_ID = MEX_HRSC_RED
EVENT_TYPE = "MARS-REGIONAL-MAPPING-Im-Fl"
INSTRUMENT_HOST_ID = MEX
INSTRUMENT_HOST_NAME = "MARS EXPRESS"
INSTRUMENT_ID = HRSC
INSTRUMENT_NAME = "HIGH RESOLUTION STEREO CAMERA"
MISSION_NAME = "MARS EXPRESS"
MISSION_PHASE_NAME = ME_Phase_33
PROCESSING_LEVEL_ID = 3
PRODUCT_CREATION_TIME = 2016-10-30T02:40:36.000Z
PRODUCT_ID = "HE584_0000_RE3.JP2"
RELEASE_ID = 0129
REVISION_ID = 0000
/* QUALITY DATA ELEMENTS */
DATA_QUALITY_ID = 1
DATA_QUALITY_DESC = "Data calculated based on original SPICE kernels"
/* TIME DATA ELEMENTS */
SPACECRAFT_CLOCK_START_COUNT = "1/0383846434.09057"
SPACECRAFT_CLOCK_STOP_COUNT = "1/0383846657.42262"
START_TIME = 2015-07-01T16:00:45.453Z
STOP_TIME = 2015-07-01T16:03:24.743Z
/* ORBITAL DATA ELEMENTS */
ASCENDING_NODE_LONGITUDE = 299.82
MAXIMUM_RESOLUTION = 112.2
FOOTPRINT_POINT_LATITUDE = (-19.7504,-19.7508,-19.7506,-19.7451, -19.4349,-19.2264,-19.0185,-18.8109, -18.603,-18.3947,-18.0823,-17.77, -17.5618,-17.3533,-17.145,-16.9431, -16.6418,-16.4404,-16.2324,-16.0265, -15.8236,-15.6211,-15.4192,-15.221, -15.0177,-14.7134,-14.5095,-14.3045, -14.1006,-13.8967,-13.693,-13.4892, -13.2856,-13.0819,-12.7773,-12.5731, -12.3668,-12.1615,-11.8532,-11.648, -11.4431,-11.2395,-11.0351,-10.7238, -10.5121,-10.3002,-10.0891,-9.87709, -9.66631,-9.38117,-9.37997,-9.37709, -9.37233,-9.47761,-9.68973,-9.90354, -10.118,-10.3296,-10.5418,-10.8596, -11.0647,-11.3699,-11.5743,-11.7793, -12.0874,-12.2916,-12.496,-12.7005, -12.9065,-13.1123,-13.3174,-13.521, -13.7242,-14.03,-14.2347,-14.539, -14.7417,-14.9456,-15.1494,-15.351, -15.555,-15.757,-15.9598,-16.1628, -16.3654,-16.5681,-16.7708,-16.9729, -17.2815,-17.4909,-17.699,-17.9078, -18.1175,-18.3264,-18.6346,-18.9469, -19.2595,-19.4703,-19.677,-19.7504)
FOOTPRINT_POINT_LONGITUDE = (134.733,134.531,134.294,133.789, 133.792,133.793,133.794,133.795,133.797 ,133.798,133.799,133.801,133.802, 133.803,133.803,133.804,133.806,133.807 ,133.805,133.804,133.804,133.805, 133.805,133.807,133.807,133.807,133.807 ,133.806,133.806,133.805,133.805, 133.804,133.804,133.803,133.803,133.802 ,133.801,133.799,133.797,133.796, 133.795,133.794,133.793,133.791,133.79, 133.788,133.787,133.785,133.784,133.782 ,134.072,134.466,134.759,134.981, 134.982,134.983,134.983,134.984,134.985 ,134.987,134.988,134.99,134.992,134.993 ,134.994,134.996,134.997,134.998, 134.999,135.0,135.001,135.002,135.004, 135.006,135.007,135.01,135.011,135.013, 135.014,135.016,135.018,135.02,135.021, 135.023,135.024,135.026,135.028,135.029 ,135.032,135.033,135.035,135.037, 135.039,135.04,135.044,135.047,135.05, 135.05,135.053,134.733)
ORBIT_NUMBER = 14584
ORBITAL_ECCENTRICITY = 0.578
ORBITAL_INCLINATION = 86.89
ORBITAL_SEMIMAJOR_AXIS = 8851.27
PERIAPSIS_ALTITUDE = 337.06
PERIAPSIS_ARGUMENT_ANGLE = 344.05
PERIAPSIS_TIME = 2015-07-01T16:02:10.000Z
SPACECRAFT_ORIENTATION = (0.0,1.0,0.0)
^MEX_ORIENTATION_DESC = "MEX_ORIENTATION_DESC.TXT"
SPACECRAFT_POINTING_MODE = NADIR
^MEX_POINTING_DESC = "MEX_POINTING_DESC.TXT"
RIGHT_ASCENSION = -1e+32
DECLINATION = -1e+32
OFFSET_ANGLE = -1e+32
SPACECRAFT_SOLAR_DISTANCE = 2.35399e+08
TARGET_NAME = MARS
/* CAMERA DATA ELEMENTS */
DETECTOR_TEMPERATURE = 18.1666
FOCAL_PLANE_TEMPERATURE = 7.156
INST_CMPRS_NAME = "DISCRETE COSINE TRANSFORMATION (DCT)"
INST_CMPRS_RATIO = 13.0077
INST_CMPRS_QUALITY = 0
INST_CMPRS_QUANTZ_TBL_ID = 0
INSTRUMENT_TEMPERATURE = 10.8262
LENS_TEMPERATURE = 7.9716
MACROPIXEL_SIZE = 8
MISSING_FRAMES = 0
PIXEL_SUBSAMPLING_FLAG = N
SIGNAL_CHAIN_ID = 2
/* RADIOMETRIC DATA ELEMENTS */
BANDWIDTH = 48.0
CENTER_FILTER_WAVELENGTH = 748.0
RADIANCE_OFFSET = 0.445037
RADIANCE_SCALING_FACTOR = 0.00314902
REFLECTANCE_SCALING_FACTOR = 0.000398208
MEX:REFLECTANCE_OFFSET = 0.0562769
/* IMAGE OBJECT DEFINITIONS */
OBJECT = IMAGE
  INTERCHANGE_FORMAT = BINARY
  LINES = 6145
  LINE_SAMPLES = 767
  SAMPLE_TYPE = UNSIGNED_INTEGER
  SAMPLE_BITS = 8
  BANDS = 1
  BAND_STORAGE_TYPE = BAND_SEQUENTIAL
  MAXIMUM = 255
  MEAN = 109.985
  MINIMUM = 1
  STANDARD_DEVIATION = 44.6558
END_OBJECT = IMAGE
/* MAP OBJECT DEFINITIONS */
OBJECT = IMAGE_MAP_PROJECTION
  ^DATA_SET_MAP_PROJECTION_CATALOG= "DSMAP.CAT"
  A_AXIS_RADIUS = 3396.0
  B_AXIS_RADIUS = 3396.0
  C_AXIS_RADIUS = 3396.0
  CENTER_LATITUDE = 0.0
  CENTER_LONGITUDE = 134.0
  COORDINATE_SYSTEM_NAME = PLANETOGRAPHIC
  COORDINATE_SYSTEM_TYPE = "BODY-FIXED ROTATING"
  EASTERNMOST_LONGITUDE = 135.053
  FIRST_STANDARD_PARALLEL = "N/A"
  LINE_FIRST_PIXEL = 1
  LINE_LAST_PIXEL = 6145
  LINE_PROJECTION_OFFSET = -5559.8125
  MAP_PROJECTION_ROTATION = 0.0
  MAP_PROJECTION_TYPE = SINUSOIDAL
  MAP_RESOLUTION = 592.713803866667
  MAP_SCALE = 0.1
  MAXIMUM_LATITUDE = -9.37233
  MINIMUM_LATITUDE = -19.7508
  POSITIVE_LONGITUDE_DIRECTION = EAST
  REFERENCE_LATITUDE = "N/A"
  REFERENCE_LONGITUDE = "N/A"
  SAMPLE_FIRST_PIXEL = 1
  SAMPLE_LAST_PIXEL = 767
  SAMPLE_PROJECTION_OFFSET = 159.5625
  SECOND_STANDARD_PARALLEL = "N/A"
  WESTERNMOST_LONGITUDE = 133.782
END_OBJECT = IMAGE_MAP_PROJECTION
/* The JPEG2000 image data file associated with this label. */
OBJECT = COMPRESSED_FILE
  FILE_NAME = "HE584_0000_RE3.JP2"
  RECORD_TYPE = UNDEFINED
  FILE_RECORDS = UNK
  ENCODING_TYPE = "JP2"
  INTERCHANGE_FORMAT = BINARY
  UNCOMPRESSED_FILE_NAME = "HE584_0000_RE3.IMG"
  REQUIRED_STORAGE_BYTES = "4731623"
  ^DESCRIPTION = "JP2INFO.TXT"
END_OBJECT = COMPRESSED_FILE
END
