PDS_VERSION_ID = PDS3
/* FILE DATA ELEMENTS */
RECORD_TYPE = STREAM
/* POINTERS TO DATA OBJECTS */
^COMPRESSED_FILE = "HE585_0000_S23.JP2"
/* IDENTIFICATION DATA ELEMENTS */
DATA_SET_ID = "MEX-M-HRSC-5-REFDR-MAPPROJECTED-V3.0"
DATA_SET_NAME = "MARS EXPRESS HRSC MAP PROJECTED REFDR V3.0"
DETECTOR_ID = MEX_HRSC_S2
EVENT_TYPE = "MARS-REGIONAL-MAPPING-Im-Fl"
INSTRUMENT_HOST_ID = MEX
INSTRUMENT_HOST_NAME = "MARS EXPRESS"
INSTRUMENT_ID = HRSC
INSTRUMENT_NAME = "HIGH RESOLUTION STEREO CAMERA"
MISSION_NAME = "MARS EXPRESS"
MISSION_PHASE_NAME = ME_Phase_33
PROCESSING_LEVEL_ID = 3
PRODUCT_CREATION_TIME = 2016-10-30T02:40:36.000Z
PRODUCT_ID = "HE585_0000_S23.JP2"
RELEASE_ID = 0129
REVISION_ID = 0000
/* QUALITY DATA ELEMENTS */
DATA_QUALITY_ID = 1
DATA_QUALITY_DESC = "Data calculated based on original SPICE kernels"
/* TIME DATA ELEMENTS */
SPACECRAFT_CLOCK_START_COUNT = "1/0383871840.05854"
SPACECRAFT_CLOCK_STOP_COUNT = "1/0383872013.58283"
START_TIME = 2015-07-01T23:04:06.000Z
STOP_TIME = 2015-07-01T23:04:45.618Z
/* ORBITAL DATA ELEMENTS */
ASCENDING_NODE_LONGITUDE = 299.81
MAXIMUM_RESOLUTION = 30
FOOTPRINT_POINT_LATITUDE = (-4.6955,-4.69464,-4.69371,-4.69271, -4.69162,-4.69044,-4.68918,-4.68782, -4.68637,-4.68485,-4.68325,-4.68157, -4.66503,-4.58762,-4.53603,-4.40742, -4.3299,-4.27831,-4.2265,-4.1749, -4.07211,-3.99539,-3.94379,-3.86692, -3.73868,-3.65993,-3.57965,-3.47763, -3.40369,-3.326,-3.27439,-3.22097, -3.14193,-3.0636,-3.01199,-2.93465, -2.80639,-2.72926,-2.67766,-2.57582, -2.47336,-2.42176,-2.34386,-2.29176, -2.24015,-2.16213,-2.07177,-2.07384, -2.07559,-2.07713,-2.07926,-2.07993, -2.081,-2.08206,-2.08279,-2.08388, -2.08512,-2.08622,-2.08633,-2.08495, -2.11158,-2.18882,-2.24044,-2.29213, -2.34374,-2.42152,-2.49986,-2.5515, -2.60411,-2.65575,-2.70746,-2.75895, -2.81058,-2.86219,-2.91383,-2.99083, -3.06816,-3.11975,-3.19631,-3.24795, -3.32577,-3.4027,-3.45575,-3.50738, -3.58516,-3.66291,-3.74065,-3.79232, -3.84395,-3.9217,-3.99965,-4.104, -4.18122,-4.25857,-4.33562,-4.41291, -4.46449,-4.56745,-4.69571,-4.6955)
FOOTPRINT_POINT_LONGITUDE = (32.3067,32.2107,32.1144,32.018,31.9213 ,31.8245,31.7276,31.6305,31.5332, 31.4357,31.3379,31.2398,31.1546,31.1535 ,31.1528,31.1511,31.1499,31.1492, 31.1484,31.1476,31.1463,31.1455,31.1447 ,31.1438,31.1422,31.1404,31.138,31.1369 ,31.1373,31.1359,31.1351,31.1335, 31.1316,31.1299,31.1291,31.1279,31.1262 ,31.125,31.1242,31.1231,31.1217,31.1209 ,31.1193,31.1183,31.1174,31.1158,31.164 ,31.2772,31.3526,31.4153,31.5277, 31.5899,31.7016,31.7884,31.8751,31.9617 ,32.0482,32.1344,32.2206,32.2946, 32.3973,32.3974,32.3974,32.3975,32.3975 ,32.3976,32.3975,32.3976,32.3975, 32.3975,32.3976,32.3977,32.3977,32.3978 ,32.3978,32.398,32.3981,32.3982,32.3984 ,32.3985,32.3986,32.3988,32.3986, 32.3987,32.3988,32.3989,32.3989,32.399, 32.3991,32.3992,32.3993,32.3993,32.3995 ,32.3996,32.3998,32.4,32.4001,32.4004, 32.4007,32.3067)
ORBIT_NUMBER = 14585
ORBITAL_ECCENTRICITY = 0.579
ORBITAL_INCLINATION = 86.9
ORBITAL_SEMIMAJOR_AXIS = 8853.09
PERIAPSIS_ALTITUDE = 336.84
PERIAPSIS_ARGUMENT_ANGLE = 343.88
PERIAPSIS_TIME = 2015-07-01T23:01:43.000Z
SPACECRAFT_ORIENTATION = (0.0,1.0,0.0)
^MEX_ORIENTATION_DESC = "MEX_ORIENTATION_DESC.TXT"
SPACECRAFT_POINTING_MODE = ACROSSTRACK
^MEX_POINTING_DESC = "MEX_POINTING_DESC.TXT"
RIGHT_ASCENSION = -1e+32
DECLINATION = -1e+32
OFFSET_ANGLE = 0.3
SPACECRAFT_SOLAR_DISTANCE = 2.35451e+08
TARGET_NAME = MARS
/* CAMERA DATA ELEMENTS */
DETECTOR_TEMPERATURE = 0.0
FOCAL_PLANE_TEMPERATURE = 0.0
INST_CMPRS_NAME = "DISCRETE COSINE TRANSFORMATION (DCT)"
INST_CMPRS_RATIO = 13.0741
INST_CMPRS_QUALITY = 0
INST_CMPRS_QUANTZ_TBL_ID = 0
INSTRUMENT_TEMPERATURE = 0.0
LENS_TEMPERATURE = 0.0
MACROPIXEL_SIZE = 2
MISSING_FRAMES = 0
PIXEL_SUBSAMPLING_FLAG = N
SIGNAL_CHAIN_ID = 1
/* RADIOMETRIC DATA ELEMENTS */
BANDWIDTH = 178.0
CENTER_FILTER_WAVELENGTH = 679.0
RADIANCE_OFFSET = 2.62226
RADIANCE_SCALING_FACTOR = 0.0156155
REFLECTANCE_SCALING_FACTOR = 0.000458444
MEX:REFLECTANCE_OFFSET = 0.0769851
/* IMAGE OBJECT DEFINITIONS */
OBJECT = IMAGE
  INTERCHANGE_FORMAT = BINARY
  LINES = 1269
  LINE_SAMPLES = 3212
  SAMPLE_TYPE = UNSIGNED_INTEGER
  SAMPLE_BITS = 8
  BANDS = 1
  BAND_STORAGE_TYPE = BAND_SEQUENTIAL
  MAXIMUM = 229
  MEAN = 102.053
  MINIMUM = 9
  STANDARD_DEVIATION = 18.3837
END_OBJECT = IMAGE
/* MAP OBJECT DEFINITIONS */
OBJECT = IMAGE_MAP_PROJECTION
  ^DATA_SET_MAP_PROJECTION_CATALOG= "DSMAP.CAT"
  A_AXIS_RADIUS = 3396.0
  B_AXIS_RADIUS = 3396.0
  C_AXIS_RADIUS = 3396.0
  CENTER_LATITUDE = 0.0
  CENTER_LONGITUDE = 32.0
  COORDINATE_SYSTEM_NAME = PLANETOGRAPHIC
  COORDINATE_SYSTEM_TYPE = "BODY-FIXED ROTATING"
  EASTERNMOST_LONGITUDE = 32.4007
  FIRST_STANDARD_PARALLEL = "N/A"
  LINE_FIRST_PIXEL = 1
  LINE_LAST_PIXEL = 1269
  LINE_PROJECTION_OFFSET = -9877.25
  MAP_PROJECTION_ROTATION = 0.0
  MAP_PROJECTION_TYPE = SINUSOIDAL
  MAP_RESOLUTION = 2370.85521546667
  MAP_SCALE = 0.025
  MAXIMUM_LATITUDE = -2.07177
  MINIMUM_LATITUDE = -4.69571
  POSITIVE_LONGITUDE_DIRECTION = EAST
  REFERENCE_LATITUDE = "N/A"
  REFERENCE_LONGITUDE = "N/A"
  SAMPLE_FIRST_PIXEL = 1
  SAMPLE_LAST_PIXEL = 3212
  SAMPLE_PROJECTION_OFFSET = 2177.25
  SECOND_STANDARD_PARALLEL = "N/A"
  WESTERNMOST_LONGITUDE = 31.1158
END_OBJECT = IMAGE_MAP_PROJECTION
/* The JPEG2000 image data file associated with this label. */
OBJECT = COMPRESSED_FILE
  FILE_NAME = "HE585_0000_S23.JP2"
  RECORD_TYPE = UNDEFINED
  FILE_RECORDS = UNK
  ENCODING_TYPE = "JP2"
  INTERCHANGE_FORMAT = BINARY
  UNCOMPRESSED_FILE_NAME = "HE585_0000_S23.IMG"
  REQUIRED_STORAGE_BYTES = "4098512"
  ^DESCRIPTION = "JP2INFO.TXT"
END_OBJECT = COMPRESSED_FILE
END
