PDS_VERSION_ID = PDS3
/* FILE DATA ELEMENTS */
RECORD_TYPE = STREAM
/* POINTERS TO DATA OBJECTS */
^COMPRESSED_FILE = "HE588_0000_S23.JP2"
/* IDENTIFICATION DATA ELEMENTS */
DATA_SET_ID = "MEX-M-HRSC-5-REFDR-MAPPROJECTED-V3.0"
DATA_SET_NAME = "MARS EXPRESS HRSC MAP PROJECTED REFDR V3.0"
DETECTOR_ID = MEX_HRSC_S2
EVENT_TYPE = "MARS-LOCAL-STEREO-La-Tc-Ts"
INSTRUMENT_HOST_ID = MEX
INSTRUMENT_HOST_NAME = "MARS EXPRESS"
INSTRUMENT_ID = HRSC
INSTRUMENT_NAME = "HIGH RESOLUTION STEREO CAMERA"
MISSION_NAME = "MARS EXPRESS"
MISSION_PHASE_NAME = ME_Phase_33
PROCESSING_LEVEL_ID = 3
PRODUCT_CREATION_TIME = 2016-10-30T02:40:36.000Z
PRODUCT_ID = "HE588_0000_S23.JP2"
RELEASE_ID = 0129
REVISION_ID = 0000
/* QUALITY DATA ELEMENTS */
DATA_QUALITY_ID = 1
DATA_QUALITY_DESC = "Data calculated based on original SPICE kernels"
/* TIME DATA ELEMENTS */
SPACECRAFT_CLOCK_START_COUNT = "1/0383947454.09041"
SPACECRAFT_CLOCK_STOP_COUNT = "1/0383947609.17214"
START_TIME = 2015-07-02T20:04:20.079Z
STOP_TIME = 2015-07-02T20:05:28.430Z
/* ORBITAL DATA ELEMENTS */
ASCENDING_NODE_LONGITUDE = 299.75
MAXIMUM_RESOLUTION = 16.4
FOOTPRINT_POINT_LATITUDE = (1.19852,1.19012,1.18184,1.1737,1.16569 ,1.15782,1.15008,1.1425,1.13505,1.12771 ,1.12046,1.11333,1.10739,1.19924, 1.28899,1.46761,1.64549,1.82059,1.95237 ,2.13129,2.22425,2.31705,2.4083,2.49811 ,2.6338,2.72388,2.90014,3.07306,3.25293 ,3.39252,3.48272,3.57288,3.66312, 3.84202,3.93223,4.06704,4.24593,4.33804 ,4.42936,4.52067,4.61183,4.70299, 4.79421,4.93104,5.02215,5.11325,5.20431 ,5.29532,5.3863,5.47735,5.63473,5.64205 ,5.64953,5.657,5.66447,5.67217,5.67997, 5.68794,5.69598,5.7042,5.71258,5.72306, 5.73032,5.59266,5.50156,5.41052,5.31943 ,5.22836,5.13717,5.04601,4.95478, 4.81793,4.72681,4.63545,4.54423,4.45296 ,4.36169,4.27111,4.00432,3.82647, 3.69283,3.51453,3.3349,3.24467,3.15285, 3.01747,2.92707,2.78962,2.60877,2.4328, 2.25328,2.11986,2.02888,1.84904,1.7586, 1.66862,1.57848,1.39922,1.26676, 1.19852)
FOOTPRINT_POINT_LONGITUDE = (86.8747,86.7612,86.6484,86.5363, 86.4249,86.3141,86.2041,86.0948,85.9862 ,85.8781,85.7706,85.6636,85.5643, 85.5628,85.561,85.5573,85.5534,85.5492, 85.5461,85.5423,85.5408,85.5394,85.5377 ,85.5358,85.5331,85.5312,85.527,85.5224 ,85.5186,85.5163,85.5144,85.5125, 85.5106,85.5066,85.5046,85.5017,85.4975 ,85.4954,85.4932,85.4911,85.4889, 85.4867,85.4845,85.4812,85.479,85.4768, 85.4746,85.4724,85.4701,85.4679,85.4929 ,85.61,85.7278,85.846,85.9648,86.0842, 86.2043,86.3252,86.4468,86.5692,86.6922 ,86.8469,86.9558,86.9939,86.9933, 86.9928,86.9923,86.9918,86.9912,86.9907 ,86.9901,86.9893,86.9889,86.9883, 86.9879,86.9874,86.987,86.9865,86.9852, 86.9844,86.9837,86.9827,86.9809,86.9797 ,86.9773,86.9756,86.9743,86.9711, 86.9686,86.9697,86.9682,86.968,86.9665, 86.965,86.9639,86.9631,86.9622,86.9612, 86.9619,86.8747)
ORBIT_NUMBER = 14588
ORBITAL_ECCENTRICITY = 0.579
ORBITAL_INCLINATION = 86.91
ORBITAL_SEMIMAJOR_AXIS = 8853.74
PERIAPSIS_ALTITUDE = 335.88
PERIAPSIS_ARGUMENT_ANGLE = 343.33
PERIAPSIS_TIME = 2015-07-02T20:00:21.000Z
SPACECRAFT_ORIENTATION = (0.0,1.0,0.0)
^MEX_ORIENTATION_DESC = "MEX_ORIENTATION_DESC.TXT"
SPACECRAFT_POINTING_MODE = ACROSSTRACK
^MEX_POINTING_DESC = "MEX_POINTING_DESC.TXT"
RIGHT_ASCENSION = -1e+32
DECLINATION = -1e+32
OFFSET_ANGLE = -1.0
SPACECRAFT_SOLAR_DISTANCE = 2.35604e+08
TARGET_NAME = MARS
/* CAMERA DATA ELEMENTS */
DETECTOR_TEMPERATURE = 18.1666
FOCAL_PLANE_TEMPERATURE = 8.1755
INST_CMPRS_NAME = "DISCRETE COSINE TRANSFORMATION (DCT)"
INST_CMPRS_RATIO = 7.247
INST_CMPRS_QUALITY = 0
INST_CMPRS_QUANTZ_TBL_ID = 0
INSTRUMENT_TEMPERATURE = 11.234
LENS_TEMPERATURE = 8.7872
MACROPIXEL_SIZE = 1
MISSING_FRAMES = 0
PIXEL_SUBSAMPLING_FLAG = N
SIGNAL_CHAIN_ID = 1
/* RADIOMETRIC DATA ELEMENTS */
BANDWIDTH = 178.0
CENTER_FILTER_WAVELENGTH = 679.0
RADIANCE_OFFSET = 2.51372
RADIANCE_SCALING_FACTOR = 0.00955901
REFLECTANCE_SCALING_FACTOR = 0.000281003
MEX:REFLECTANCE_OFFSET = 0.0738949
/* IMAGE OBJECT DEFINITIONS */
OBJECT = IMAGE
  INTERCHANGE_FORMAT = BINARY
  LINES = 21405
  LINE_SAMPLES = 7878
  SAMPLE_TYPE = UNSIGNED_INTEGER
  SAMPLE_BITS = 8
  BANDS = 1
  BAND_STORAGE_TYPE = BAND_SEQUENTIAL
  MAXIMUM = 255
  MEAN = 112.126
  MINIMUM = 1
  STANDARD_DEVIATION = 27.1075
END_OBJECT = IMAGE
/* MAP OBJECT DEFINITIONS */
OBJECT = IMAGE_MAP_PROJECTION
  ^DATA_SET_MAP_PROJECTION_CATALOG= "DSMAP.CAT"
  A_AXIS_RADIUS = 3396.0
  B_AXIS_RADIUS = 3396.0
  C_AXIS_RADIUS = 3396.0
  CENTER_LATITUDE = 0.0
  CENTER_LONGITUDE = 86.0
  COORDINATE_SYSTEM_NAME = PLANETOGRAPHIC
  COORDINATE_SYSTEM_TYPE = "BODY-FIXED ROTATING"
  EASTERNMOST_LONGITUDE = 86.9939
  FIRST_STANDARD_PARALLEL = "N/A"
  LINE_FIRST_PIXEL = 1
  LINE_LAST_PIXEL = 21405
  LINE_PROJECTION_OFFSET = 26892.0
  MAP_PROJECTION_ROTATION = 0.0
  MAP_PROJECTION_TYPE = SINUSOIDAL
  MAP_RESOLUTION = 4741.71043093333
  MAP_SCALE = 0.0125
  MAXIMUM_LATITUDE = 5.73032
  MINIMUM_LATITUDE = 1.10739
  POSITIVE_LONGITUDE_DIRECTION = EAST
  REFERENCE_LATITUDE = "N/A"
  REFERENCE_LONGITUDE = "N/A"
  SAMPLE_FIRST_PIXEL = 1
  SAMPLE_LAST_PIXEL = 7878
  SAMPLE_PROJECTION_OFFSET = 2715.0
  SECOND_STANDARD_PARALLEL = "N/A"
  WESTERNMOST_LONGITUDE = 85.4679
END_OBJECT = IMAGE_MAP_PROJECTION
/* The JPEG2000 image data file associated with this label. */
OBJECT = COMPRESSED_FILE
  FILE_NAME = "HE588_0000_S23.JP2"
  RECORD_TYPE = UNDEFINED
  FILE_RECORDS = UNK
  ENCODING_TYPE = "JP2"
  INTERCHANGE_FORMAT = BINARY
  UNCOMPRESSED_FILE_NAME = "HE588_0000_S23.IMG"
  REQUIRED_STORAGE_BYTES = "168660102"
  ^DESCRIPTION = "JP2INFO.TXT"
END_OBJECT = COMPRESSED_FILE
END
