PDS_VERSION_ID = PDS3
/* FILE DATA ELEMENTS */
RECORD_TYPE = STREAM
/* POINTERS TO DATA OBJECTS */
^COMPRESSED_FILE = "HE593_0000_BL3.JP2"
/* IDENTIFICATION DATA ELEMENTS */
DATA_SET_ID = "MEX-M-HRSC-5-REFDR-MAPPROJECTED-V3.0"
DATA_SET_NAME = "MARS EXPRESS HRSC MAP PROJECTED REFDR V3.0"
DETECTOR_ID = MEX_HRSC_BLUE
EVENT_TYPE = "MARS-REGIONAL-MAPPING-Fl-Lc-La"
INSTRUMENT_HOST_ID = MEX
INSTRUMENT_HOST_NAME = "MARS EXPRESS"
INSTRUMENT_ID = HRSC
INSTRUMENT_NAME = "HIGH RESOLUTION STEREO CAMERA"
MISSION_NAME = "MARS EXPRESS"
MISSION_PHASE_NAME = ME_Phase_33
PROCESSING_LEVEL_ID = 3
PRODUCT_CREATION_TIME = 2016-10-30T02:40:36.000Z
PRODUCT_ID = "HE593_0000_BL3.JP2"
RELEASE_ID = 0129
REVISION_ID = 0000
/* QUALITY DATA ELEMENTS */
DATA_QUALITY_ID = 1
DATA_QUALITY_DESC = "Data calculated based on original SPICE kernels"
/* TIME DATA ELEMENTS */
SPACECRAFT_CLOCK_START_COUNT = "1/0384073074.09079"
SPACECRAFT_CLOCK_STOP_COUNT = "1/0384073304.22597"
START_TIME = 2015-07-04T06:58:25.357Z
STOP_TIME = 2015-07-04T07:01:08.853Z
/* ORBITAL DATA ELEMENTS */
ASCENDING_NODE_LONGITUDE = 299.65
MAXIMUM_RESOLUTION = 106.4
FOOTPRINT_POINT_LATITUDE = (-16.3885,-16.3918,-16.3942,-16.2933, -16.086,-15.8788,-15.6715,-15.4642, -15.2569,-14.9461,-14.7391,-14.5309, -14.3249,-14.1178,-13.8048,-13.5938, -13.3822,-13.1725,-12.9634,-12.7476, -12.5287,-12.3123,-12.0982,-11.8845, -11.6705,-11.4583,-11.1447,-10.9337, -10.72,-10.5065,-10.2928,-10.0793, -9.86579,-9.65226,-9.33205,-9.1186, -8.90519,-8.69191,-8.47729,-8.15373, -7.94123,-7.72942,-7.51528,-7.29726, -7.08391,-6.87465,-6.56174,-6.34957, -6.1371,-5.75264,-5.74873,-5.74535, -5.74158,-5.95187,-6.16432,-6.37687, -6.58957,-6.80239,-7.01474,-7.32884, -7.53791,-7.7528,-7.96982,-8.18291, -8.39578,-8.61,-8.92984,-9.25496, -9.46856,-9.68278,-9.89652,-10.1096, -10.3231,-10.5368,-10.7507,-10.9646, -11.2851,-11.5986,-11.8091,-12.0219, -12.236,-12.4506,-12.6684,-12.8851, -13.1027,-13.3165,-13.7231,-13.9378, -14.1483,-14.3556,-14.5626,-14.7669, -14.9773,-15.1846,-15.392,-15.5995, -15.8068,-16.118,-16.3253,-16.3885)
FOOTPRINT_POINT_LONGITUDE = (294.687,294.323,293.961,293.767, 293.766,293.766,293.765,293.764,293.764 ,293.762,293.762,293.76,293.76,293.759, 293.756,293.752,293.747,293.748,293.75, 293.747,293.742,293.739,293.737,293.736 ,293.734,293.733,293.735,293.735, 293.733,293.731,293.729,293.727,293.724 ,293.722,293.718,293.716,293.713, 293.711,293.707,293.7,293.698,293.696, 293.692,293.685,293.682,293.681,293.681 ,293.678,293.674,293.747,294.083, 294.352,294.634,294.913,294.914,294.914 ,294.914,294.914,294.916,294.929, 294.939,294.935,294.926,294.927,294.929 ,294.927,294.929,294.918,294.919, 294.918,294.919,294.922,294.923,294.924 ,294.925,294.926,294.929,294.949, 294.959,294.963,294.965,294.965,294.957 ,294.952,294.945,294.947,294.972, 294.954,294.948,294.949,294.952,294.961 ,294.955,294.956,294.958,294.959, 294.961,294.963,294.964,294.687)
ORBIT_NUMBER = 14593
ORBITAL_ECCENTRICITY = 0.578
ORBITAL_INCLINATION = 86.9
ORBITAL_SEMIMAJOR_AXIS = 8850.43
PERIAPSIS_ALTITUDE = 336.33
PERIAPSIS_ARGUMENT_ANGLE = 342.51
PERIAPSIS_TIME = 2015-07-04T06:58:15.000Z
SPACECRAFT_ORIENTATION = (0.0,1.0,0.0)
^MEX_ORIENTATION_DESC = "MEX_ORIENTATION_DESC.TXT"
SPACECRAFT_POINTING_MODE = ACROSSTRACK
^MEX_POINTING_DESC = "MEX_POINTING_DESC.TXT"
RIGHT_ASCENSION = -1e+32
DECLINATION = -1e+32
OFFSET_ANGLE = -0.33
SPACECRAFT_SOLAR_DISTANCE = 2.3586e+08
TARGET_NAME = MARS
/* CAMERA DATA ELEMENTS */
DETECTOR_TEMPERATURE = 17.7588
FOCAL_PLANE_TEMPERATURE = 7.156
INST_CMPRS_NAME = "DISCRETE COSINE TRANSFORMATION (DCT)"
INST_CMPRS_RATIO = 11.6067
INST_CMPRS_QUALITY = 0
INST_CMPRS_QUANTZ_TBL_ID = 0
INSTRUMENT_TEMPERATURE = 10.6223
LENS_TEMPERATURE = 7.5638
MACROPIXEL_SIZE = 8
MISSING_FRAMES = 0
PIXEL_SUBSAMPLING_FLAG = N
SIGNAL_CHAIN_ID = 2
/* RADIOMETRIC DATA ELEMENTS */
BANDWIDTH = 76.0
CENTER_FILTER_WAVELENGTH = 444.0
RADIANCE_OFFSET = 0.281215
RADIANCE_SCALING_FACTOR = 0.00210058
REFLECTANCE_SCALING_FACTOR = 0.000120061
MEX:REFLECTANCE_OFFSET = 0.0160732
/* IMAGE OBJECT DEFINITIONS */
OBJECT = IMAGE
  INTERCHANGE_FORMAT = BINARY
  LINES = 6317
  LINE_SAMPLES = 810
  SAMPLE_TYPE = UNSIGNED_INTEGER
  SAMPLE_BITS = 8
  BANDS = 1
  BAND_STORAGE_TYPE = BAND_SEQUENTIAL
  MAXIMUM = 255
  MEAN = 111.636
  MINIMUM = 1
  STANDARD_DEVIATION = 34.3208
END_OBJECT = IMAGE
/* MAP OBJECT DEFINITIONS */
OBJECT = IMAGE_MAP_PROJECTION
  ^DATA_SET_MAP_PROJECTION_CATALOG= "DSMAP.CAT"
  A_AXIS_RADIUS = 3396.0
  B_AXIS_RADIUS = 3396.0
  C_AXIS_RADIUS = 3396.0
  CENTER_LATITUDE = 0.0
  CENTER_LONGITUDE = 294.0
  COORDINATE_SYSTEM_NAME = PLANETOGRAPHIC
  COORDINATE_SYSTEM_TYPE = "BODY-FIXED ROTATING"
  EASTERNMOST_LONGITUDE = 294.972
  FIRST_STANDARD_PARALLEL = "N/A"
  LINE_FIRST_PIXEL = 1
  LINE_LAST_PIXEL = 6317
  LINE_PROJECTION_OFFSET = -3403.6875
  MAP_PROJECTION_ROTATION = 0.0
  MAP_PROJECTION_TYPE = SINUSOIDAL
  MAP_RESOLUTION = 592.713803866667
  MAP_SCALE = 0.1
  MAXIMUM_LATITUDE = -5.74158
  MINIMUM_LATITUDE = -16.3942
  POSITIVE_LONGITUDE_DIRECTION = EAST
  REFERENCE_LATITUDE = "N/A"
  REFERENCE_LONGITUDE = "N/A"
  SAMPLE_FIRST_PIXEL = 1
  SAMPLE_LAST_PIXEL = 810
  SAMPLE_PROJECTION_OFFSET = 218.0625
  SECOND_STANDARD_PARALLEL = "N/A"
  WESTERNMOST_LONGITUDE = 293.674
END_OBJECT = IMAGE_MAP_PROJECTION
/* The JPEG2000 image data file associated with this label. */
OBJECT = COMPRESSED_FILE
  FILE_NAME = "HE593_0000_BL3.JP2"
  RECORD_TYPE = UNDEFINED
  FILE_RECORDS = UNK
  ENCODING_TYPE = "JP2"
  INTERCHANGE_FORMAT = BINARY
  UNCOMPRESSED_FILE_NAME = "HE593_0000_BL3.IMG"
  REQUIRED_STORAGE_BYTES = "5134590"
  ^DESCRIPTION = "JP2INFO.TXT"
END_OBJECT = COMPRESSED_FILE
END
