PDS_VERSION_ID = PDS3
/* FILE DATA ELEMENTS */
RECORD_TYPE = STREAM
/* POINTERS TO DATA OBJECTS */
^COMPRESSED_FILE = "HE593_0000_IR3.JP2"
/* IDENTIFICATION DATA ELEMENTS */
DATA_SET_ID = "MEX-M-HRSC-5-REFDR-MAPPROJECTED-V3.0"
DATA_SET_NAME = "MARS EXPRESS HRSC MAP PROJECTED REFDR V3.0"
DETECTOR_ID = MEX_HRSC_IR
EVENT_TYPE = "MARS-REGIONAL-MAPPING-Fl-Lc-La"
INSTRUMENT_HOST_ID = MEX
INSTRUMENT_HOST_NAME = "MARS EXPRESS"
INSTRUMENT_ID = HRSC
INSTRUMENT_NAME = "HIGH RESOLUTION STEREO CAMERA"
MISSION_NAME = "MARS EXPRESS"
MISSION_PHASE_NAME = ME_Phase_33
PROCESSING_LEVEL_ID = 3
PRODUCT_CREATION_TIME = 2016-10-30T02:40:36.000Z
PRODUCT_ID = "HE593_0000_IR3.JP2"
RELEASE_ID = 0129
REVISION_ID = 0000
/* QUALITY DATA ELEMENTS */
DATA_QUALITY_ID = 1
DATA_QUALITY_DESC = "Data calculated based on original SPICE kernels"
/* TIME DATA ELEMENTS */
SPACECRAFT_CLOCK_START_COUNT = "1/0384073074.09079"
SPACECRAFT_CLOCK_STOP_COUNT = "1/0384073304.22597"
START_TIME = 2015-07-04T06:58:55.260Z
STOP_TIME = 2015-07-04T07:01:42.277Z
/* ORBITAL DATA ELEMENTS */
ASCENDING_NODE_LONGITUDE = 299.65
MAXIMUM_RESOLUTION = 111.5
FOOTPRINT_POINT_LATITUDE = (-16.3986,-16.394,-16.3895,-16.2686, -16.0627,-15.8569,-15.6513,-15.3432, -15.133,-14.9203,-14.6042,-14.2827, -14.0703,-13.8596,-13.6693,-13.4752, -13.1496,-12.9231,-12.719,-12.5306, -12.3271,-12.1171,-11.9045,-11.6968, -11.4788,-11.2457,-11.0205,-10.8077, -10.5982,-10.3888,-10.1798,-9.9713, -9.65858,-9.34645,-9.13901,-8.93186, -8.72457,-8.52083,-8.33128,-8.12671, -7.91692,-7.60589,-7.41689,-7.22227, -7.01094,-6.79355,-6.46615,-6.12742, -5.88373,-5.73311,-5.73654,-5.73866, -5.74151,-5.98802,-6.23222,-6.44901, -6.65359,-6.85836,-7.07105,-7.28775, -7.51628,-7.90701,-8.11325,-8.3192, -8.52631,-8.83321,-9.03952,-9.22847, -9.43608,-9.64101,-9.84953,-10.0602, -10.3748,-10.688,-10.8972,-11.1067, -11.3183,-11.5548,-11.7763,-11.9996, -12.21,-12.4185,-12.6247,-12.8173, -13.0203,-13.2167,-13.4395,-13.6801, -14.062,-14.2713,-14.4845,-14.7032, -15.0156,-15.228,-15.4357,-15.641, -15.847,-16.0524,-16.2586,-16.3986)
FOOTPRINT_POINT_LONGITUDE = (294.656,294.288,293.924,293.762, 293.761,293.76,293.759,293.757,293.756, 293.755,293.753,293.751,293.75,293.748, 293.744,293.739,293.738,293.739,293.736 ,293.731,293.728,293.725,293.724, 293.721,293.72,293.722,293.722,293.72, 293.718,293.716,293.713,293.711,293.707 ,293.703,293.7,293.697,293.694,293.691, 293.685,293.682,293.679,293.675,293.669 ,293.663,293.661,293.66,293.658,293.653 ,293.648,293.944,294.33,294.549,294.806 ,294.936,294.936,294.936,294.936, 294.936,294.94,294.947,294.96,294.948, 294.948,294.947,294.948,294.946,294.946 ,294.935,294.936,294.934,294.935, 294.937,294.939,294.939,294.94,294.941, 294.943,294.96,294.967,294.976,294.977, 294.977,294.975,294.965,294.962,294.954 ,294.962,294.981,294.958,294.958,294.96 ,294.965,294.963,294.964,294.966, 294.967,294.968,294.969,294.97,294.656)
ORBIT_NUMBER = 14593
ORBITAL_ECCENTRICITY = 0.578
ORBITAL_INCLINATION = 86.9
ORBITAL_SEMIMAJOR_AXIS = 8850.43
PERIAPSIS_ALTITUDE = 336.33
PERIAPSIS_ARGUMENT_ANGLE = 342.51
PERIAPSIS_TIME = 2015-07-04T06:58:15.000Z
SPACECRAFT_ORIENTATION = (0.0,1.0,0.0)
^MEX_ORIENTATION_DESC = "MEX_ORIENTATION_DESC.TXT"
SPACECRAFT_POINTING_MODE = ACROSSTRACK
^MEX_POINTING_DESC = "MEX_POINTING_DESC.TXT"
RIGHT_ASCENSION = -1e+32
DECLINATION = -1e+32
OFFSET_ANGLE = -0.33
SPACECRAFT_SOLAR_DISTANCE = 2.3586e+08
TARGET_NAME = MARS
/* CAMERA DATA ELEMENTS */
DETECTOR_TEMPERATURE = 16.7393
FOCAL_PLANE_TEMPERATURE = 7.156
INST_CMPRS_NAME = "DISCRETE COSINE TRANSFORMATION (DCT)"
INST_CMPRS_RATIO = 11.2898
INST_CMPRS_QUALITY = 0
INST_CMPRS_QUANTZ_TBL_ID = 0
INSTRUMENT_TEMPERATURE = 10.6223
LENS_TEMPERATURE = 7.5638
MACROPIXEL_SIZE = 8
MISSING_FRAMES = 0
PIXEL_SUBSAMPLING_FLAG = N
SIGNAL_CHAIN_ID = 2
/* RADIOMETRIC DATA ELEMENTS */
BANDWIDTH = 81.0
CENTER_FILTER_WAVELENGTH = 955.5
RADIANCE_OFFSET = 0.252508
RADIANCE_SCALING_FACTOR = 0.00599088
REFLECTANCE_SCALING_FACTOR = 0.000718996
MEX:REFLECTANCE_OFFSET = 0.0303048
/* IMAGE OBJECT DEFINITIONS */
OBJECT = IMAGE
  INTERCHANGE_FORMAT = BINARY
  LINES = 6317
  LINE_SAMPLES = 810
  SAMPLE_TYPE = UNSIGNED_INTEGER
  SAMPLE_BITS = 8
  BANDS = 1
  BAND_STORAGE_TYPE = BAND_SEQUENTIAL
  MAXIMUM = 255
  MEAN = 79.7508
  MINIMUM = 1
  STANDARD_DEVIATION = 34.8308
END_OBJECT = IMAGE
/* MAP OBJECT DEFINITIONS */
OBJECT = IMAGE_MAP_PROJECTION
  ^DATA_SET_MAP_PROJECTION_CATALOG= "DSMAP.CAT"
  A_AXIS_RADIUS = 3396.0
  B_AXIS_RADIUS = 3396.0
  C_AXIS_RADIUS = 3396.0
  CENTER_LATITUDE = 0.0
  CENTER_LONGITUDE = 294.0
  COORDINATE_SYSTEM_NAME = PLANETOGRAPHIC
  COORDINATE_SYSTEM_TYPE = "BODY-FIXED ROTATING"
  EASTERNMOST_LONGITUDE = 294.981
  FIRST_STANDARD_PARALLEL = "N/A"
  LINE_FIRST_PIXEL = 1
  LINE_LAST_PIXEL = 6317
  LINE_PROJECTION_OFFSET = -3403.6875
  MAP_PROJECTION_ROTATION = 0.0
  MAP_PROJECTION_TYPE = SINUSOIDAL
  MAP_RESOLUTION = 592.713803866667
  MAP_SCALE = 0.1
  MAXIMUM_LATITUDE = -5.73311
  MINIMUM_LATITUDE = -16.3986
  POSITIVE_LONGITUDE_DIRECTION = EAST
  REFERENCE_LATITUDE = "N/A"
  REFERENCE_LONGITUDE = "N/A"
  SAMPLE_FIRST_PIXEL = 1
  SAMPLE_LAST_PIXEL = 810
  SAMPLE_PROJECTION_OFFSET = 218.0625
  SECOND_STANDARD_PARALLEL = "N/A"
  WESTERNMOST_LONGITUDE = 293.648
END_OBJECT = IMAGE_MAP_PROJECTION
/* The JPEG2000 image data file associated with this label. */
OBJECT = COMPRESSED_FILE
  FILE_NAME = "HE593_0000_IR3.JP2"
  RECORD_TYPE = UNDEFINED
  FILE_RECORDS = UNK
  ENCODING_TYPE = "JP2"
  INTERCHANGE_FORMAT = BINARY
  UNCOMPRESSED_FILE_NAME = "HE593_0000_IR3.IMG"
  REQUIRED_STORAGE_BYTES = "5134590"
  ^DESCRIPTION = "JP2INFO.TXT"
END_OBJECT = COMPRESSED_FILE
END
