PDS_VERSION_ID = PDS3
/* FILE DATA ELEMENTS */
RECORD_TYPE = STREAM
/* POINTERS TO DATA OBJECTS */
^COMPRESSED_FILE = "HE596_0000_S23.JP2"
/* IDENTIFICATION DATA ELEMENTS */
DATA_SET_ID = "MEX-M-HRSC-5-REFDR-MAPPROJECTED-V3.0"
DATA_SET_NAME = "MARS EXPRESS HRSC MAP PROJECTED REFDR V3.0"
DETECTOR_ID = MEX_HRSC_S2
EVENT_TYPE = "MARS-LOCAL-STEREO-Lc-Tc-Ts"
INSTRUMENT_HOST_ID = MEX
INSTRUMENT_HOST_NAME = "MARS EXPRESS"
INSTRUMENT_ID = HRSC
INSTRUMENT_NAME = "HIGH RESOLUTION STEREO CAMERA"
MISSION_NAME = "MARS EXPRESS"
MISSION_PHASE_NAME = ME_Phase_33
PROCESSING_LEVEL_ID = 3
PRODUCT_CREATION_TIME = 2016-10-30T02:40:36.000Z
PRODUCT_ID = "HE596_0000_S23.JP2"
RELEASE_ID = 0129
REVISION_ID = 0000
/* QUALITY DATA ELEMENTS */
DATA_QUALITY_ID = 1
DATA_QUALITY_DESC = "Data calculated based on original SPICE kernels"
/* TIME DATA ELEMENTS */
SPACECRAFT_CLOCK_START_COUNT = "1/0384148438.09048"
SPACECRAFT_CLOCK_STOP_COUNT = "1/0384148541.01517"
START_TIME = 2015-07-05T03:54:04.067Z
STOP_TIME = 2015-07-05T03:54:42.450Z
/* ORBITAL DATA ELEMENTS */
ASCENDING_NODE_LONGITUDE = 299.61
MAXIMUM_RESOLUTION = 15
FOOTPRINT_POINT_LATITUDE = (-26.6441,-26.6423,-26.6404,-26.6385, -26.6365,-26.6345,-26.6325,-26.6304, -26.6282,-26.6261,-26.6238,-26.6216, -26.6193,-26.6169,-26.6145,-26.6121, -26.6096,-26.607,-26.6045,-26.6018, -26.5992,-26.5965,-26.5937,-26.5909, -26.588,-26.5844,-26.5092,-26.4375, -26.3655,-26.2693,-26.1972,-26.0771, -26.0051,-25.9328,-25.8605,-25.7642, -25.692,-25.5955,-25.5231,-25.4267, -25.3545,-25.258,-25.1855,-25.0886, -24.9919,-24.8952,-24.8227,-24.7259, -24.629,-24.5078,-24.4349,-24.3138, -24.1922,-24.1458,-24.15,-24.1553, -24.1587,-24.1617,-24.164,-24.1651, -24.1673,-24.1696,-24.1711,-24.1726, -24.1754,-24.1832,-24.187,-24.1897, -24.1917,-24.1948,-24.1979,-24.2003, -24.298,-24.3708,-24.4679,-24.5407, -24.6378,-24.7106,-24.8076,-24.8804, -24.9774,-25.0501,-25.1469,-25.2193, -25.3643,-25.4852,-25.5577,-25.6544, -25.7269,-25.8235,-25.8958,-25.9924, -26.065,-26.1616,-26.234,-26.3063, -26.4026,-26.4989,-26.571,-26.6441)
FOOTPRINT_POINT_LONGITUDE = (347.334,347.279,347.224,347.168, 347.113,347.057,347.002,346.946,346.89, 346.834,346.778,346.722,346.666,346.61, 346.553,346.497,346.441,346.384,346.327 ,346.27,346.213,346.156,346.099,346.042 ,345.984,345.912,345.891,345.893, 345.895,345.897,345.899,345.902,345.904 ,345.906,345.908,345.91,345.912,345.914 ,345.916,345.918,345.92,345.922,345.924 ,345.926,345.928,345.93,345.932,345.934 ,345.936,345.938,345.94,345.942,345.945 ,346.015,346.098,346.195,346.251, 346.306,346.36,346.414,346.509,346.564, 346.618,346.672,346.727,346.822,346.916 ,346.984,347.037,347.144,347.238, 347.324,347.324,347.325,347.325,347.325 ,347.326,347.326,347.327,347.327, 347.328,347.328,347.328,347.329,347.329 ,347.33,347.33,347.331,347.331,347.332, 347.332,347.332,347.333,347.333,347.334 ,347.334,347.334,347.335,347.335, 347.334)
ORBIT_NUMBER = 14596
ORBITAL_ECCENTRICITY = 0.578
ORBITAL_INCLINATION = 86.9
ORBITAL_SEMIMAJOR_AXIS = 8845.41
PERIAPSIS_ALTITUDE = 336.35
PERIAPSIS_ARGUMENT_ANGLE = 341.96
PERIAPSIS_TIME = 2015-07-05T03:56:50.000Z
SPACECRAFT_ORIENTATION = (0.0,1.0,0.0)
^MEX_ORIENTATION_DESC = "MEX_ORIENTATION_DESC.TXT"
SPACECRAFT_POINTING_MODE = ACROSSTRACK
^MEX_POINTING_DESC = "MEX_POINTING_DESC.TXT"
RIGHT_ASCENSION = -1e+32
DECLINATION = -1e+32
OFFSET_ANGLE = 0.539
SPACECRAFT_SOLAR_DISTANCE = 2.36012e+08
TARGET_NAME = MARS
/* CAMERA DATA ELEMENTS */
DETECTOR_TEMPERATURE = 18.5744
FOCAL_PLANE_TEMPERATURE = 8.1755
INST_CMPRS_NAME = "DISCRETE COSINE TRANSFORMATION (DCT)"
INST_CMPRS_RATIO = 7.24773
INST_CMPRS_QUALITY = 0
INST_CMPRS_QUANTZ_TBL_ID = 0
INSTRUMENT_TEMPERATURE = 11.4379
LENS_TEMPERATURE = 8.5833
MACROPIXEL_SIZE = 1
MISSING_FRAMES = 0
PIXEL_SUBSAMPLING_FLAG = N
SIGNAL_CHAIN_ID = 1
/* RADIOMETRIC DATA ELEMENTS */
BANDWIDTH = 178.0
CENTER_FILTER_WAVELENGTH = 679.0
RADIANCE_OFFSET = 1.63869
RADIANCE_SCALING_FACTOR = 0.00878688
REFLECTANCE_SCALING_FACTOR = 0.000259199
MEX:REFLECTANCE_OFFSET = 0.0483386
/* IMAGE OBJECT DEFINITIONS */
OBJECT = IMAGE
  INTERCHANGE_FORMAT = BINARY
  LINES = 11419
  LINE_SAMPLES = 6254
  SAMPLE_TYPE = UNSIGNED_INTEGER
  SAMPLE_BITS = 8
  BANDS = 1
  BAND_STORAGE_TYPE = BAND_SEQUENTIAL
  MAXIMUM = 255
  MEAN = 125.141
  MINIMUM = 1
  STANDARD_DEVIATION = 18.783
END_OBJECT = IMAGE
/* MAP OBJECT DEFINITIONS */
OBJECT = IMAGE_MAP_PROJECTION
  ^DATA_SET_MAP_PROJECTION_CATALOG= "DSMAP.CAT"
  A_AXIS_RADIUS = 3396.0
  B_AXIS_RADIUS = 3396.0
  C_AXIS_RADIUS = 3396.0
  CENTER_LATITUDE = 0.0
  CENTER_LONGITUDE = 347.0
  COORDINATE_SYSTEM_NAME = PLANETOGRAPHIC
  COORDINATE_SYSTEM_TYPE = "BODY-FIXED ROTATING"
  EASTERNMOST_LONGITUDE = 347.335
  FIRST_STANDARD_PARALLEL = "N/A"
  LINE_FIRST_PIXEL = 1
  LINE_LAST_PIXEL = 11419
  LINE_PROJECTION_OFFSET = -114668.0
  MAP_PROJECTION_ROTATION = 0.0
  MAP_PROJECTION_TYPE = SINUSOIDAL
  MAP_RESOLUTION = 4741.71043093333
  MAP_SCALE = 0.0125
  MAXIMUM_LATITUDE = -24.1458
  MINIMUM_LATITUDE = -26.6441
  POSITIVE_LONGITUDE_DIRECTION = EAST
  REFERENCE_LATITUDE = "N/A"
  REFERENCE_LONGITUDE = "N/A"
  SAMPLE_FIRST_PIXEL = 1
  SAMPLE_LAST_PIXEL = 6254
  SAMPLE_PROJECTION_OFFSET = 4895.0
  SECOND_STANDARD_PARALLEL = "N/A"
  WESTERNMOST_LONGITUDE = 345.891
END_OBJECT = IMAGE_MAP_PROJECTION
/* The JPEG2000 image data file associated with this label. */
OBJECT = COMPRESSED_FILE
  FILE_NAME = "HE596_0000_S23.JP2"
  RECORD_TYPE = UNDEFINED
  FILE_RECORDS = UNK
  ENCODING_TYPE = "JP2"
  INTERCHANGE_FORMAT = BINARY
  UNCOMPRESSED_FILE_NAME = "HE596_0000_S23.IMG"
  REQUIRED_STORAGE_BYTES = "71445696"
  ^DESCRIPTION = "JP2INFO.TXT"
END_OBJECT = COMPRESSED_FILE
END
