PDS_VERSION_ID = PDS3
/* FILE DATA ELEMENTS */
RECORD_TYPE = STREAM
/* POINTERS TO DATA OBJECTS */
^COMPRESSED_FILE = "HE602_0000_BL3.JP2"
/* IDENTIFICATION DATA ELEMENTS */
DATA_SET_ID = "MEX-M-HRSC-5-REFDR-MAPPROJECTED-V3.0"
DATA_SET_NAME = "MARS EXPRESS HRSC MAP PROJECTED REFDR V3.0"
DETECTOR_ID = MEX_HRSC_BLUE
EVENT_TYPE = "MARS-REGIONAL-MAPPING-Im-Fl"
INSTRUMENT_HOST_ID = MEX
INSTRUMENT_HOST_NAME = "MARS EXPRESS"
INSTRUMENT_ID = HRSC
INSTRUMENT_NAME = "HIGH RESOLUTION STEREO CAMERA"
MISSION_NAME = "MARS EXPRESS"
MISSION_PHASE_NAME = ME_Phase_33
PROCESSING_LEVEL_ID = 3
PRODUCT_CREATION_TIME = 2016-10-30T02:40:36.000Z
PRODUCT_ID = "HE602_0000_BL3.JP2"
RELEASE_ID = 0129
REVISION_ID = 0000
/* QUALITY DATA ELEMENTS */
DATA_QUALITY_ID = 1
DATA_QUALITY_DESC = "Data calculated based on original SPICE kernels"
/* TIME DATA ELEMENTS */
SPACECRAFT_CLOCK_START_COUNT = "1/0384299704.08252"
SPACECRAFT_CLOCK_STOP_COUNT = "1/0384299910.65443"
START_TIME = 2015-07-06T21:55:35.693Z
STOP_TIME = 2015-07-06T21:57:53.005Z
/* ORBITAL DATA ELEMENTS */
ASCENDING_NODE_LONGITUDE = 299.49
MAXIMUM_RESOLUTION = 108.1
FOOTPRINT_POINT_LATITUDE = (-13.5199,-13.5182,-13.5164,-13.5143, -13.5121,-13.5097,-13.5059,-13.2472, -13.0748,-12.9023,-12.6438,-12.4714, -12.2991,-12.1268,-11.9547,-11.7826, -11.6103,-11.3523,-11.1802,-11.0085, -10.7503,-10.5782,-10.3201,-10.1482, -9.97627,-9.8044,-9.63249,-9.46077, -9.20323,-9.03142,-8.85968,-8.68831, -8.51705,-8.34597,-8.17461,-8.00291, -7.74573,-7.5745,-7.40343,-7.23249, -7.06136,-6.89048,-6.71963,-6.54893, -6.20782,-5.90395,-5.70055,-5.49731, -5.29473,-5.09142,-4.88859,-4.60866, -4.61012,-4.61071,-4.6116,-4.61274, -4.71625,-4.91858,-5.12149,-5.32502, -5.52959,-5.83537,-6.03907,-6.23703, -6.57884,-6.74959,-6.9203,-7.17692, -7.34809,-7.51933,-7.69064,-7.86201, -8.03421,-8.29149,-8.46337,-8.72018, -8.89141,-9.06404,-9.23505,-9.40673, -9.5793,-9.83703,-10.009,-10.1809, -10.3531,-10.5254,-10.7837,-11.0421, -11.2147,-11.387,-11.5592,-11.7317, -11.9903,-12.2489,-12.4215,-12.5941, -12.7665,-12.939,-13.1979,-13.5199)
FOOTPRINT_POINT_LONGITUDE = (93.1923,93.0118,92.8292,92.6442,92.457 ,92.2676,91.9586,91.9581,91.9576, 91.9568,91.9561,91.9553,91.9549,91.9543 ,91.954,91.9538,91.9529,91.9524,91.9517 ,91.952,91.9499,91.9484,91.9459,91.9447 ,91.9429,91.9413,91.9393,91.9379, 91.9354,91.933,91.9306,91.9295,91.9287, 91.9283,91.9264,91.9229,91.9186,91.9163 ,91.9144,91.9128,91.9101,91.9081, 91.9059,91.904,91.9006,91.8952,91.8925, 91.89,91.8898,91.886,91.8837,91.8797, 92.2967,92.4718,92.6464,92.9894,93.2017 ,93.2007,93.2001,93.1999,93.2006, 93.2005,93.2002,93.2002,93.1999,93.1994 ,93.1989,93.1986,93.1984,93.1982, 93.1981,93.1979,93.1985,93.1983,93.1985 ,93.1977,93.1971,93.1978,93.1969, 93.1966,93.1972,93.1968,93.1967,93.1965 ,93.1964,93.1965,93.1964,93.1963, 93.1965,93.1965,93.1963,93.1963,93.1961 ,93.1959,93.1959,93.1959,93.1956, 93.1954,93.1954,93.1923)
ORBIT_NUMBER = 14602
ORBITAL_ECCENTRICITY = 0.579
ORBITAL_INCLINATION = 86.9
ORBITAL_SEMIMAJOR_AXIS = 8851.56
PERIAPSIS_ALTITUDE = 335.13
PERIAPSIS_ARGUMENT_ANGLE = 340.93
PERIAPSIS_TIME = 2015-07-06T21:54:17.000Z
SPACECRAFT_ORIENTATION = (0.0,1.0,0.0)
^MEX_ORIENTATION_DESC = "MEX_ORIENTATION_DESC.TXT"
SPACECRAFT_POINTING_MODE = ACROSSTRACK
^MEX_POINTING_DESC = "MEX_POINTING_DESC.TXT"
RIGHT_ASCENSION = -1e+32
DECLINATION = -1e+32
OFFSET_ANGLE = 1.0
SPACECRAFT_SOLAR_DISTANCE = 2.36315e+08
TARGET_NAME = MARS
/* CAMERA DATA ELEMENTS */
DETECTOR_TEMPERATURE = 17.9627
FOCAL_PLANE_TEMPERATURE = 7.3599
INST_CMPRS_NAME = "DISCRETE COSINE TRANSFORMATION (DCT)"
INST_CMPRS_RATIO = 7.53279
INST_CMPRS_QUALITY = 0
INST_CMPRS_QUANTZ_TBL_ID = 0
INSTRUMENT_TEMPERATURE = 10.8262
LENS_TEMPERATURE = 7.7677
MACROPIXEL_SIZE = 8
MISSING_FRAMES = 0
PIXEL_SUBSAMPLING_FLAG = N
SIGNAL_CHAIN_ID = 2
/* RADIOMETRIC DATA ELEMENTS */
BANDWIDTH = 76.0
CENTER_FILTER_WAVELENGTH = 444.0
RADIANCE_OFFSET = 0.410236
RADIANCE_SCALING_FACTOR = 0.00125298
REFLECTANCE_SCALING_FACTOR = 7.18931e-05
MEX:REFLECTANCE_OFFSET = 0.0235383
/* IMAGE OBJECT DEFINITIONS */
OBJECT = IMAGE
  INTERCHANGE_FORMAT = BINARY
  LINES = 5282
  LINE_SAMPLES = 862
  SAMPLE_TYPE = UNSIGNED_INTEGER
  SAMPLE_BITS = 8
  BANDS = 1
  BAND_STORAGE_TYPE = BAND_SEQUENTIAL
  MAXIMUM = 255
  MEAN = 131.673
  MINIMUM = 1
  STANDARD_DEVIATION = 25.733
END_OBJECT = IMAGE
/* MAP OBJECT DEFINITIONS */
OBJECT = IMAGE_MAP_PROJECTION
  ^DATA_SET_MAP_PROJECTION_CATALOG= "DSMAP.CAT"
  A_AXIS_RADIUS = 3396.0
  B_AXIS_RADIUS = 3396.0
  C_AXIS_RADIUS = 3396.0
  CENTER_LATITUDE = 0.0
  CENTER_LONGITUDE = 93.0
  COORDINATE_SYSTEM_NAME = PLANETOGRAPHIC
  COORDINATE_SYSTEM_TYPE = "BODY-FIXED ROTATING"
  EASTERNMOST_LONGITUDE = 93.2017
  FIRST_STANDARD_PARALLEL = "N/A"
  LINE_FIRST_PIXEL = 1
  LINE_LAST_PIXEL = 5282
  LINE_PROJECTION_OFFSET = -2735.6875
  MAP_PROJECTION_ROTATION = 0.0
  MAP_PROJECTION_TYPE = SINUSOIDAL
  MAP_RESOLUTION = 592.713803866667
  MAP_SCALE = 0.1
  MAXIMUM_LATITUDE = -4.60866
  MINIMUM_LATITUDE = -13.5199
  POSITIVE_LONGITUDE_DIRECTION = EAST
  REFERENCE_LATITUDE = "N/A"
  REFERENCE_LONGITUDE = "N/A"
  SAMPLE_FIRST_PIXEL = 1
  SAMPLE_LAST_PIXEL = 862
  SAMPLE_PROJECTION_OFFSET = 739.6875
  SECOND_STANDARD_PARALLEL = "N/A"
  WESTERNMOST_LONGITUDE = 91.8797
END_OBJECT = IMAGE_MAP_PROJECTION
/* The JPEG2000 image data file associated with this label. */
OBJECT = COMPRESSED_FILE
  FILE_NAME = "HE602_0000_BL3.JP2"
  RECORD_TYPE = UNDEFINED
  FILE_RECORDS = UNK
  ENCODING_TYPE = "JP2"
  INTERCHANGE_FORMAT = BINARY
  UNCOMPRESSED_FILE_NAME = "HE602_0000_BL3.IMG"
  REQUIRED_STORAGE_BYTES = "4571186"
  ^DESCRIPTION = "JP2INFO.TXT"
END_OBJECT = COMPRESSED_FILE
END
