PDS_VERSION_ID = PDS3
/* FILE DATA ELEMENTS */
RECORD_TYPE = STREAM
/* POINTERS TO DATA OBJECTS */
^COMPRESSED_FILE = "HE603_0000_ND3.JP2"
/* IDENTIFICATION DATA ELEMENTS */
DATA_SET_ID = "MEX-M-HRSC-5-REFDR-MAPPROJECTED-V3.0"
DATA_SET_NAME = "MARS EXPRESS HRSC MAP PROJECTED REFDR V3.0"
DETECTOR_ID = MEX_HRSC_NADIR
EVENT_TYPE = "MARS-REGIONAL-MAPPING-Im-Fl"
INSTRUMENT_HOST_ID = MEX
INSTRUMENT_HOST_NAME = "MARS EXPRESS"
INSTRUMENT_ID = HRSC
INSTRUMENT_NAME = "HIGH RESOLUTION STEREO CAMERA"
MISSION_NAME = "MARS EXPRESS"
MISSION_PHASE_NAME = ME_Phase_33
PROCESSING_LEVEL_ID = 3
PRODUCT_CREATION_TIME = 2016-10-30T02:40:36.000Z
PRODUCT_ID = "HE603_0000_ND3.JP2"
RELEASE_ID = 0129
REVISION_ID = 0000
/* QUALITY DATA ELEMENTS */
DATA_QUALITY_ID = 1
DATA_QUALITY_DESC = "Data calculated based on original SPICE kernels"
/* TIME DATA ELEMENTS */
SPACECRAFT_CLOCK_START_COUNT = "1/0384324760.08267"
SPACECRAFT_CLOCK_STOP_COUNT = "1/0384324922.07666"
START_TIME = 2015-07-07T04:53:16.433Z
STOP_TIME = 2015-07-07T04:54:55.431Z
/* ORBITAL DATA ELEMENTS */
ASCENDING_NODE_LONGITUDE = 299.47
MAXIMUM_RESOLUTION = 13.5
FOOTPRINT_POINT_LATITUDE = (-21.3119,-21.3124,-21.3127,-21.3128, -21.3127,-21.3125,-21.1826,-21.0537, -20.9247,-20.7313,-20.5377,-20.4087, -20.2151,-20.086,-19.8925,-19.7634, -19.6343,-19.5052,-19.3117,-19.1826, -19.0534,-18.8597,-18.7307,-18.6016, -18.4725,-18.2791,-18.15,-17.9564, -17.8273,-17.6983,-17.5047,-17.3756, -17.2466,-17.1176,-16.9885,-16.8595, -16.7305,-16.6015,-16.4725,-16.279, -16.15,-16.0211,-15.8921,-15.7632, -15.6342,-15.3764,-15.1187,-14.8609, -14.8532,-14.8525,-14.8516,-14.8506, -14.8488,-14.8476,-14.9766,-15.1056, -15.2348,-15.3637,-15.4927,-15.6217, -15.7507,-15.8798,-16.0088,-16.1379, -16.3314,-16.4605,-16.5896,-16.7187, -16.9124,-17.0415,-17.1706,-17.2997, -17.4934,-17.6226,-17.7517,-17.8809, -18.01,-18.2037,-18.3975,-18.5267, -18.6559,-18.785,-18.9788,-19.1079, -19.2371,-19.3663,-19.56,-19.7538, -19.883,-20.0121,-20.2058,-20.335, -20.5287,-20.6579,-20.787,-20.9161, -21.0452,-21.1743,-21.3034,-21.3119)
FOOTPRINT_POINT_LONGITUDE = (351.943,351.757,351.558,351.36,351.212 ,351.052,350.955,350.956,350.957, 350.959,350.959,350.96,350.96,350.961, 350.961,350.961,350.961,350.961,350.962 ,350.962,350.961,350.961,350.961, 350.961,350.961,350.963,350.963,350.963 ,350.962,350.962,350.962,350.962, 350.962,350.962,350.961,350.961,350.961 ,350.961,350.96,350.959,350.959,350.959 ,350.958,350.958,350.957,350.956, 350.955,350.954,351.171,351.328,351.535 ,351.719,352.001,352.191,352.192, 352.191,352.187,352.188,352.189,352.19, 352.191,352.192,352.193,352.193,352.195 ,352.195,352.196,352.197,352.198, 352.199,352.2,352.201,352.201,352.202, 352.203,352.204,352.204,352.207,352.207 ,352.208,352.209,352.21,352.211,352.212 ,352.213,352.214,352.215,352.216, 352.216,352.217,352.219,352.219,352.22, 352.22,352.221,352.223,352.223,352.224, 352.225,351.943)
ORBIT_NUMBER = 14603
ORBITAL_ECCENTRICITY = 0.578
ORBITAL_INCLINATION = 86.9
ORBITAL_SEMIMAJOR_AXIS = 8844.83
PERIAPSIS_ALTITUDE = 335.99
PERIAPSIS_ARGUMENT_ANGLE = 340.76
PERIAPSIS_TIME = 2015-07-07T04:53:49.000Z
SPACECRAFT_ORIENTATION = (0.0,1.0,0.0)
^MEX_ORIENTATION_DESC = "MEX_ORIENTATION_DESC.TXT"
SPACECRAFT_POINTING_MODE = ACROSSTRACK
^MEX_POINTING_DESC = "MEX_POINTING_DESC.TXT"
RIGHT_ASCENSION = -1e+32
DECLINATION = -1e+32
OFFSET_ANGLE = -0.2
SPACECRAFT_SOLAR_DISTANCE = 2.36366e+08
TARGET_NAME = MARS
/* CAMERA DATA ELEMENTS */
DETECTOR_TEMPERATURE = 17.7588
FOCAL_PLANE_TEMPERATURE = 7.156
INST_CMPRS_NAME = "DISCRETE COSINE TRANSFORMATION (DCT)"
INST_CMPRS_RATIO = 7.85105
INST_CMPRS_QUALITY = 0
INST_CMPRS_QUANTZ_TBL_ID = 0
INSTRUMENT_TEMPERATURE = 10.6223
LENS_TEMPERATURE = 7.7677
MACROPIXEL_SIZE = 1
MISSING_FRAMES = 0
PIXEL_SUBSAMPLING_FLAG = N
SIGNAL_CHAIN_ID = 0
/* RADIOMETRIC DATA ELEMENTS */
BANDWIDTH = 177.0
CENTER_FILTER_WAVELENGTH = 677.5
RADIANCE_OFFSET = 1.57791
RADIANCE_SCALING_FACTOR = 0.00874372
REFLECTANCE_SCALING_FACTOR = 0.000259508
MEX:REFLECTANCE_OFFSET = 0.0468312
/* IMAGE OBJECT DEFINITIONS */
OBJECT = IMAGE
  INTERCHANGE_FORMAT = BINARY
  LINES = 30655
  LINE_SAMPLES = 6123
  SAMPLE_TYPE = UNSIGNED_INTEGER
  SAMPLE_BITS = 8
  BANDS = 1
  BAND_STORAGE_TYPE = BAND_SEQUENTIAL
  MAXIMUM = 255
  MEAN = 108.72
  MINIMUM = 1
  STANDARD_DEVIATION = 27.7298
END_OBJECT = IMAGE
/* MAP OBJECT DEFINITIONS */
OBJECT = IMAGE_MAP_PROJECTION
  ^DATA_SET_MAP_PROJECTION_CATALOG= "DSMAP.CAT"
  A_AXIS_RADIUS = 3396.0
  B_AXIS_RADIUS = 3396.0
  C_AXIS_RADIUS = 3396.0
  CENTER_LATITUDE = 0.0
  CENTER_LONGITUDE = 352.0
  COORDINATE_SYSTEM_NAME = PLANETOGRAPHIC
  COORDINATE_SYSTEM_TYPE = "BODY-FIXED ROTATING"
  EASTERNMOST_LONGITUDE = 352.225
  FIRST_STANDARD_PARALLEL = "N/A"
  LINE_FIRST_PIXEL = 1
  LINE_LAST_PIXEL = 30655
  LINE_PROJECTION_OFFSET = -70406.0
  MAP_PROJECTION_ROTATION = 0.0
  MAP_PROJECTION_TYPE = SINUSOIDAL
  MAP_RESOLUTION = 4741.71043093333
  MAP_SCALE = 0.0125
  MAXIMUM_LATITUDE = -14.8476
  MINIMUM_LATITUDE = -21.3128
  POSITIVE_LONGITUDE_DIRECTION = EAST
  REFERENCE_LATITUDE = "N/A"
  REFERENCE_LONGITUDE = "N/A"
  SAMPLE_FIRST_PIXEL = 1
  SAMPLE_LAST_PIXEL = 6123
  SAMPLE_PROJECTION_OFFSET = 4905.0
  SECOND_STANDARD_PARALLEL = "N/A"
  WESTERNMOST_LONGITUDE = 350.954
END_OBJECT = IMAGE_MAP_PROJECTION
/* The JPEG2000 image data file associated with this label. */
OBJECT = COMPRESSED_FILE
  FILE_NAME = "HE603_0000_ND3.JP2"
  RECORD_TYPE = UNDEFINED
  FILE_RECORDS = UNK
  ENCODING_TYPE = "JP2"
  INTERCHANGE_FORMAT = BINARY
  UNCOMPRESSED_FILE_NAME = "HE603_0000_ND3.IMG"
  REQUIRED_STORAGE_BYTES = "187731180"
  ^DESCRIPTION = "JP2INFO.TXT"
END_OBJECT = COMPRESSED_FILE
END
