PDS_VERSION_ID = PDS3
/* FILE DATA ELEMENTS */
RECORD_TYPE = STREAM
/* POINTERS TO DATA OBJECTS */
^COMPRESSED_FILE = "HE605_0000_ND3.JP2"
/* IDENTIFICATION DATA ELEMENTS */
DATA_SET_ID = "MEX-M-HRSC-5-REFDR-MAPPROJECTED-V3.0"
DATA_SET_NAME = "MARS EXPRESS HRSC MAP PROJECTED REFDR V3.0"
DETECTOR_ID = MEX_HRSC_NADIR
EVENT_TYPE = "MARS-REGIONAL-MAPPING-Vo-Fl-Mw"
INSTRUMENT_HOST_ID = MEX
INSTRUMENT_HOST_NAME = "MARS EXPRESS"
INSTRUMENT_ID = HRSC
INSTRUMENT_NAME = "HIGH RESOLUTION STEREO CAMERA"
MISSION_NAME = "MARS EXPRESS"
MISSION_PHASE_NAME = ME_Phase_33
PROCESSING_LEVEL_ID = 3
PRODUCT_CREATION_TIME = 2016-10-30T02:40:36.000Z
PRODUCT_ID = "HE605_0000_ND3.JP2"
RELEASE_ID = 0129
REVISION_ID = 0000
/* QUALITY DATA ELEMENTS */
DATA_QUALITY_ID = 1
DATA_QUALITY_DESC = "Data calculated based on original SPICE kernels"
/* TIME DATA ELEMENTS */
SPACECRAFT_CLOCK_START_COUNT = "1/0384375246.09059"
SPACECRAFT_CLOCK_STOP_COUNT = "1/0384375473.25415"
START_TIME = 2015-07-07T18:54:42.459Z
STOP_TIME = 2015-07-07T18:57:19.448Z
/* ORBITAL DATA ELEMENTS */
ASCENDING_NODE_LONGITUDE = 299.43
MAXIMUM_RESOLUTION = 13.7
FOOTPRINT_POINT_LATITUDE = (-12.9736,-12.9751,-12.9765,-12.977, -12.9773,-12.7857,-12.5941,-12.4026, -12.2112,-12.0198,-11.8285,-11.6372, -11.446,-11.2549,-11.0638,-10.7772, -10.4908,-10.2999,-10.1093,-9.91874, -9.72808,-9.53755,-9.34713,-9.15676, -8.96649,-8.7763,-8.58621,-8.39623, -8.20633,-8.01651,-7.82677,-7.63712, -7.25811,-6.87947,-6.50122,-6.27596, -5.938,-5.71285,-5.48785,-5.26284, -5.03817,-4.70153,-4.36509,-4.1411, -3.91721,-3.6935,-3.46999,-3.24664, -3.02347,-2.88647,-2.88327,-2.88093, -2.87846,-2.98797,-3.21131,-3.43476, -3.65842,-3.88229,-4.10632,-4.33053, -4.55489,-4.77943,-5.00412,-5.22895, -5.45391,-5.67906,-5.90438,-6.12987, -6.35551,-6.56662,-6.94528,-7.3243, -7.7037,-7.89357,-8.08348,-8.27349, -8.46359,-8.6538,-8.84409,-9.03445, -9.22491,-9.41545,-9.60607,-9.79676, -9.98753,-10.1784,-10.3693,-10.5603, -10.7514,-10.9426,-11.2294,-11.4206, -11.612,-11.8034,-11.9949,-12.1865, -12.378,-12.5697,-12.7614,-12.9736)
FOOTPRINT_POINT_LONGITUDE = (147.015,146.714,146.325,146.093, 145.857,145.856,145.854,145.853,145.851 ,145.85,145.848,145.846,145.844,145.842 ,145.841,145.835,145.828,145.825, 145.825,145.826,145.822,145.819,145.816 ,145.813,145.81,145.808,145.806,145.804 ,145.802,145.8,145.797,145.794,145.789, 145.783,145.777,145.773,145.769,145.766 ,145.762,145.753,145.749,145.746, 145.737,145.735,145.729,145.724,145.72, 145.715,145.711,145.942,146.312,146.585 ,146.842,147.091,147.091,147.091,147.09 ,147.09,147.089,147.089,147.089,147.088 ,147.088,147.088,147.088,147.088, 147.088,147.087,147.087,147.086,147.085 ,147.085,147.085,147.085,147.085, 147.085,147.085,147.085,147.085,147.085 ,147.085,147.085,147.085,147.085, 147.085,147.085,147.085,147.085,147.084 ,147.084,147.084,147.085,147.085, 147.085,147.085,147.085,147.085,147.086 ,147.086,147.015)
ORBIT_NUMBER = 14605
ORBITAL_ECCENTRICITY = 0.578
ORBITAL_INCLINATION = 86.89
ORBITAL_SEMIMAJOR_AXIS = 8846.01
PERIAPSIS_ALTITUDE = 336.13
PERIAPSIS_ARGUMENT_ANGLE = 340.46
PERIAPSIS_TIME = 2015-07-07T18:53:03.000Z
SPACECRAFT_ORIENTATION = (0.0,1.0,0.0)
^MEX_ORIENTATION_DESC = "MEX_ORIENTATION_DESC.TXT"
SPACECRAFT_POINTING_MODE = ACROSSTRACK
^MEX_POINTING_DESC = "MEX_POINTING_DESC.TXT"
RIGHT_ASCENSION = -1e+32
DECLINATION = -1e+32
OFFSET_ANGLE = 0.3
SPACECRAFT_SOLAR_DISTANCE = 2.36466e+08
TARGET_NAME = MARS
/* CAMERA DATA ELEMENTS */
DETECTOR_TEMPERATURE = 17.9627
FOCAL_PLANE_TEMPERATURE = 7.3599
INST_CMPRS_NAME = "DISCRETE COSINE TRANSFORMATION (DCT)"
INST_CMPRS_RATIO = 6.65748
INST_CMPRS_QUALITY = 0
INST_CMPRS_QUANTZ_TBL_ID = 0
INSTRUMENT_TEMPERATURE = 10.6223
LENS_TEMPERATURE = 7.9716
MACROPIXEL_SIZE = 1
MISSING_FRAMES = 0
PIXEL_SUBSAMPLING_FLAG = N
SIGNAL_CHAIN_ID = 0
/* RADIOMETRIC DATA ELEMENTS */
BANDWIDTH = 177.0
CENTER_FILTER_WAVELENGTH = 677.5
RADIANCE_OFFSET = 2.06608
RADIANCE_SCALING_FACTOR = 0.0130272
REFLECTANCE_SCALING_FACTOR = 0.000386966
MEX:REFLECTANCE_OFFSET = 0.0613719
/* IMAGE OBJECT DEFINITIONS */
OBJECT = IMAGE
  INTERCHANGE_FORMAT = BINARY
  LINES = 47891
  LINE_SAMPLES = 6891
  SAMPLE_TYPE = UNSIGNED_INTEGER
  SAMPLE_BITS = 8
  BANDS = 1
  BAND_STORAGE_TYPE = BAND_SEQUENTIAL
  MAXIMUM = 255
  MEAN = 130.08
  MINIMUM = 1
  STANDARD_DEVIATION = 28.932
END_OBJECT = IMAGE
/* MAP OBJECT DEFINITIONS */
OBJECT = IMAGE_MAP_PROJECTION
  ^DATA_SET_MAP_PROJECTION_CATALOG= "DSMAP.CAT"
  A_AXIS_RADIUS = 3396.0
  B_AXIS_RADIUS = 3396.0
  C_AXIS_RADIUS = 3396.0
  CENTER_LATITUDE = 0.0
  CENTER_LONGITUDE = 146.0
  COORDINATE_SYSTEM_NAME = PLANETOGRAPHIC
  COORDINATE_SYSTEM_TYPE = "BODY-FIXED ROTATING"
  EASTERNMOST_LONGITUDE = 147.091
  FIRST_STANDARD_PARALLEL = "N/A"
  LINE_FIRST_PIXEL = 1
  LINE_LAST_PIXEL = 47891
  LINE_PROJECTION_OFFSET = -13640.0
  MAP_PROJECTION_ROTATION = 0.0
  MAP_PROJECTION_TYPE = SINUSOIDAL
  MAP_RESOLUTION = 4741.71043093333
  MAP_SCALE = 0.0125
  MAXIMUM_LATITUDE = -2.87846
  MINIMUM_LATITUDE = -12.9773
  POSITIVE_LONGITUDE_DIRECTION = EAST
  REFERENCE_LATITUDE = "N/A"
  REFERENCE_LONGITUDE = "N/A"
  SAMPLE_FIRST_PIXEL = 1
  SAMPLE_LAST_PIXEL = 6891
  SAMPLE_PROJECTION_OFFSET = 1619.0
  SECOND_STANDARD_PARALLEL = "N/A"
  WESTERNMOST_LONGITUDE = 145.711
END_OBJECT = IMAGE_MAP_PROJECTION
/* The JPEG2000 image data file associated with this label. */
OBJECT = COMPRESSED_FILE
  FILE_NAME = "HE605_0000_ND3.JP2"
  RECORD_TYPE = UNDEFINED
  FILE_RECORDS = UNK
  ENCODING_TYPE = "JP2"
  INTERCHANGE_FORMAT = BINARY
  UNCOMPRESSED_FILE_NAME = "HE605_0000_ND3.IMG"
  REQUIRED_STORAGE_BYTES = "330051336"
  ^DESCRIPTION = "JP2INFO.TXT"
END_OBJECT = COMPRESSED_FILE
END
