PDS_VERSION_ID = PDS3
/* FILE DATA ELEMENTS */
RECORD_TYPE = STREAM
/* POINTERS TO DATA OBJECTS */
^COMPRESSED_FILE = "HE605_0000_P23.JP2"
/* IDENTIFICATION DATA ELEMENTS */
DATA_SET_ID = "MEX-M-HRSC-5-REFDR-MAPPROJECTED-V3.0"
DATA_SET_NAME = "MARS EXPRESS HRSC MAP PROJECTED REFDR V3.0"
DETECTOR_ID = MEX_HRSC_P2
EVENT_TYPE = "MARS-REGIONAL-MAPPING-Vo-Fl-Mw"
INSTRUMENT_HOST_ID = MEX
INSTRUMENT_HOST_NAME = "MARS EXPRESS"
INSTRUMENT_ID = HRSC
INSTRUMENT_NAME = "HIGH RESOLUTION STEREO CAMERA"
MISSION_NAME = "MARS EXPRESS"
MISSION_PHASE_NAME = ME_Phase_33
PROCESSING_LEVEL_ID = 3
PRODUCT_CREATION_TIME = 2016-10-30T02:40:36.000Z
PRODUCT_ID = "HE605_0000_P23.JP2"
RELEASE_ID = 0129
REVISION_ID = 0000
/* QUALITY DATA ELEMENTS */
DATA_QUALITY_ID = 1
DATA_QUALITY_DESC = "Data calculated based on original SPICE kernels"
/* TIME DATA ELEMENTS */
SPACECRAFT_CLOCK_START_COUNT = "1/0384375246.09059"
SPACECRAFT_CLOCK_STOP_COUNT = "1/0384375473.25415"
START_TIME = 2015-07-07T18:54:22.454Z
STOP_TIME = 2015-07-07T18:56:56.476Z
/* ORBITAL DATA ELEMENTS */
ASCENDING_NODE_LONGITUDE = 299.43
MAXIMUM_RESOLUTION = 55.9
FOOTPRINT_POINT_LATITUDE = (-12.976,-12.9726,-12.9691,-12.7744, -12.4827,-12.2882,-12.0935,-11.8987, -11.7035,-11.5092,-11.3141,-11.0203, -10.725,-10.5258,-10.3299,-10.137, -9.94825,-9.74987,-9.55444,-9.3598, -9.16317,-8.96839,-8.77384,-8.57971, -8.28965,-8.09603,-7.80462,-7.61031, -7.41619,-7.22186,-7.02774,-6.83328, -6.63873,-6.34768,-6.14874,-5.96169, -5.76811,-5.47783,-5.27494,-4.97013, -4.6258,-4.39217,-4.16428,-3.93062, -3.69958,-3.46914,-3.23748,-2.86197, -2.86331,-2.86363,-2.86891,-2.86684, -2.86952,-3.10185,-3.44599,-3.67649, -3.90773,-4.25466,-4.48574,-4.71783, -4.94931,-5.16194,-5.35525,-5.54793, -5.74156,-5.93554,-6.13014,-6.32536, -6.52209,-6.81543,-7.01078,-7.20536, -7.39943,-7.59376,-7.78884,-7.98398, -8.17734,-8.37178,-8.56625,-8.76148, -8.95656,-9.15108,-9.444,-9.63929, -9.93118,-10.1278,-10.3232,-10.616, -10.9101,-11.105,-11.3005,-11.4947, -11.691,-11.983,-12.1782,-12.3729, -12.5675,-12.7615,-12.956,-12.976)
FOOTPRINT_POINT_LONGITUDE = (146.766,146.402,145.863,145.862,145.86 ,145.859,145.857,145.856,145.854, 145.853,145.851,145.847,145.842,145.837 ,145.835,145.834,145.836,145.831, 145.829,145.827,145.823,145.821,145.818 ,145.816,145.814,145.812,145.808, 145.806,145.803,145.801,145.798,145.795 ,145.792,145.788,145.782,145.784, 145.781,145.777,145.768,145.763,145.759 ,145.753,145.751,145.745,145.741, 145.737,145.732,145.814,146.068,146.282 ,146.522,146.71,146.971,147.075,147.075 ,147.075,147.075,147.075,147.075, 147.074,147.074,147.075,147.075,147.075 ,147.075,147.075,147.075,147.075, 147.075,147.074,147.074,147.074,147.075 ,147.075,147.075,147.075,147.075, 147.076,147.076,147.076,147.076,147.076 ,147.076,147.077,147.077,147.077, 147.077,147.077,147.078,147.078,147.078 ,147.079,147.079,147.079,147.08,147.08, 147.08,147.081,147.081,146.766)
ORBIT_NUMBER = 14605
ORBITAL_ECCENTRICITY = 0.578
ORBITAL_INCLINATION = 86.89
ORBITAL_SEMIMAJOR_AXIS = 8846.01
PERIAPSIS_ALTITUDE = 336.13
PERIAPSIS_ARGUMENT_ANGLE = 340.46
PERIAPSIS_TIME = 2015-07-07T18:53:03.000Z
SPACECRAFT_ORIENTATION = (0.0,1.0,0.0)
^MEX_ORIENTATION_DESC = "MEX_ORIENTATION_DESC.TXT"
SPACECRAFT_POINTING_MODE = ACROSSTRACK
^MEX_POINTING_DESC = "MEX_POINTING_DESC.TXT"
RIGHT_ASCENSION = -1e+32
DECLINATION = -1e+32
OFFSET_ANGLE = 0.3
SPACECRAFT_SOLAR_DISTANCE = 2.36466e+08
TARGET_NAME = MARS
/* CAMERA DATA ELEMENTS */
DETECTOR_TEMPERATURE = 18.1666
FOCAL_PLANE_TEMPERATURE = 7.3599
INST_CMPRS_NAME = "DISCRETE COSINE TRANSFORMATION (DCT)"
INST_CMPRS_RATIO = 6.9748
INST_CMPRS_QUALITY = 0
INST_CMPRS_QUANTZ_TBL_ID = 0
INSTRUMENT_TEMPERATURE = 10.6223
LENS_TEMPERATURE = 7.9716
MACROPIXEL_SIZE = 4
MISSING_FRAMES = 0
PIXEL_SUBSAMPLING_FLAG = N
SIGNAL_CHAIN_ID = 3
/* RADIOMETRIC DATA ELEMENTS */
BANDWIDTH = 177.0
CENTER_FILTER_WAVELENGTH = 676.5
RADIANCE_OFFSET = 2.40307
RADIANCE_SCALING_FACTOR = 0.0131402
REFLECTANCE_SCALING_FACTOR = 0.000389582
MEX:REFLECTANCE_OFFSET = 0.0712464
/* IMAGE OBJECT DEFINITIONS */
OBJECT = IMAGE
  INTERCHANGE_FORMAT = BINARY
  LINES = 11973
  LINE_SAMPLES = 1723
  SAMPLE_TYPE = UNSIGNED_INTEGER
  SAMPLE_BITS = 8
  BANDS = 1
  BAND_STORAGE_TYPE = BAND_SEQUENTIAL
  MAXIMUM = 255
  MEAN = 133.709
  MINIMUM = 1
  STANDARD_DEVIATION = 29.5886
END_OBJECT = IMAGE
/* MAP OBJECT DEFINITIONS */
OBJECT = IMAGE_MAP_PROJECTION
  ^DATA_SET_MAP_PROJECTION_CATALOG= "DSMAP.CAT"
  A_AXIS_RADIUS = 3396.0
  B_AXIS_RADIUS = 3396.0
  C_AXIS_RADIUS = 3396.0
  CENTER_LATITUDE = 0.0
  CENTER_LONGITUDE = 146.0
  COORDINATE_SYSTEM_NAME = PLANETOGRAPHIC
  COORDINATE_SYSTEM_TYPE = "BODY-FIXED ROTATING"
  EASTERNMOST_LONGITUDE = 147.081
  FIRST_STANDARD_PARALLEL = "N/A"
  LINE_FIRST_PIXEL = 1
  LINE_LAST_PIXEL = 11973
  LINE_PROJECTION_OFFSET = -3410.375
  MAP_PROJECTION_ROTATION = 0.0
  MAP_PROJECTION_TYPE = SINUSOIDAL
  MAP_RESOLUTION = 1185.42760773333
  MAP_SCALE = 0.05
  MAXIMUM_LATITUDE = -2.86197
  MINIMUM_LATITUDE = -12.976
  POSITIVE_LONGITUDE_DIRECTION = EAST
  REFERENCE_LATITUDE = "N/A"
  REFERENCE_LONGITUDE = "N/A"
  SAMPLE_FIRST_PIXEL = 1
  SAMPLE_LAST_PIXEL = 1723
  SAMPLE_PROJECTION_OFFSET = 404.375
  SECOND_STANDARD_PARALLEL = "N/A"
  WESTERNMOST_LONGITUDE = 145.732
END_OBJECT = IMAGE_MAP_PROJECTION
/* The JPEG2000 image data file associated with this label. */
OBJECT = COMPRESSED_FILE
  FILE_NAME = "HE605_0000_P23.JP2"
  RECORD_TYPE = UNDEFINED
  FILE_RECORDS = UNK
  ENCODING_TYPE = "JP2"
  INTERCHANGE_FORMAT = BINARY
  UNCOMPRESSED_FILE_NAME = "HE605_0000_P23.IMG"
  REQUIRED_STORAGE_BYTES = "20650155"
  ^DESCRIPTION = "JP2INFO.TXT"
END_OBJECT = COMPRESSED_FILE
END
