PDS_VERSION_ID = PDS3
/* FILE DATA ELEMENTS */
RECORD_TYPE = STREAM
/* POINTERS TO DATA OBJECTS */
^COMPRESSED_FILE = "HE605_0000_RE3.JP2"
/* IDENTIFICATION DATA ELEMENTS */
DATA_SET_ID = "MEX-M-HRSC-5-REFDR-MAPPROJECTED-V3.0"
DATA_SET_NAME = "MARS EXPRESS HRSC MAP PROJECTED REFDR V3.0"
DETECTOR_ID = MEX_HRSC_RED
EVENT_TYPE = "MARS-REGIONAL-MAPPING-Vo-Fl-Mw"
INSTRUMENT_HOST_ID = MEX
INSTRUMENT_HOST_NAME = "MARS EXPRESS"
INSTRUMENT_ID = HRSC
INSTRUMENT_NAME = "HIGH RESOLUTION STEREO CAMERA"
MISSION_NAME = "MARS EXPRESS"
MISSION_PHASE_NAME = ME_Phase_33
PROCESSING_LEVEL_ID = 3
PRODUCT_CREATION_TIME = 2016-10-30T02:40:36.000Z
PRODUCT_ID = "HE605_0000_RE3.JP2"
RELEASE_ID = 0129
REVISION_ID = 0000
/* QUALITY DATA ELEMENTS */
DATA_QUALITY_ID = 1
DATA_QUALITY_DESC = "Data calculated based on original SPICE kernels"
/* TIME DATA ELEMENTS */
SPACECRAFT_CLOCK_START_COUNT = "1/0384375246.09059"
SPACECRAFT_CLOCK_STOP_COUNT = "1/0384375473.25415"
START_TIME = 2015-07-07T18:54:17.262Z
STOP_TIME = 2015-07-07T18:56:50.768Z
/* ORBITAL DATA ELEMENTS */
ASCENDING_NODE_LONGITUDE = 299.43
MAXIMUM_RESOLUTION = 113.2
FOOTPRINT_POINT_LATITUDE = (-12.979,-12.9744,-12.9717,-12.9686, -12.9685,-12.7732,-12.4809,-12.2859, -12.0908,-11.8954,-11.6995,-11.5048, -11.3091,-11.0149,-10.717,-10.516, -10.319,-10.126,-9.93689,-9.73833, -9.44395,-9.24789,-9.05115,-8.85538, -8.56241,-8.2718,-8.07757,-7.78494, -7.58978,-7.39484,-7.19958,-7.00459, -6.80925,-6.61352,-6.32085,-6.12281, -5.93393,-5.73819,-5.54506,-5.33942, -5.1458,-4.94985,-4.75787,-4.41957, -4.18999,-3.9559,-3.72286,-3.37387, -3.14078,-2.90965,-2.84916,-2.85092, -2.85704,-2.86037,-2.86313,-3.09713, -3.44251,-3.67468,-3.9074,-4.25649, -4.48889,-4.81655,-5.01145,-5.205, -5.49539,-5.78742,-6.08058,-6.27668, -6.47537,-6.77061,-6.96661,-7.26018, -7.45503,-7.74881,-7.94495,-8.13906, -8.33404,-8.52927,-8.72544,-8.92139, -9.11662,-9.31269,-9.50887,-9.70508, -9.89986,-10.0974,-10.392,-10.5877, -10.7848,-11.0787,-11.275,-11.4696, -11.6668,-11.9594,-12.1553,-12.3504, -12.5455,-12.7397,-12.9345,-12.979)
FOOTPRINT_POINT_LONGITUDE = (146.81,146.447,146.264,146.081,145.87, 145.869,145.868,145.866,145.865,145.863 ,145.862,145.86,145.859,145.855,145.85, 145.845,145.843,145.842,145.843,145.84, 145.836,145.833,145.83,145.828,145.824, 145.822,145.82,145.817,145.814,145.812, 145.809,145.807,145.804,145.801,145.797 ,145.792,145.793,145.789,145.787, 145.779,145.776,145.772,145.771,145.764 ,145.761,145.756,145.752,145.745, 145.741,145.737,145.911,146.176,146.403 ,146.665,147.071,147.07,147.071,147.071 ,147.071,147.07,147.07,147.07,147.07, 147.071,147.071,147.071,147.072,147.071 ,147.071,147.071,147.071,147.071, 147.071,147.072,147.072,147.072,147.072 ,147.073,147.073,147.073,147.073, 147.074,147.074,147.074,147.074,147.074 ,147.075,147.075,147.075,147.075, 147.076,147.076,147.076,147.077,147.077 ,147.078,147.078,147.079,147.08,146.81)
ORBIT_NUMBER = 14605
ORBITAL_ECCENTRICITY = 0.578
ORBITAL_INCLINATION = 86.89
ORBITAL_SEMIMAJOR_AXIS = 8846.01
PERIAPSIS_ALTITUDE = 336.13
PERIAPSIS_ARGUMENT_ANGLE = 340.46
PERIAPSIS_TIME = 2015-07-07T18:53:03.000Z
SPACECRAFT_ORIENTATION = (0.0,1.0,0.0)
^MEX_ORIENTATION_DESC = "MEX_ORIENTATION_DESC.TXT"
SPACECRAFT_POINTING_MODE = ACROSSTRACK
^MEX_POINTING_DESC = "MEX_POINTING_DESC.TXT"
RIGHT_ASCENSION = -1e+32
DECLINATION = -1e+32
OFFSET_ANGLE = 0.3
SPACECRAFT_SOLAR_DISTANCE = 2.36466e+08
TARGET_NAME = MARS
/* CAMERA DATA ELEMENTS */
DETECTOR_TEMPERATURE = 18.1666
FOCAL_PLANE_TEMPERATURE = 7.3599
INST_CMPRS_NAME = "DISCRETE COSINE TRANSFORMATION (DCT)"
INST_CMPRS_RATIO = 8.53544
INST_CMPRS_QUALITY = 0
INST_CMPRS_QUANTZ_TBL_ID = 0
INSTRUMENT_TEMPERATURE = 10.6223
LENS_TEMPERATURE = 7.9716
MACROPIXEL_SIZE = 8
MISSING_FRAMES = 0
PIXEL_SUBSAMPLING_FLAG = N
SIGNAL_CHAIN_ID = 2
/* RADIOMETRIC DATA ELEMENTS */
BANDWIDTH = 48.0
CENTER_FILTER_WAVELENGTH = 748.0
RADIANCE_OFFSET = 0.668531
RADIANCE_SCALING_FACTOR = 0.00384213
REFLECTANCE_SCALING_FACTOR = 0.00049027
MEX:REFLECTANCE_OFFSET = 0.085307
/* IMAGE OBJECT DEFINITIONS */
OBJECT = IMAGE
  INTERCHANGE_FORMAT = BINARY
  LINES = 5987
  LINE_SAMPLES = 862
  SAMPLE_TYPE = UNSIGNED_INTEGER
  SAMPLE_BITS = 8
  BANDS = 1
  BAND_STORAGE_TYPE = BAND_SEQUENTIAL
  MAXIMUM = 255
  MEAN = 134.424
  MINIMUM = 1
  STANDARD_DEVIATION = 29.286
END_OBJECT = IMAGE
/* MAP OBJECT DEFINITIONS */
OBJECT = IMAGE_MAP_PROJECTION
  ^DATA_SET_MAP_PROJECTION_CATALOG= "DSMAP.CAT"
  A_AXIS_RADIUS = 3396.0
  B_AXIS_RADIUS = 3396.0
  C_AXIS_RADIUS = 3396.0
  CENTER_LATITUDE = 0.0
  CENTER_LONGITUDE = 146.0
  COORDINATE_SYSTEM_NAME = PLANETOGRAPHIC
  COORDINATE_SYSTEM_TYPE = "BODY-FIXED ROTATING"
  EASTERNMOST_LONGITUDE = 147.08
  FIRST_STANDARD_PARALLEL = "N/A"
  LINE_FIRST_PIXEL = 1
  LINE_LAST_PIXEL = 5987
  LINE_PROJECTION_OFFSET = -1705.4375
  MAP_PROJECTION_ROTATION = 0.0
  MAP_PROJECTION_TYPE = SINUSOIDAL
  MAP_RESOLUTION = 592.713803866667
  MAP_SCALE = 0.1
  MAXIMUM_LATITUDE = -2.84916
  MINIMUM_LATITUDE = -12.979
  POSITIVE_LONGITUDE_DIRECTION = EAST
  REFERENCE_LATITUDE = "N/A"
  REFERENCE_LONGITUDE = "N/A"
  SAMPLE_FIRST_PIXEL = 1
  SAMPLE_LAST_PIXEL = 862
  SAMPLE_PROJECTION_OFFSET = 201.9375
  SECOND_STANDARD_PARALLEL = "N/A"
  WESTERNMOST_LONGITUDE = 145.737
END_OBJECT = IMAGE_MAP_PROJECTION
/* The JPEG2000 image data file associated with this label. */
OBJECT = COMPRESSED_FILE
  FILE_NAME = "HE605_0000_RE3.JP2"
  RECORD_TYPE = UNDEFINED
  FILE_RECORDS = UNK
  ENCODING_TYPE = "JP2"
  INTERCHANGE_FORMAT = BINARY
  UNCOMPRESSED_FILE_NAME = "HE605_0000_RE3.IMG"
  REQUIRED_STORAGE_BYTES = "5178896"
  ^DESCRIPTION = "JP2INFO.TXT"
END_OBJECT = COMPRESSED_FILE
END
