PDS_VERSION_ID = PDS3
/* FILE DATA ELEMENTS */
RECORD_TYPE = STREAM
/* POINTERS TO DATA OBJECTS */
^COMPRESSED_FILE = "HE613_0000_P13.JP2"
/* IDENTIFICATION DATA ELEMENTS */
DATA_SET_ID = "MEX-M-HRSC-5-REFDR-MAPPROJECTED-V3.0"
DATA_SET_NAME = "MARS EXPRESS HRSC MAP PROJECTED REFDR V3.0"
DETECTOR_ID = MEX_HRSC_P1
EVENT_TYPE = "MARS-REGIONAL-MAPPING-Im-Fl"
INSTRUMENT_HOST_ID = MEX
INSTRUMENT_HOST_NAME = "MARS EXPRESS"
INSTRUMENT_ID = HRSC
INSTRUMENT_NAME = "HIGH RESOLUTION STEREO CAMERA"
MISSION_NAME = "MARS EXPRESS"
MISSION_PHASE_NAME = ME_Phase_33
PROCESSING_LEVEL_ID = 3
PRODUCT_CREATION_TIME = 2016-10-30T02:40:36.000Z
PRODUCT_ID = "HE613_0000_P13.JP2"
RELEASE_ID = 0129
REVISION_ID = 0000
/* QUALITY DATA ELEMENTS */
DATA_QUALITY_ID = 1
DATA_QUALITY_DESC = "Data calculated based on original SPICE kernels"
/* TIME DATA ELEMENTS */
SPACECRAFT_CLOCK_START_COUNT = "1/0384576517.07326"
SPACECRAFT_CLOCK_STOP_COUNT = "1/0384576747.06152"
START_TIME = 2015-07-10T02:49:33.081Z
STOP_TIME = 2015-07-10T02:52:19.692Z
/* ORBITAL DATA ELEMENTS */
ASCENDING_NODE_LONGITUDE = 299.28
MAXIMUM_RESOLUTION = 54.7
FOOTPRINT_POINT_LATITUDE = (-21.9406,-21.9441,-21.9466,-21.9491, -21.9591,-21.7472,-21.5328,-21.2102, -20.9989,-20.7872,-20.5755,-20.2583, -20.0469,-19.8354,-19.6239,-19.4124, -19.2016,-18.9898,-18.7774,-18.5661, -18.3552,-18.1446,-17.8299,-17.5117, -17.1852,-16.9719,-16.7549,-16.5349, -16.2073,-15.9902,-15.779,-15.5631, -15.3439,-15.1258,-14.91,-14.5863, -14.3708,-14.1555,-13.9409,-13.726, -13.5111,-13.2964,-12.9745,-12.7626, -12.4414,-12.2269,-12.0134,-11.7998, -11.586,-11.3728,-11.2063,-11.2014, -11.1934,-11.1887,-11.1858,-11.3986, -11.6118,-11.9316,-12.1454,-12.3594, -12.5733,-12.7883,-13.0039,-13.2179, -13.431,-13.6458,-13.8605,-14.1831, -14.5107,-14.7267,-14.9386,-15.1548, -15.3715,-15.6967,-15.9135,-16.1312, -16.3482,-16.5657,-16.7828,-17.1085, -17.3258,-17.5422,-17.8576,-18.068, -18.2787,-18.4919,-18.8098,-19.1276, -19.3392,-19.5508,-19.7627,-20.0805, -20.2926,-20.5044,-20.7164,-21.0343, -21.2464,-21.5643,-21.7762,-21.9406)
FOOTPRINT_POINT_LONGITUDE = (48.6062,48.3615,48.1741,47.9858,47.621 ,47.6226,47.6262,47.6325,47.6334, 47.6346,47.6358,47.6373,47.6383,47.6392 ,47.6402,47.6411,47.6415,47.6427, 47.6444,47.6452,47.6456,47.6458,47.6451 ,47.6467,47.6471,47.6438,47.6436, 47.6459,47.6473,47.6473,47.6424,47.6415 ,47.6432,47.6441,47.6431,47.6418, 47.6407,47.6395,47.6378,47.6364,47.635, 47.6335,47.6314,47.6278,47.6253,47.6239 ,47.6219,47.62,47.6183,47.6162,47.8414, 48.0796,48.4464,48.7046,48.8837,48.8835 ,48.8832,48.8829,48.8827,48.8826, 48.8824,48.8824,48.8825,48.8823,48.8819 ,48.8818,48.8816,48.8814,48.8821, 48.8821,48.8814,48.8814,48.8814,48.8815 ,48.8816,48.8817,48.8818,48.8819, 48.8819,48.8819,48.882,48.882,48.882, 48.8819,48.882,48.8824,48.8827,48.8829, 48.883,48.8831,48.8832,48.8834,48.8835, 48.8836,48.8837,48.8838,48.8839,48.8839 ,48.8839,48.6062)
ORBIT_NUMBER = 14613
ORBITAL_ECCENTRICITY = 0.579
ORBITAL_INCLINATION = 86.91
ORBITAL_SEMIMAJOR_AXIS = 8848.43
PERIAPSIS_ALTITUDE = 335.01
PERIAPSIS_ARGUMENT_ANGLE = 339.08
PERIAPSIS_TIME = 2015-07-10T02:49:30.000Z
SPACECRAFT_ORIENTATION = (0.0,1.0,0.0)
^MEX_ORIENTATION_DESC = "MEX_ORIENTATION_DESC.TXT"
SPACECRAFT_POINTING_MODE = ACROSSTRACK
^MEX_POINTING_DESC = "MEX_POINTING_DESC.TXT"
RIGHT_ASCENSION = -1e+32
DECLINATION = -1e+32
OFFSET_ANGLE = 0.4
SPACECRAFT_SOLAR_DISTANCE = 2.36865e+08
TARGET_NAME = MARS
/* CAMERA DATA ELEMENTS */
DETECTOR_TEMPERATURE = 17.7588
FOCAL_PLANE_TEMPERATURE = 8.1755
INST_CMPRS_NAME = "DISCRETE COSINE TRANSFORMATION (DCT)"
INST_CMPRS_RATIO = 14.4096
INST_CMPRS_QUALITY = 0
INST_CMPRS_QUANTZ_TBL_ID = 0
INSTRUMENT_TEMPERATURE = 11.4379
LENS_TEMPERATURE = 8.7872
MACROPIXEL_SIZE = 4
MISSING_FRAMES = 0
PIXEL_SUBSAMPLING_FLAG = N
SIGNAL_CHAIN_ID = 3
/* RADIOMETRIC DATA ELEMENTS */
BANDWIDTH = 174.0
CENTER_FILTER_WAVELENGTH = 675.0
RADIANCE_OFFSET = 1.77058
RADIANCE_SCALING_FACTOR = 0.0113033
REFLECTANCE_SCALING_FACTOR = 0.000341106
MEX:REFLECTANCE_OFFSET = 0.0534318
/* IMAGE OBJECT DEFINITIONS */
OBJECT = IMAGE
  INTERCHANGE_FORMAT = BINARY
  LINES = 12743
  LINE_SAMPLES = 1556
  SAMPLE_TYPE = UNSIGNED_INTEGER
  SAMPLE_BITS = 8
  BANDS = 1
  BAND_STORAGE_TYPE = BAND_SEQUENTIAL
  MAXIMUM = 255
  MEAN = 102.292
  MINIMUM = 1
  STANDARD_DEVIATION = 24.8977
END_OBJECT = IMAGE
/* MAP OBJECT DEFINITIONS */
OBJECT = IMAGE_MAP_PROJECTION
  ^DATA_SET_MAP_PROJECTION_CATALOG= "DSMAP.CAT"
  A_AXIS_RADIUS = 3396.0
  B_AXIS_RADIUS = 3396.0
  C_AXIS_RADIUS = 3396.0
  CENTER_LATITUDE = 0.0
  CENTER_LONGITUDE = 48.0
  COORDINATE_SYSTEM_NAME = PLANETOGRAPHIC
  COORDINATE_SYSTEM_TYPE = "BODY-FIXED ROTATING"
  EASTERNMOST_LONGITUDE = 48.8839
  FIRST_STANDARD_PARALLEL = "N/A"
  LINE_FIRST_PIXEL = 1
  LINE_LAST_PIXEL = 12743
  LINE_PROJECTION_OFFSET = -13282.125
  MAP_PROJECTION_ROTATION = 0.0
  MAP_PROJECTION_TYPE = SINUSOIDAL
  MAP_RESOLUTION = 1185.42760773333
  MAP_SCALE = 0.05
  MAXIMUM_LATITUDE = -11.1858
  MINIMUM_LATITUDE = -21.9591
  POSITIVE_LONGITUDE_DIRECTION = EAST
  REFERENCE_LATITUDE = "N/A"
  REFERENCE_LONGITUDE = "N/A"
  SAMPLE_FIRST_PIXEL = 1
  SAMPLE_LAST_PIXEL = 1556
  SAMPLE_PROJECTION_OFFSET = 522.875
  SECOND_STANDARD_PARALLEL = "N/A"
  WESTERNMOST_LONGITUDE = 47.6162
END_OBJECT = IMAGE_MAP_PROJECTION
/* The JPEG2000 image data file associated with this label. */
OBJECT = COMPRESSED_FILE
  FILE_NAME = "HE613_0000_P13.JP2"
  RECORD_TYPE = UNDEFINED
  FILE_RECORDS = UNK
  ENCODING_TYPE = "JP2"
  INTERCHANGE_FORMAT = BINARY
  UNCOMPRESSED_FILE_NAME = "HE613_0000_P13.IMG"
  REQUIRED_STORAGE_BYTES = "19848336"
  ^DESCRIPTION = "JP2INFO.TXT"
END_OBJECT = COMPRESSED_FILE
END
