PDS_VERSION_ID = PDS3
/* FILE DATA ELEMENTS */
RECORD_TYPE = STREAM
/* POINTERS TO DATA OBJECTS */
^COMPRESSED_FILE = "HE613_0000_RE3.JP2"
/* IDENTIFICATION DATA ELEMENTS */
DATA_SET_ID = "MEX-M-HRSC-5-REFDR-MAPPROJECTED-V3.0"
DATA_SET_NAME = "MARS EXPRESS HRSC MAP PROJECTED REFDR V3.0"
DETECTOR_ID = MEX_HRSC_RED
EVENT_TYPE = "MARS-REGIONAL-MAPPING-Im-Fl"
INSTRUMENT_HOST_ID = MEX
INSTRUMENT_HOST_NAME = "MARS EXPRESS"
INSTRUMENT_ID = HRSC
INSTRUMENT_NAME = "HIGH RESOLUTION STEREO CAMERA"
MISSION_NAME = "MARS EXPRESS"
MISSION_PHASE_NAME = ME_Phase_33
PROCESSING_LEVEL_ID = 3
PRODUCT_CREATION_TIME = 2016-10-30T02:40:36.000Z
PRODUCT_ID = "HE613_0000_RE3.JP2"
RELEASE_ID = 0129
REVISION_ID = 0000
/* QUALITY DATA ELEMENTS */
DATA_QUALITY_ID = 1
DATA_QUALITY_DESC = "Data calculated based on original SPICE kernels"
/* TIME DATA ELEMENTS */
SPACECRAFT_CLOCK_START_COUNT = "1/0384576517.07326"
SPACECRAFT_CLOCK_STOP_COUNT = "1/0384576747.06152"
START_TIME = 2015-07-10T02:48:48.323Z
STOP_TIME = 2015-07-10T02:51:32.583Z
/* ORBITAL DATA ELEMENTS */
ASCENDING_NODE_LONGITUDE = 299.28
MAXIMUM_RESOLUTION = 111.1
FOOTPRINT_POINT_LATITUDE = (-21.9806,-21.9763,-21.9715,-21.9663, -21.9606,-21.9433,-21.6297,-21.4265, -21.2199,-21.0095,-20.7996,-20.5898, -20.3796,-20.0647,-19.8546,-19.5396, -19.3292,-19.1185,-18.9097,-18.7005, -18.4902,-18.2794,-17.9633,-17.5419, -17.3324,-17.1171,-16.7985,-16.5883, -16.2772,-16.0668,-15.852,-15.5316, -15.3255,-15.114,-14.9022,-14.6908, -14.4749,-14.2557,-14.0359,-13.8167, -13.5976,-13.2689,-13.0498,-12.8293, -12.6084,-12.39,-12.1705,-11.9511, -11.7321,-11.5134,-11.2065,-11.2162, -11.2226,-11.225,-11.2292,-11.4492, -11.669,-11.8892,-12.1089,-12.4382, -12.6579,-12.8754,-13.0947,-13.3163, -13.6463,-13.9751,-14.1957,-14.5186, -14.734,-14.9514,-15.1632,-15.3744, -15.6912,-15.9029,-16.2192,-16.4302, -16.6415,-16.9576,-17.2762,-17.4877, -17.6998,-18.017,-18.2285,-18.4393, -18.752,-18.9613,-19.1717,-19.4872, -19.6975,-19.9074,-20.1174,-20.3272, -20.5374,-20.7473,-20.9578,-21.2722, -21.4819,-21.6921,-21.9019,-21.9806)
FOOTPRINT_POINT_LONGITUDE = (48.6056,48.4177,48.2287,48.039,47.8483 ,47.6206,47.6239,47.6298,47.6335, 47.6348,47.6365,47.6381,47.6395,47.6418 ,47.6432,47.6454,47.6465,47.6475, 47.6496,47.6514,47.6525,47.6533,47.6544 ,47.6559,47.6573,47.6552,47.6545, 47.6554,47.6592,47.6598,47.6578,47.6556 ,47.6588,47.6586,47.6581,47.6579, 47.6573,47.6566,47.6554,47.6544,47.6536 ,47.6521,47.651,47.6491,47.6469,47.6461 ,47.6446,47.6431,47.6417,47.6405, 47.6378,48.1003,48.4561,48.6838,48.8616 ,48.8619,48.8622,48.8624,48.8628, 48.8633,48.8637,48.8643,48.8647,48.8648 ,48.8654,48.866,48.8663,48.8676,48.868, 48.8679,48.8684,48.8689,48.8697,48.8702 ,48.871,48.8716,48.8721,48.873,48.8736, 48.8741,48.8745,48.8752,48.8757,48.8762 ,48.8774,48.8781,48.8787,48.8795, 48.8801,48.8807,48.8813,48.8819,48.8824 ,48.883,48.8835,48.8843,48.8849,48.8854 ,48.8859,48.6056)
ORBIT_NUMBER = 14613
ORBITAL_ECCENTRICITY = 0.579
ORBITAL_INCLINATION = 86.91
ORBITAL_SEMIMAJOR_AXIS = 8848.43
PERIAPSIS_ALTITUDE = 335.01
PERIAPSIS_ARGUMENT_ANGLE = 339.08
PERIAPSIS_TIME = 2015-07-10T02:49:30.000Z
SPACECRAFT_ORIENTATION = (0.0,1.0,0.0)
^MEX_ORIENTATION_DESC = "MEX_ORIENTATION_DESC.TXT"
SPACECRAFT_POINTING_MODE = ACROSSTRACK
^MEX_POINTING_DESC = "MEX_POINTING_DESC.TXT"
RIGHT_ASCENSION = -1e+32
DECLINATION = -1e+32
OFFSET_ANGLE = 0.4
SPACECRAFT_SOLAR_DISTANCE = 2.36865e+08
TARGET_NAME = MARS
/* CAMERA DATA ELEMENTS */
DETECTOR_TEMPERATURE = 18.7783
FOCAL_PLANE_TEMPERATURE = 8.1755
INST_CMPRS_NAME = "DISCRETE COSINE TRANSFORMATION (DCT)"
INST_CMPRS_RATIO = 17.2617
INST_CMPRS_QUALITY = 0
INST_CMPRS_QUANTZ_TBL_ID = 0
INSTRUMENT_TEMPERATURE = 11.4379
LENS_TEMPERATURE = 8.7872
MACROPIXEL_SIZE = 8
MISSING_FRAMES = 0
PIXEL_SUBSAMPLING_FLAG = N
SIGNAL_CHAIN_ID = 2
/* RADIOMETRIC DATA ELEMENTS */
BANDWIDTH = 48.0
CENTER_FILTER_WAVELENGTH = 748.0
RADIANCE_OFFSET = 0.440224
RADIANCE_SCALING_FACTOR = 0.00339879
REFLECTANCE_SCALING_FACTOR = 0.000435162
MEX:REFLECTANCE_OFFSET = 0.0563638
/* IMAGE OBJECT DEFINITIONS */
OBJECT = IMAGE
  INTERCHANGE_FORMAT = BINARY
  LINES = 6372
  LINE_SAMPLES = 778
  SAMPLE_TYPE = UNSIGNED_INTEGER
  SAMPLE_BITS = 8
  BANDS = 1
  BAND_STORAGE_TYPE = BAND_SEQUENTIAL
  MAXIMUM = 255
  MEAN = 100.465
  MINIMUM = 1
  STANDARD_DEVIATION = 26.8603
END_OBJECT = IMAGE
/* MAP OBJECT DEFINITIONS */
OBJECT = IMAGE_MAP_PROJECTION
  ^DATA_SET_MAP_PROJECTION_CATALOG= "DSMAP.CAT"
  A_AXIS_RADIUS = 3396.0
  B_AXIS_RADIUS = 3396.0
  C_AXIS_RADIUS = 3396.0
  CENTER_LATITUDE = 0.0
  CENTER_LONGITUDE = 48.0
  COORDINATE_SYSTEM_NAME = PLANETOGRAPHIC
  COORDINATE_SYSTEM_TYPE = "BODY-FIXED ROTATING"
  EASTERNMOST_LONGITUDE = 48.8859
  FIRST_STANDARD_PARALLEL = "N/A"
  LINE_FIRST_PIXEL = 1
  LINE_LAST_PIXEL = 6372
  LINE_PROJECTION_OFFSET = -6641.3125
  MAP_PROJECTION_ROTATION = 0.0
  MAP_PROJECTION_TYPE = SINUSOIDAL
  MAP_RESOLUTION = 592.713803866667
  MAP_SCALE = 0.1
  MAXIMUM_LATITUDE = -11.2065
  MINIMUM_LATITUDE = -21.9806
  POSITIVE_LONGITUDE_DIRECTION = EAST
  REFERENCE_LATITUDE = "N/A"
  REFERENCE_LONGITUDE = "N/A"
  SAMPLE_FIRST_PIXEL = 1
  SAMPLE_LAST_PIXEL = 778
  SAMPLE_PROJECTION_OFFSET = 261.1875
  SECOND_STANDARD_PARALLEL = "N/A"
  WESTERNMOST_LONGITUDE = 47.6206
END_OBJECT = IMAGE_MAP_PROJECTION
/* The JPEG2000 image data file associated with this label. */
OBJECT = COMPRESSED_FILE
  FILE_NAME = "HE613_0000_RE3.JP2"
  RECORD_TYPE = UNDEFINED
  FILE_RECORDS = UNK
  ENCODING_TYPE = "JP2"
  INTERCHANGE_FORMAT = BINARY
  UNCOMPRESSED_FILE_NAME = "HE613_0000_RE3.IMG"
  REQUIRED_STORAGE_BYTES = "4976088"
  ^DESCRIPTION = "JP2INFO.TXT"
END_OBJECT = COMPRESSED_FILE
END
