PDS_VERSION_ID = PDS3
/* FILE DATA ELEMENTS */
RECORD_TYPE = STREAM
/* POINTERS TO DATA OBJECTS */
^COMPRESSED_FILE = "HE617_0000_S23.JP2"
/* IDENTIFICATION DATA ELEMENTS */
DATA_SET_ID = "MEX-M-HRSC-5-REFDR-MAPPROJECTED-V3.0"
DATA_SET_NAME = "MARS EXPRESS HRSC MAP PROJECTED REFDR V3.0"
DETECTOR_ID = MEX_HRSC_S2
EVENT_TYPE = "MARS-LOCAL-CARTOGRAPHY-Im-Tc-Ts"
INSTRUMENT_HOST_ID = MEX
INSTRUMENT_HOST_NAME = "MARS EXPRESS"
INSTRUMENT_ID = HRSC
INSTRUMENT_NAME = "HIGH RESOLUTION STEREO CAMERA"
MISSION_NAME = "MARS EXPRESS"
MISSION_PHASE_NAME = ME_Phase_33
PROCESSING_LEVEL_ID = 3
PRODUCT_CREATION_TIME = 2016-10-30T02:40:36.000Z
PRODUCT_ID = "HE617_0000_S23.JP2"
RELEASE_ID = 0129
REVISION_ID = 0000
/* QUALITY DATA ELEMENTS */
DATA_QUALITY_ID = 1
DATA_QUALITY_DESC = "Data calculated based on original SPICE kernels"
/* TIME DATA ELEMENTS */
SPACECRAFT_CLOCK_START_COUNT = "1/0384677434.09059"
SPACECRAFT_CLOCK_STOP_COUNT = "1/0384677591.26058"
START_TIME = 2015-07-11T06:50:40.094Z
STOP_TIME = 2015-07-11T06:51:58.717Z
/* ORBITAL DATA ELEMENTS */
ASCENDING_NODE_LONGITUDE = 299.21
MAXIMUM_RESOLUTION = 14.6
FOOTPRINT_POINT_LATITUDE = (-7.5964,-7.60069,-7.6049,-7.609, -7.61299,-7.62063,-7.62779,-7.63454, -7.64092,-7.49503,-7.31203,-7.12874, -6.89912,-6.7157,-6.53354,-6.39636, -6.2132,-6.10469,-5.99493,-5.88563, -5.77647,-5.66742,-5.55786,-5.44887, -5.33925,-5.23016,-5.12071,-5.0116, -4.90307,-4.79384,-4.6847,-4.52111, -4.35826,-4.24957,-4.14091,-3.97852, -3.86961,-3.76015,-3.64895,-3.53955, -3.43068,-3.32143,-3.15777,-2.99465, -2.83153,-2.6685,-2.55966,-2.42879, -2.42534,-2.42186,-2.41849,-2.41474, -2.41035,-2.56309,-2.40702,-2.40102, -2.39595,-2.38775,-2.43622,-2.54576, -2.65475,-2.76358,-2.87253,-2.98133, -3.09024,-3.19928,-3.30793,-3.47212, -3.58144,-3.6906,-3.79879,-3.90652, -4.01579,-4.12507,-4.23646,-4.34584, -4.45473,-4.56366,-4.67267,-4.78151, -4.89079,-5.0007,-5.11001,-5.21908, -5.32784,-5.43703,-5.54633,-5.65595, -5.76515,-5.87446,-5.98369,-6.09234, -6.24062,-6.42372,-6.60701,-6.836, -7.01886,-7.24768,-7.43093,-7.5964)
FOOTPRINT_POINT_LONGITUDE = (360.67,360.566,360.463,360.36,360.257, 360.052,359.848,359.646,359.444,359.397 ,359.394,359.391,359.387,359.384, 359.381,359.378,359.375,359.373,359.371 ,359.369,359.367,359.365,359.363, 359.361,359.359,359.357,359.355,359.353 ,359.351,359.348,359.346,359.343,359.34 ,359.338,359.335,359.332,359.33,359.328 ,359.325,359.323,359.321,359.318, 359.315,359.311,359.308,359.304,359.302 ,359.38,359.489,359.598,359.708,359.817 ,359.941,359.93,360.037,360.189,360.314 ,360.551,360.697,360.697,360.697, 360.697,360.697,360.697,360.697,360.697 ,360.697,360.697,360.697,360.697, 360.697,360.698,360.698,360.698,360.696 ,360.696,360.697,360.697,360.697, 360.697,360.697,360.697,360.697,360.697 ,360.697,360.698,360.698,360.698, 360.698,360.698,360.698,360.698,360.699 ,360.699,360.699,360.699,360.7,360.701, 360.701,360.67)
ORBIT_NUMBER = 14617
ORBITAL_ECCENTRICITY = 0.578
ORBITAL_INCLINATION = 86.9
ORBITAL_SEMIMAJOR_AXIS = 8843.2
PERIAPSIS_ALTITUDE = 335.15
PERIAPSIS_ARGUMENT_ANGLE = 338.37
PERIAPSIS_TIME = 2015-07-11T06:47:38.000Z
SPACECRAFT_ORIENTATION = (0.0,1.0,0.0)
^MEX_ORIENTATION_DESC = "MEX_ORIENTATION_DESC.TXT"
SPACECRAFT_POINTING_MODE = ACROSSTRACK
^MEX_POINTING_DESC = "MEX_POINTING_DESC.TXT"
RIGHT_ASCENSION = -1e+32
DECLINATION = -1e+32
OFFSET_ANGLE = -0.44
SPACECRAFT_SOLAR_DISTANCE = 2.37063e+08
TARGET_NAME = MARS
/* CAMERA DATA ELEMENTS */
DETECTOR_TEMPERATURE = 18.3705
FOCAL_PLANE_TEMPERATURE = 8.3794
INST_CMPRS_NAME = "DISCRETE COSINE TRANSFORMATION (DCT)"
INST_CMPRS_RATIO = 6.75128
INST_CMPRS_QUALITY = 0
INST_CMPRS_QUANTZ_TBL_ID = 0
INSTRUMENT_TEMPERATURE = 11.234
LENS_TEMPERATURE = 8.7872
MACROPIXEL_SIZE = 1
MISSING_FRAMES = 0
PIXEL_SUBSAMPLING_FLAG = N
SIGNAL_CHAIN_ID = 1
/* RADIOMETRIC DATA ELEMENTS */
BANDWIDTH = 178.0
CENTER_FILTER_WAVELENGTH = 679.0
RADIANCE_OFFSET = 2.35369
RADIANCE_SCALING_FACTOR = 0.0104389
REFLECTANCE_SCALING_FACTOR = 0.000310678
MEX:REFLECTANCE_OFFSET = 0.0700496
/* IMAGE OBJECT DEFINITIONS */
OBJECT = IMAGE
  INTERCHANGE_FORMAT = BINARY
  LINES = 24722
  LINE_SAMPLES = 7206
  SAMPLE_TYPE = UNSIGNED_INTEGER
  SAMPLE_BITS = 8
  BANDS = 1
  BAND_STORAGE_TYPE = BAND_SEQUENTIAL
  MAXIMUM = 255
  MEAN = 88.0778
  MINIMUM = 1
  STANDARD_DEVIATION = 23.4205
END_OBJECT = IMAGE
/* MAP OBJECT DEFINITIONS */
OBJECT = IMAGE_MAP_PROJECTION
  ^DATA_SET_MAP_PROJECTION_CATALOG= "DSMAP.CAT"
  A_AXIS_RADIUS = 3396.0
  B_AXIS_RADIUS = 3396.0
  C_AXIS_RADIUS = 3396.0
  CENTER_LATITUDE = 0.0
  CENTER_LONGITUDE = 0.0
  COORDINATE_SYSTEM_NAME = PLANETOGRAPHIC
  COORDINATE_SYSTEM_TYPE = "BODY-FIXED ROTATING"
  EASTERNMOST_LONGITUDE = 0.701
  FIRST_STANDARD_PARALLEL = "N/A"
  LINE_FIRST_PIXEL = 1
  LINE_LAST_PIXEL = 24722
  LINE_PROJECTION_OFFSET = -11447.0
  MAP_PROJECTION_ROTATION = 0.0
  MAP_PROJECTION_TYPE = SINUSOIDAL
  MAP_RESOLUTION = 4741.71043093333
  MAP_SCALE = 0.0125
  MAXIMUM_LATITUDE = -2.38775
  MINIMUM_LATITUDE = -7.64092
  POSITIVE_LONGITUDE_DIRECTION = EAST
  REFERENCE_LATITUDE = "N/A"
  REFERENCE_LONGITUDE = "N/A"
  SAMPLE_FIRST_PIXEL = 1
  SAMPLE_LAST_PIXEL = 7206
  SAMPLE_PROJECTION_OFFSET = 3510.0
  SECOND_STANDARD_PARALLEL = "N/A"
  WESTERNMOST_LONGITUDE = -0.698
END_OBJECT = IMAGE_MAP_PROJECTION
/* The JPEG2000 image data file associated with this label. */
OBJECT = COMPRESSED_FILE
  FILE_NAME = "HE617_0000_S23.JP2"
  RECORD_TYPE = UNDEFINED
  FILE_RECORDS = UNK
  ENCODING_TYPE = "JP2"
  INTERCHANGE_FORMAT = BINARY
  UNCOMPRESSED_FILE_NAME = "HE617_0000_S23.IMG"
  REQUIRED_STORAGE_BYTES = "178175556"
  ^DESCRIPTION = "JP2INFO.TXT"
END_OBJECT = COMPRESSED_FILE
END
