PDS_VERSION_ID = PDS3
/* FILE DATA ELEMENTS */
RECORD_TYPE = STREAM
/* POINTERS TO DATA OBJECTS */
^COMPRESSED_FILE = "HE617_0001_SR3.JP2"
/* IDENTIFICATION DATA ELEMENTS */
DATA_SET_ID = "MEX-M-HRSC-5-REFDR-MAPPROJECTED-V3.0"
DATA_SET_NAME = "MARS EXPRESS HRSC MAP PROJECTED REFDR V3.0"
DETECTOR_ID = MEX_HRSC_SRC
EVENT_TYPE = "MARS-LOCAL-CARTOGRAPHY-Im-Tc-Ts"
INSTRUMENT_HOST_ID = MEX
INSTRUMENT_HOST_NAME = "MARS EXPRESS"
INSTRUMENT_ID = HRSC
INSTRUMENT_NAME = "HIGH RESOLUTION STEREO CAMERA"
MISSION_NAME = "MARS EXPRESS"
MISSION_PHASE_NAME = ME_Phase_33
PROCESSING_LEVEL_ID = 3
PRODUCT_CREATION_TIME = 2016-10-30T02:40:36.000Z
PRODUCT_ID = "HE617_0001_SR3.JP2"
RELEASE_ID = 0129
REVISION_ID = 0000
/* QUALITY DATA ELEMENTS */
DATA_QUALITY_ID = 1
DATA_QUALITY_DESC = "Data calculated based on original SPICE kernels"
/* TIME DATA ELEMENTS */
SPACECRAFT_CLOCK_START_COUNT = "1/0384677434.09059"
SPACECRAFT_CLOCK_STOP_COUNT = "1/0384677591.26058"
IMAGE_TIME = 2015-07-11T06:51:51.752Z
START_TIME = 2015-07-11T06:51:51.494Z
STOP_TIME = 2015-07-11T06:51:52.010Z
/* ORBITAL DATA ELEMENTS */
ASCENDING_NODE_LONGITUDE = 299.21
MAXIMUM_RESOLUTION = 3.585
FOOTPRINT_POINT_LATITUDE = (-5.21537,-5.21229,-5.20932,-5.20678, -5.204,-5.20164,-5.19964,-5.19667, -5.19232,-5.18935,-5.18748,-5.18463, -5.18215,-5.18028,-5.17749,-5.17404, -5.17138,-5.16962,-5.16654,-5.16248, -5.15982,-5.15776,-5.15653,-5.15644, -5.15636,-5.15633,-5.1563,-5.15628, -5.15625,-5.15622,-5.1562,-5.15617, -5.15614,-5.15612,-5.15609,-5.15606, -5.15604,-5.15601,-5.15598,-5.15596, -5.15593,-5.1559,-5.15588,-5.15585, -5.15582,-5.1558,-5.15577,-5.15666, -5.15866,-5.16108,-5.16302,-5.16532, -5.16883,-5.17216,-5.17398,-5.17622, -5.17852,-5.18137,-5.18373,-5.18561, -5.18833,-5.19118,-5.1936,-5.19639, -5.19814,-5.20063,-5.2022,-5.20365, -5.20608,-5.20765,-5.20977,-5.21128, -5.21401,-5.2157,-5.21669,-5.21672, -5.21674,-5.21677,-5.21679,-5.21682, -5.21684,-5.21687,-5.21689,-5.21692, -5.21694,-5.21697,-5.21699,-5.21702, -5.21704,-5.21707,-5.21709,-5.21712, -5.21714,-5.21717,-5.21719,-5.21722, -5.21724,-5.21727,-5.21725,-5.21537)
FOOTPRINT_POINT_LONGITUDE = (359.994,359.994,359.994,359.994, 359.994,359.994,359.994,359.994,359.994 ,359.994,359.994,359.994,359.994, 359.994,359.994,359.993,359.993,359.993 ,359.993,359.993,359.993,359.993, 359.995,359.998,360.0,360.003,360.005, 360.007,360.01,360.012,360.015,360.017, 360.02,360.022,360.024,360.027,360.029, 360.032,360.034,360.037,360.039,360.042 ,360.044,360.046,360.049,360.051, 360.054,360.055,360.055,360.055,360.055 ,360.055,360.055,360.055,360.056, 360.056,360.056,360.056,360.056,360.056 ,360.056,360.056,360.056,360.056, 360.056,360.056,360.056,360.056,360.056 ,360.056,360.056,360.056,360.056, 360.056,360.054,360.052,360.049,360.047 ,360.044,360.042,360.039,360.037, 360.035,360.032,360.03,360.027,360.025, 360.022,360.02,360.017,360.015,360.013, 360.01,360.008,360.005,360.003,360.0, 359.998,359.994,359.994)
ORBIT_NUMBER = 14617
ORBITAL_ECCENTRICITY = 0.578
ORBITAL_INCLINATION = 86.9
ORBITAL_SEMIMAJOR_AXIS = 8843.2
PERIAPSIS_ALTITUDE = 335.15
PERIAPSIS_ARGUMENT_ANGLE = 338.37
PERIAPSIS_TIME = 2015-07-11T06:47:38.000Z
SPACECRAFT_ORIENTATION = (0.0,1.0,0.0)
^MEX_ORIENTATION_DESC = "MEX_ORIENTATION_DESC.TXT"
SPACECRAFT_POINTING_MODE = ACROSSTRACK
^MEX_POINTING_DESC = "MEX_POINTING_DESC.TXT"
RIGHT_ASCENSION = -1e+32
DECLINATION = -1e+32
OFFSET_ANGLE = -0.44
SPACECRAFT_SOLAR_DISTANCE = 2.37063e+08
TARGET_NAME = MARS
/* CAMERA DATA ELEMENTS */
BUFFER_MODE_ID = BUFFER_8
EXPOSURE_DURATION = 516.096
INST_CMPRS_NAME = NONE
INST_CMPRS_RATIO = 1.0
INST_CMPRS_QUALITY = -2147483648
INST_CMPRS_QUANTZ_TBL_ID = -2147483648
INSTRUMENT_TEMPERATURE = 6.61416
MISSING_FRAMES = 0
START_BIT = 0
/* RADIOMETRIC DATA ELEMENTS */
BANDWIDTH = 250.0
CENTER_FILTER_WAVELENGTH = 600.0
RADIANCE_OFFSET = -9.99e+31
RADIANCE_SCALING_FACTOR = -9.99e+31
REFLECTANCE_SCALING_FACTOR = -9.99e+31
MEX:REFLECTANCE_OFFSET = -9.99e+31
/* IMAGE OBJECT DEFINITIONS */
OBJECT = IMAGE
  INTERCHANGE_FORMAT = BINARY
  LINES = 1500
  LINE_SAMPLES = 1520
  SAMPLE_TYPE = UNSIGNED_INTEGER
  SAMPLE_BITS = 8
  BANDS = 1
  BAND_STORAGE_TYPE = BAND_SEQUENTIAL
  MAXIMUM = 255
  MEAN = 254.402
  MINIMUM = 35
  STANDARD_DEVIATION = 6.03879
END_OBJECT = IMAGE
/* MAP OBJECT DEFINITIONS */
OBJECT = IMAGE_MAP_PROJECTION
  ^DATA_SET_MAP_PROJECTION_CATALOG= "DSMAP.CAT"
  A_AXIS_RADIUS = 3396.19
  B_AXIS_RADIUS = 3396.19
  C_AXIS_RADIUS = 3396.19
  CENTER_LATITUDE = 0.0
  CENTER_LONGITUDE = 0.0
  COORDINATE_SYSTEM_NAME = PLANETOGRAPHIC
  COORDINATE_SYSTEM_TYPE = "BODY-FIXED ROTATING"
  EASTERNMOST_LONGITUDE = 0.056
  FIRST_STANDARD_PARALLEL = "N/A"
  LINE_FIRST_PIXEL = 1
  LINE_LAST_PIXEL = 1500
  LINE_PROJECTION_OFFSET = -122220.0
  MAP_PROJECTION_ROTATION = 0.0
  MAP_PROJECTION_TYPE = SINUSOIDAL
  MAP_RESOLUTION = 23709.8786048756
  MAP_SCALE = 0.0025
  MAXIMUM_LATITUDE = -5.15577
  MINIMUM_LATITUDE = -5.21727
  POSITIVE_LONGITUDE_DIRECTION = EAST
  REFERENCE_LATITUDE = "N/A"
  REFERENCE_LONGITUDE = "N/A"
  SAMPLE_FIRST_PIXEL = 1
  SAMPLE_LAST_PIXEL = 1520
  SAMPLE_PROJECTION_OFFSET = 178.0
  SECOND_STANDARD_PARALLEL = "N/A"
  WESTERNMOST_LONGITUDE = -0.007
END_OBJECT = IMAGE_MAP_PROJECTION
/* The JPEG2000 image data file associated with this label. */
OBJECT = COMPRESSED_FILE
  FILE_NAME = "HE617_0001_SR3.JP2"
  RECORD_TYPE = UNDEFINED
  FILE_RECORDS = UNK
  ENCODING_TYPE = "JP2"
  INTERCHANGE_FORMAT = BINARY
  UNCOMPRESSED_FILE_NAME = "HE617_0001_SR3.IMG"
  REQUIRED_STORAGE_BYTES = "2299760"
  ^DESCRIPTION = "JP2INFO.TXT"
END_OBJECT = COMPRESSED_FILE
END
