PDS_VERSION_ID = PDS3
/* FILE DATA ELEMENTS */
RECORD_TYPE = STREAM
/* POINTERS TO DATA OBJECTS */
^COMPRESSED_FILE = "HE618_0000_ND3.JP2"
/* IDENTIFICATION DATA ELEMENTS */
DATA_SET_ID = "MEX-M-HRSC-5-REFDR-MAPPROJECTED-V3.0"
DATA_SET_NAME = "MARS EXPRESS HRSC MAP PROJECTED REFDR V3.0"
DETECTOR_ID = MEX_HRSC_NADIR
EVENT_TYPE = "MARS-REGIONAL-MAPPING-Vo"
INSTRUMENT_HOST_ID = MEX
INSTRUMENT_HOST_NAME = "MARS EXPRESS"
INSTRUMENT_ID = HRSC
INSTRUMENT_NAME = "HIGH RESOLUTION STEREO CAMERA"
MISSION_NAME = "MARS EXPRESS"
MISSION_PHASE_NAME = ME_Phase_33
PROCESSING_LEVEL_ID = 3
PRODUCT_CREATION_TIME = 2016-10-30T02:40:36.000Z
PRODUCT_ID = "HE618_0000_ND3.JP2"
RELEASE_ID = 0129
REVISION_ID = 0000
/* QUALITY DATA ELEMENTS */
DATA_QUALITY_ID = 1
DATA_QUALITY_DESC = "Data calculated based on original SPICE kernels"
/* TIME DATA ELEMENTS */
SPACECRAFT_CLOCK_START_COUNT = "1/0384702434.09034"
SPACECRAFT_CLOCK_STOP_COUNT = "1/0384702628.50184"
START_TIME = 2015-07-11T13:47:50.234Z
STOP_TIME = 2015-07-11T13:49:59.216Z
/* ORBITAL DATA ELEMENTS */
ASCENDING_NODE_LONGITUDE = 299.18
MAXIMUM_RESOLUTION = 13.1
FOOTPRINT_POINT_LATITUDE = (-19.3874,-19.3871,-19.3865,-19.3858, -19.3848,-19.3835,-19.2194,-18.893, -18.5666,-18.2402,-17.9052,-17.7366, -17.5681,-17.3996,-17.2311,-17.0627, -16.8943,-16.7259,-16.5575,-16.3892, -16.2209,-16.0526,-15.8843,-15.7161, -15.548,-15.3798,-15.2117,-15.0437, -14.8757,-14.7077,-14.5398,-14.3719, -14.204,-14.0362,-13.8685,-13.7007, -13.5331,-13.3654,-13.1979,-13.0303, -12.8629,-12.6955,-12.5281,-12.3608, -12.1936,-12.0264,-11.6922,-11.3582, -11.0245,-11.0051,-11.0048,-11.0043, -11.0038,-11.0032,-11.002,-11.1688, -11.5029,-11.8373,-12.0046,-12.172, -12.3394,-12.5069,-12.6744,-12.842, -13.0096,-13.1773,-13.345,-13.5128, -13.6806,-13.8485,-14.0164,-14.1844, -14.3525,-14.5205,-14.6886,-14.8568, -15.025,-15.1932,-15.3615,-15.5298, -15.6982,-15.8665,-16.035,-16.2034, -16.3719,-16.5404,-16.7089,-16.8775, -17.0461,-17.2147,-17.3834,-17.5521, -17.7208,-17.8895,-18.0583,-18.2255, -18.5522,-18.879,-19.2058,-19.3874)
FOOTPRINT_POINT_LONGITUDE = (257.119,256.925,256.729,256.531, 256.331,256.129,255.958,255.96,255.962, 255.964,255.965,255.965,255.966,255.966 ,255.967,255.967,255.967,255.968, 255.968,255.968,255.968,255.968,255.968 ,255.968,255.968,255.968,255.968, 255.968,255.968,255.967,255.967,255.967 ,255.967,255.967,255.966,255.965, 255.964,255.963,255.962,255.961,255.96, 255.959,255.959,255.958,255.957,255.956 ,255.953,255.951,255.948,256.139, 256.316,256.492,256.666,256.838,257.106 ,257.209,257.208,257.208,257.207, 257.207,257.207,257.206,257.206,257.206 ,257.206,257.205,257.205,257.205, 257.204,257.204,257.204,257.204,257.203 ,257.203,257.203,257.203,257.202, 257.202,257.202,257.201,257.201,257.201 ,257.201,257.2,257.2,257.2,257.199, 257.199,257.199,257.198,257.198,257.198 ,257.198,257.197,257.197,257.197, 257.196,257.195,257.195,257.119)
ORBIT_NUMBER = 14618
ORBITAL_ECCENTRICITY = 0.579
ORBITAL_INCLINATION = 86.9
ORBITAL_SEMIMAJOR_AXIS = 8853.54
PERIAPSIS_ALTITUDE = 334.44
PERIAPSIS_ARGUMENT_ANGLE = 338.19
PERIAPSIS_TIME = 2015-07-11T13:47:14.000Z
SPACECRAFT_ORIENTATION = (0.0,1.0,0.0)
^MEX_ORIENTATION_DESC = "MEX_ORIENTATION_DESC.TXT"
SPACECRAFT_POINTING_MODE = ACROSSTRACK
^MEX_POINTING_DESC = "MEX_POINTING_DESC.TXT"
RIGHT_ASCENSION = -1e+32
DECLINATION = -1e+32
OFFSET_ANGLE = 0.75
SPACECRAFT_SOLAR_DISTANCE = 2.37112e+08
TARGET_NAME = MARS
/* CAMERA DATA ELEMENTS */
DETECTOR_TEMPERATURE = 17.7588
FOCAL_PLANE_TEMPERATURE = 7.5638
INST_CMPRS_NAME = "DISCRETE COSINE TRANSFORMATION (DCT)"
INST_CMPRS_RATIO = 8.12948
INST_CMPRS_QUALITY = 0
INST_CMPRS_QUANTZ_TBL_ID = 0
INSTRUMENT_TEMPERATURE = 10.6223
LENS_TEMPERATURE = 7.9716
MACROPIXEL_SIZE = 1
MISSING_FRAMES = 0
PIXEL_SUBSAMPLING_FLAG = N
SIGNAL_CHAIN_ID = 0
/* RADIOMETRIC DATA ELEMENTS */
BANDWIDTH = 177.0
CENTER_FILTER_WAVELENGTH = 677.5
RADIANCE_OFFSET = 1.6923
RADIANCE_SCALING_FACTOR = 0.0216159
REFLECTANCE_SCALING_FACTOR = 0.000645602
MEX:REFLECTANCE_OFFSET = 0.0505438
/* IMAGE OBJECT DEFINITIONS */
OBJECT = IMAGE
  INTERCHANGE_FORMAT = BINARY
  LINES = 39779
  LINE_SAMPLES = 6442
  SAMPLE_TYPE = UNSIGNED_INTEGER
  SAMPLE_BITS = 8
  BANDS = 1
  BAND_STORAGE_TYPE = BAND_SEQUENTIAL
  MAXIMUM = 255
  MEAN = 96.1863
  MINIMUM = 1
  STANDARD_DEVIATION = 14.1372
END_OBJECT = IMAGE
/* MAP OBJECT DEFINITIONS */
OBJECT = IMAGE_MAP_PROJECTION
  ^DATA_SET_MAP_PROJECTION_CATALOG= "DSMAP.CAT"
  A_AXIS_RADIUS = 3396.0
  B_AXIS_RADIUS = 3396.0
  C_AXIS_RADIUS = 3396.0
  CENTER_LATITUDE = 0.0
  CENTER_LONGITUDE = 257.0
  COORDINATE_SYSTEM_NAME = PLANETOGRAPHIC
  COORDINATE_SYSTEM_TYPE = "BODY-FIXED ROTATING"
  EASTERNMOST_LONGITUDE = 257.209
  FIRST_STANDARD_PARALLEL = "N/A"
  LINE_FIRST_PIXEL = 1
  LINE_LAST_PIXEL = 39779
  LINE_PROJECTION_OFFSET = -52153.0
  MAP_PROJECTION_ROTATION = 0.0
  MAP_PROJECTION_TYPE = SINUSOIDAL
  MAP_RESOLUTION = 4741.71043093333
  MAP_SCALE = 0.0125
  MAXIMUM_LATITUDE = -11.002
  MINIMUM_LATITUDE = -19.3874
  POSITIVE_LONGITUDE_DIRECTION = EAST
  REFERENCE_LATITUDE = "N/A"
  REFERENCE_LONGITUDE = "N/A"
  SAMPLE_FIRST_PIXEL = 1
  SAMPLE_LAST_PIXEL = 6442
  SAMPLE_PROJECTION_OFFSET = 5483.0
  SECOND_STANDARD_PARALLEL = "N/A"
  WESTERNMOST_LONGITUDE = 255.948
END_OBJECT = IMAGE_MAP_PROJECTION
/* The JPEG2000 image data file associated with this label. */
OBJECT = COMPRESSED_FILE
  FILE_NAME = "HE618_0000_ND3.JP2"
  RECORD_TYPE = UNDEFINED
  FILE_RECORDS = UNK
  ENCODING_TYPE = "JP2"
  INTERCHANGE_FORMAT = BINARY
  UNCOMPRESSED_FILE_NAME = "HE618_0000_ND3.IMG"
  REQUIRED_STORAGE_BYTES = "256288528"
  ^DESCRIPTION = "JP2INFO.TXT"
END_OBJECT = COMPRESSED_FILE
END
